Back to Multiple platform build/check report for BioC 3.15
ABCDEFGHIJKLMNO[P]QRSTUVWXYZ

This page was generated on 2021-11-25 14:05:41 -0500 (Thu, 25 Nov 2021).

BUILD results for PROPS on merida1

To the developers/maintainers of the PROPS package:
- Please allow up to 24 hours (and sometimes 48 hours) for your latest push to git@git.bioconductor.org:packages/PROPS.git to
reflect on this report. See How and When does the builder pull? When will my changes propagate? here for more information.
- Make sure to use the following settings in order to reproduce any error or warning you see on this page.

raw results

Package 1460/2068HostnameOS / ArchINSTALLBUILDCHECKBUILD BIN
PROPS 1.17.0  (landing page)
Lichy Han
Snapshot Date: 2021-11-24 14:50:13 -0500 (Wed, 24 Nov 2021)
git_url: https://git.bioconductor.org/packages/PROPS
git_branch: master
git_last_commit: b6ef47a
git_last_commit_date: 2021-10-26 12:39:40 -0500 (Tue, 26 Oct 2021)
nebbiolo1Linux (Ubuntu 20.04.3 LTS) / x86_64  OK    OK    OK  UNNEEDED, same version is already published
riesling1Windows Server 2019 Standard / x64  OK    OK    OK    OK  
merida1macOS 10.14.6 Mojave / x86_64  OK    OK    OK    OK  UNNEEDED, same version is already published

Summary

Package: PROPS
Version: 1.17.0
Command: /Library/Frameworks/R.framework/Resources/bin/R CMD build --keep-empty-dirs --no-resave-data PROPS
StartedAt: 2021-11-24 22:18:11 -0500 (Wed, 24 Nov 2021)
EndedAt: 2021-11-24 22:22:39 -0500 (Wed, 24 Nov 2021)
EllapsedTime: 268.2 seconds
RetCode: 0
Status:   OK  
PackageFile: PROPS_1.17.0.tar.gz
PackageFileSize: 3.585 MiB

Command output

##############################################################################
##############################################################################
###
### Running command:
###
###   /Library/Frameworks/R.framework/Resources/bin/R CMD build --keep-empty-dirs --no-resave-data PROPS
###
##############################################################################
##############################################################################


* checking for file ‘PROPS/DESCRIPTION’ ... OK
* preparing ‘PROPS’:
* checking DESCRIPTION meta-information ... OK
* installing the package to process help pages
* saving partial Rd database
* creating vignettes ... OK
* checking for LF line-endings in source and make files and shell scripts
* checking for empty or unneeded directories
* looking to see if a ‘data/datalist’ file should be added
* building ‘PROPS_1.17.0.tar.gz’