Back to Multiple platform build/check report for BioC 3.19:   simplified   long
ABCDEFGHIJKLMNO[P]QRSTUVWXYZ

This page was generated on 2024-03-04 11:38:21 -0500 (Mon, 04 Mar 2024).

HostnameOSArch (*)R versionInstalled pkgs
nebbiolo1Linux (Ubuntu 22.04.3 LTS)x86_64R Under development (unstable) (2024-01-16 r85808) -- "Unsuffered Consequences" 4676
palomino3Windows Server 2022 Datacenterx64R Under development (unstable) (2024-01-14 r85805 ucrt) -- "Unsuffered Consequences" 4414
merida1macOS 12.7.1 Montereyx86_64R Under development (unstable) (2024-01-16 r85808) -- "Unsuffered Consequences" 4441
kunpeng2Linux (openEuler 22.03 LTS-SP1)aarch64R Under development (unstable) (2024-01-16 r85812) -- "Unsuffered Consequences" 4417
Click on any hostname to see more info about the system (e.g. compilers)      (*) as reported by 'uname -p', except on Windows and Mac OS X

Package 1585/2251HostnameOS / ArchINSTALLBUILDCHECKBUILD BIN
PROMISE 1.55.0  (landing page)
Stan Pounds , Xueyuan Cao
Snapshot Date: 2024-03-01 14:00:22 -0500 (Fri, 01 Mar 2024)
git_url: https://git.bioconductor.org/packages/PROMISE
git_branch: devel
git_last_commit: 77b8188
git_last_commit_date: 2023-10-24 09:43:57 -0500 (Tue, 24 Oct 2023)
nebbiolo1Linux (Ubuntu 22.04.3 LTS) / x86_64  OK    OK    OK  UNNEEDED, same version is already published
palomino3Windows Server 2022 Datacenter / x64  OK    OK    OK    OK  UNNEEDED, same version is already published
merida1macOS 12.7.1 Monterey / x86_64  OK    OK    OK    OK  UNNEEDED, same version is already published
kunpeng2Linux (openEuler 22.03 LTS-SP1) / aarch64  OK    OK    OK  

BUILD BIN results for PROMISE on palomino3


To the developers/maintainers of the PROMISE package:
- Allow up to 24 hours (and sometimes 48 hours) for your latest push to git@git.bioconductor.org:packages/PROMISE.git to reflect on this report. See Troubleshooting Build Report for more information.
- Use the following Renviron settings to reproduce errors and warnings.
- If 'R CMD check' started to fail recently on the Linux builder(s) over a missing dependency, add the missing dependency to 'Suggests:' in your DESCRIPTION file. See Renviron.bioc for more information.

raw results


Summary

Package: PROMISE
Version: 1.55.0
Command: rm -rf PROMISE.buildbin-libdir && mkdir PROMISE.buildbin-libdir && F:\biocbuild\bbs-3.19-bioc\R\bin\R.exe CMD INSTALL --build --library=PROMISE.buildbin-libdir PROMISE_1.55.0.tar.gz
StartedAt: 2024-03-02 10:31:59 -0500 (Sat, 02 Mar 2024)
EndedAt: 2024-03-02 10:32:20 -0500 (Sat, 02 Mar 2024)
EllapsedTime: 21.0 seconds
RetCode: 0
Status:   OK  
PackageFile: PROMISE_1.55.0.zip
PackageFileSize: 181.8 KiB

Command output

##############################################################################
##############################################################################
###
### Running command:
###
###   rm -rf PROMISE.buildbin-libdir && mkdir PROMISE.buildbin-libdir && F:\biocbuild\bbs-3.19-bioc\R\bin\R.exe CMD INSTALL --build --library=PROMISE.buildbin-libdir PROMISE_1.55.0.tar.gz
###
##############################################################################
##############################################################################


* installing *source* package 'PROMISE' ...
** using staged installation
** R
** data
** inst
** byte-compile and prepare package for lazy loading
** help
*** installing help indices
** building package indices
** installing vignettes
** testing if installed package can be loaded from temporary location
** testing if installed package can be loaded from final location
** testing if installed package keeps a record of temporary installation path
* MD5 sums
packaged installation of 'PROMISE' as PROMISE_1.55.0.zip
* DONE (PROMISE)