Back to Multiple platform build/check report for BioC 3.20: simplified long | |
This page was generated on 2024-05-03 11:38:41 -0400 (Fri, 03 May 2024).
Hostname | OS | Arch (*) | R version | Installed pkgs |
nebbiolo2 | Linux (Ubuntu 22.04.3 LTS) | x86_64 | 4.4.0 RC (2024-04-16 r86468) -- "Puppy Cup"
| 4660 |
palomino4 | Windows Server 2022 Datacenter | x64 | 4.4.0 RC (2024-04-16 r86468 ucrt) -- "Puppy Cup"
| 4391 |
merida1 | macOS 12.7.4 Monterey | x86_64 | 4.4.0 Patched (2024-04-24 r86482) -- "Puppy Cup"
| 4422 |
Click on any hostname to see more info about the system (e.g. compilers) (*) as reported by 'uname -p', except on Windows and Mac OS X |
| PLSDAbatch 1.1.0 (landing page) Yiwen (Eva) Wang
Snapshot Date: 2024-05-01 14:05:06 -0400 (Wed, 01 May 2024) |
git_url: https://git.bioconductor.org/packages/PLSDAbatch |
git_branch: devel |
git_last_commit: cea9d4e |
git_last_commit_date: 2024-04-30 11:53:17 -0400 (Tue, 30 Apr 2024) |
| nebbiolo2 | Linux (Ubuntu 22.04.3 LTS) / x86_64 | OK | OK | OK | | | |
| palomino4 | Windows Server 2022 Datacenter / x64 | OK | OK | OK | OK | | |
| merida1 | macOS 12.7.4 Monterey / x86_64 | OK | OK | OK | OK | | |
| kjohnson1 | macOS 13.6.6 Ventura / arm64 | see weekly results here | |
INSTALL results for PLSDAbatch on merida1
To the developers/maintainers of the PLSDAbatch package:
- Allow up to 24 hours (and sometimes 48 hours) for your latest push to git@git.bioconductor.org:packages/PLSDAbatch.git to reflect on this report. See Troubleshooting Build Report for more information.
- Use the following Renviron settings to reproduce errors and warnings.
- If 'R CMD check' started to fail recently on the Linux builder(s) over a missing dependency, add the missing dependency to 'Suggests:' in your DESCRIPTION file. See Renviron.bioc for more information.
|
raw results
Summary
Command output