Back to Multiple platform build/check report for BioC 3.15
ABCDEFGHIJKLM[N]OPQRSTUVWXYZ

This page was generated on 2022-01-22 11:06:16 -0500 (Sat, 22 Jan 2022).

HostnameOSArch (*)R versionInstalled pkgs
nebbiolo1Linux (Ubuntu 20.04.4 LTS)x86_64R Under development (unstable) (2022-01-05 r81451) -- "Unsuffered Consequences" 4163
riesling1Windows Server 2019 Standardx64R Under development (unstable) (2021-11-21 r81221) -- "Unsuffered Consequences" 4058
palomino3Windows Server 2022 Datacenterx64R Under development (unstable) (2021-12-21 r81400 ucrt) -- "Unsuffered Consequences" 4000
merida1macOS 10.14.6 Mojavex86_64R Under development (unstable) (2022-01-05 r81451) -- "Unsuffered Consequences" 4117
Click on any hostname to see more info about the system (e.g. compilers)      (*) as reported by 'uname -p', except on Windows and Mac OS X

CHECK results for NoRCE on nebbiolo1


To the developers/maintainers of the NoRCE package:
- Please allow up to 24 hours (and sometimes 48 hours) for your latest push to git@git.bioconductor.org:packages/NoRCE.git to
reflect on this report. See How and When does the builder pull? When will my changes propagate? here for more information.
- Make sure to use the following settings in order to reproduce any error or warning you see on this page.

raw results

Package 1294/2075HostnameOS / ArchINSTALLBUILDCHECKBUILD BIN
NoRCE 1.7.1  (landing page)
Gulden Olgun
Snapshot Date: 2022-01-21 13:55:18 -0500 (Fri, 21 Jan 2022)
git_url: https://git.bioconductor.org/packages/NoRCE
git_branch: master
git_last_commit: 59b0d7d
git_last_commit_date: 2021-11-21 00:38:54 -0500 (Sun, 21 Nov 2021)
nebbiolo1Linux (Ubuntu 20.04.4 LTS) / x86_64  OK    OK    OK  UNNEEDED, same version is already published
riesling1Windows Server 2019 Standard / x64  OK    OK    NA    NA  
palomino3Windows Server 2022 Datacenter / x64  OK    OK    OK    OK  NO, package depends on 'KEGGREST' which is not available
merida1macOS 10.14.6 Mojave / x86_64  OK    OK    OK    OK  UNNEEDED, same version is already published

Summary

Package: NoRCE
Version: 1.7.1
Command: /home/biocbuild/bbs-3.15-bioc/R/bin/R CMD check --install=check:NoRCE.install-out.txt --library=/home/biocbuild/bbs-3.15-bioc/R/library --no-vignettes --timings NoRCE_1.7.1.tar.gz
StartedAt: 2022-01-21 20:13:44 -0500 (Fri, 21 Jan 2022)
EndedAt: 2022-01-21 20:20:30 -0500 (Fri, 21 Jan 2022)
EllapsedTime: 406.1 seconds
RetCode: 0
Status:   OK  
CheckDir: NoRCE.Rcheck
Warnings: 0

Command output

##############################################################################
##############################################################################
###
### Running command:
###
###   /home/biocbuild/bbs-3.15-bioc/R/bin/R CMD check --install=check:NoRCE.install-out.txt --library=/home/biocbuild/bbs-3.15-bioc/R/library --no-vignettes --timings NoRCE_1.7.1.tar.gz
###
##############################################################################
##############################################################################


* using log directory ‘/home/biocbuild/bbs-3.15-bioc/meat/NoRCE.Rcheck’
* using R Under development (unstable) (2022-01-05 r81451)
* using platform: x86_64-pc-linux-gnu (64-bit)
* using session charset: UTF-8
* using option ‘--no-vignettes’
* checking for file ‘NoRCE/DESCRIPTION’ ... OK
* checking extension type ... Package
* this is package ‘NoRCE’ version ‘1.7.1’
* package encoding: UTF-8
* checking package namespace information ... OK
* checking package dependencies ... OK
* checking if this is a source package ... OK
* checking if there is a namespace ... OK
* checking for hidden files and directories ... OK
* checking for portable file names ... OK
* checking for sufficient/correct file permissions ... OK
* checking whether package ‘NoRCE’ can be installed ... OK
* checking installed package size ... OK
* checking package directory ... OK
* checking ‘build’ directory ... OK
* checking DESCRIPTION meta-information ... OK
* checking top-level files ... OK
* checking for left-over files ... OK
* checking index information ... OK
* checking package subdirectories ... OK
* checking R files for non-ASCII characters ... OK
* checking R files for syntax errors ... OK
* checking whether the package can be loaded ... OK
* checking whether the package can be loaded with stated dependencies ... OK
* checking whether the package can be unloaded cleanly ... OK
* checking whether the namespace can be loaded with stated dependencies ... OK
* checking whether the namespace can be unloaded cleanly ... OK
* checking dependencies in R code ... OK
* checking S3 generic/method consistency ... OK
* checking replacement functions ... OK
* checking foreign function calls ... OK
* checking R code for possible problems ... OK
* checking Rd files ... OK
* checking Rd metadata ... OK
* checking Rd cross-references ... OK
* checking for missing documentation entries ... OK
* checking for code/documentation mismatches ... OK
* checking Rd \usage sections ... OK
* checking Rd contents ... OK
* checking for unstated dependencies in examples ... OK
* checking contents of ‘data’ directory ... OK
* checking data for non-ASCII characters ... OK
* checking LazyData ... OK
* checking data for ASCII and uncompressed saves ... OK
* checking files in ‘vignettes’ ... OK
* checking examples ... OK
Examples with CPU (user + system) or elapsed time > 5s
                        user system elapsed
KeggEnrichment        16.447  0.862  64.872
genePathwayEnricher   13.125  0.263  18.427
assembly              11.775  0.455  52.790
calculateCorr          5.579  0.080   5.659
mirnaRegionGOEnricher  5.142  0.216   5.359
* checking for unstated dependencies in ‘tests’ ... OK
* checking tests ...
  Running ‘testthat.R’
 OK
* checking for unstated dependencies in vignettes ... OK
* checking package vignettes in ‘inst/doc’ ... OK
* checking running R code from vignettes ... SKIPPED
* checking re-building of vignette outputs ... SKIPPED
* checking PDF version of manual ... OK
* DONE

Status: OK


Installation output

NoRCE.Rcheck/00install.out

##############################################################################
##############################################################################
###
### Running command:
###
###   /home/biocbuild/bbs-3.15-bioc/R/bin/R CMD INSTALL NoRCE
###
##############################################################################
##############################################################################


* installing to library ‘/home/biocbuild/bbs-3.15-bioc/R/library’
* installing *source* package ‘NoRCE’ ...
** using staged installation
** R
** data
*** moving datasets to lazyload DB
** inst
** byte-compile and prepare package for lazy loading
** help
*** installing help indices
** building package indices
** installing vignettes
** testing if installed package can be loaded from temporary location
** testing if installed package can be loaded from final location
** testing if installed package keeps a record of temporary installation path
* DONE (NoRCE)

Tests output

NoRCE.Rcheck/tests/testthat.Rout


R Under development (unstable) (2022-01-05 r81451) -- "Unsuffered Consequences"
Copyright (C) 2022 The R Foundation for Statistical Computing
Platform: x86_64-pc-linux-gnu (64-bit)

R is free software and comes with ABSOLUTELY NO WARRANTY.
You are welcome to redistribute it under certain conditions.
Type 'license()' or 'licence()' for distribution details.

R is a collaborative project with many contributors.
Type 'contributors()' for more information and
'citation()' on how to cite R or R packages in publications.

Type 'demo()' for some demos, 'help()' for on-line help, or
'help.start()' for an HTML browser interface to help.
Type 'q()' to quit R.

> library(testthat)
> library(NoRCE)

> 
> test_check("NoRCE")
[ FAIL 0 | WARN 0 | SKIP 0 | PASS 1 ]
> 
> proc.time()
   user  system elapsed 
 10.850   0.528  11.362 

Example timings

NoRCE.Rcheck/NoRCE-Ex.timings

nameusersystemelapsed
KeggEnrichment16.447 0.86264.872
assembly11.775 0.45552.790
brain_disorder_ncRNA0.0030.0000.002
brain_mirna0.0010.0000.001
breastmRNA0.0010.0000.001
calculateCorr5.5790.0805.659
convertGeneID0.3100.0120.322
extractBiotype0.1630.0000.163
filterBiotype0.0680.0040.071
geneGOEnricher4.1450.1684.314
genePathwayEnricher13.125 0.26318.427
geneRegionGOEnricher3.0840.0923.176
geneRegionPathwayEnricher0.5970.0040.980
getGoDag1.7180.0322.130
getKeggDiagram2.4190.0963.341
getNearToExon1.2020.1041.305
getNearToIntron1.1420.0081.150
getReactomeDiagram4.5930.1924.785
getTADOverlap0.0850.0000.086
getUCSC0.1160.0000.117
goEnrichment2.2200.0642.285
listTAD0.0050.0000.005
mirna0.0010.0000.001
mirnaGOEnricher4.6290.1044.734
mirnaPathwayEnricher1.8210.1122.581
mirnaRegionGOEnricher5.1420.2165.359
mirnaRegionPathwayEnricher0.4250.0120.817
mrna0.0010.0000.001
ncRegion0.0010.0000.001
predictmiTargets1.1450.0361.495
reactomeEnrichment3.4560.0323.488
setParameters0.0010.0000.000
tad_dmel0.0020.0000.002
tad_hg190.0010.0000.001
tad_hg380.0010.0000.001
tad_mm100.0010.0000.000
writeEnrichment4.3380.0844.422