Index of /checkResults/devel/bioc-LATEST/Mfuzz/raw-results
Name
Last modified
Size
Description
Parent Directory
-
info.dcf
25-May-2022 00:07
276
lconway/
25-May-2022 00:07
-
nebbiolo2/
25-May-2022 00:05
-
palomino4/
25-May-2022 00:06
-