Back to Multiple platform build/check report for BioC 3.17:   simplified   long
ABCDEFGHIJKL[M]NOPQRSTUVWXYZ

This page was generated on 2023-03-24 11:06:59 -0400 (Fri, 24 Mar 2023).

HostnameOSArch (*)R versionInstalled pkgs
nebbiolo1Linux (Ubuntu 22.04.1 LTS)x86_64R Under development (unstable) (2023-03-16 r83996) -- "Unsuffered Consequences" 4546
palomino3Windows Server 2022 Datacenterx64R Under development (unstable) (2023-03-15 r83984 ucrt) -- "Unsuffered Consequences" 4307
merida1macOS 10.14.6 Mojavex86_64R Under development (unstable) (2023-03-16 r83985) -- "Unsuffered Consequences" 4299
Click on any hostname to see more info about the system (e.g. compilers)      (*) as reported by 'uname -p', except on Windows and Mac OS X

BUILD results for MSstatsPTM on merida1


To the developers/maintainers of the MSstatsPTM package:
- Please allow up to 24 hours (and sometimes 48 hours) for your latest push to git@git.bioconductor.org:packages/MSstatsPTM.git to
reflect on this report. See How and When does the builder pull? When will my changes propagate? for more information.
- Make sure to use the following settings in order to reproduce any error or warning you see on this page.

raw results

Package 1301/2195HostnameOS / ArchINSTALLBUILDCHECKBUILD BIN
MSstatsPTM 2.1.3  (landing page)
Devon Kohler
Snapshot Date: 2023-03-23 14:00:15 -0400 (Thu, 23 Mar 2023)
git_url: https://git.bioconductor.org/packages/MSstatsPTM
git_branch: devel
git_last_commit: dfdb0b1
git_last_commit_date: 2023-02-27 10:28:24 -0400 (Mon, 27 Feb 2023)
nebbiolo1Linux (Ubuntu 22.04.1 LTS) / x86_64  OK    OK    OK  UNNEEDED, same version is already published
palomino3Windows Server 2022 Datacenter / x64  OK    OK    OK    OK  UNNEEDED, same version is already published
merida1macOS 10.14.6 Mojave / x86_64  OK    OK    OK    OK  UNNEEDED, same version is already published

Summary

Package: MSstatsPTM
Version: 2.1.3
Command: /Library/Frameworks/R.framework/Resources/bin/R CMD build --keep-empty-dirs --no-resave-data MSstatsPTM
StartedAt: 2023-03-23 19:24:43 -0400 (Thu, 23 Mar 2023)
EndedAt: 2023-03-23 19:28:34 -0400 (Thu, 23 Mar 2023)
EllapsedTime: 231.6 seconds
RetCode: 0
Status:   OK  
PackageFile: MSstatsPTM_2.1.3.tar.gz
PackageFileSize: 1.732 MiB

Command output

##############################################################################
##############################################################################
###
### Running command:
###
###   /Library/Frameworks/R.framework/Resources/bin/R CMD build --keep-empty-dirs --no-resave-data MSstatsPTM
###
##############################################################################
##############################################################################


* checking for file ‘MSstatsPTM/DESCRIPTION’ ... OK
* preparing ‘MSstatsPTM’:
* checking DESCRIPTION meta-information ... OK
* cleaning src
* installing the package to build vignettes
* creating vignettes ... OK
* cleaning src
* checking for LF line-endings in source and make files and shell scripts
* checking for empty or unneeded directories
* building ‘MSstatsPTM_2.1.3.tar.gz’