Back to Multiple platform build/check report for BioC 3.17
ABCDEFGHIJKL[M]NOPQRSTUVWXYZ

This page was generated on 2022-12-07 11:09:36 -0500 (Wed, 07 Dec 2022).

HostnameOSArch (*)R versionInstalled pkgs
nebbiolo1Linux (Ubuntu 22.04.1 LTS)x86_64R Under development (unstable) (2022-11-30 r83393) -- "Unsuffered Consequences" 4423
palomino3Windows Server 2022 Datacenterx64R Under development (unstable) (2022-11-30 r83393 ucrt) -- "Unsuffered Consequences" 4193
merida1macOS 10.14.6 Mojavex86_64R Under development (unstable) (2022-11-30 r83393) -- "Unsuffered Consequences" 4236
Click on any hostname to see more info about the system (e.g. compilers)      (*) as reported by 'uname -p', except on Windows and Mac OS X

BUILD results for MEB on merida1


To the developers/maintainers of the MEB package:
- Please allow up to 24 hours (and sometimes 48 hours) for your latest push to git@git.bioconductor.org:packages/MEB.git to
reflect on this report. See How and When does the builder pull? When will my changes propagate? for more information.
- Make sure to use the following settings in order to reproduce any error or warning you see on this page.

raw results

Package 1108/2155HostnameOS / ArchINSTALLBUILDCHECKBUILD BIN
MEB 1.13.0  (landing page)
Jiadi Zhu
Snapshot Date: 2022-12-06 14:00:17 -0500 (Tue, 06 Dec 2022)
git_url: https://git.bioconductor.org/packages/MEB
git_branch: master
git_last_commit: 2954aab
git_last_commit_date: 2022-11-01 11:20:35 -0500 (Tue, 01 Nov 2022)
nebbiolo1Linux (Ubuntu 22.04.1 LTS) / x86_64  OK    OK    OK  UNNEEDED, same version is already published
palomino3Windows Server 2022 Datacenter / x64  OK    OK    OK    OK  NO, package depends on 'SummarizedExperiment' which is not available
merida1macOS 10.14.6 Mojave / x86_64  OK    OK    OK    OK  UNNEEDED, same version is already published

Summary

Package: MEB
Version: 1.13.0
Command: /Library/Frameworks/R.framework/Resources/bin/R CMD build --keep-empty-dirs --no-resave-data MEB
StartedAt: 2022-12-06 19:06:22 -0500 (Tue, 06 Dec 2022)
EndedAt: 2022-12-06 19:07:29 -0500 (Tue, 06 Dec 2022)
EllapsedTime: 66.5 seconds
RetCode: 0
Status:   OK  
PackageFile: MEB_1.13.0.tar.gz
PackageFileSize: 735 KiB

Command output

##############################################################################
##############################################################################
###
### Running command:
###
###   /Library/Frameworks/R.framework/Resources/bin/R CMD build --keep-empty-dirs --no-resave-data MEB
###
##############################################################################
##############################################################################


* checking for file ‘MEB/DESCRIPTION’ ... OK
* preparing ‘MEB’:
* checking DESCRIPTION meta-information ... OK
* installing the package to build vignettes
* creating vignettes ... OK
* checking for LF line-endings in source and make files and shell scripts
* checking for empty or unneeded directories
* building ‘MEB_1.13.0.tar.gz’