Back to Multiple platform build/check report for BioC 3.15
ABCDEFGHIJK[L]MNOPQRSTUVWXYZ

This page was generated on 2022-01-21 11:11:38 -0500 (Fri, 21 Jan 2022).

HostnameOSArch (*)R versionInstalled pkgs
nebbiolo1Linux (Ubuntu 20.04.4 LTS)x86_64R Under development (unstable) (2022-01-05 r81451) -- "Unsuffered Consequences" 4163
riesling1Windows Server 2019 Standardx64R Under development (unstable) (2021-11-21 r81221) -- "Unsuffered Consequences" 4058
palomino3Windows Server 2022 Datacenterx64R Under development (unstable) (2021-12-21 r81400 ucrt) -- "Unsuffered Consequences" 4000
merida1macOS 10.14.6 Mojavex86_64R Under development (unstable) (2022-01-05 r81451) -- "Unsuffered Consequences" 4117
Click on any hostname to see more info about the system (e.g. compilers)      (*) as reported by 'uname -p', except on Windows and Mac OS X

CHECK results for LiquidAssociation on merida1


To the developers/maintainers of the LiquidAssociation package:
- Please allow up to 24 hours (and sometimes 48 hours) for your latest push to git@git.bioconductor.org:packages/LiquidAssociation.git to
reflect on this report. See How and When does the builder pull? When will my changes propagate? here for more information.
- Make sure to use the following settings in order to reproduce any error or warning you see on this page.

raw results

Package 1001/2075HostnameOS / ArchINSTALLBUILDCHECKBUILD BIN
LiquidAssociation 1.49.0  (landing page)
Yen-Yi Ho
Snapshot Date: 2022-01-20 13:55:17 -0500 (Thu, 20 Jan 2022)
git_url: https://git.bioconductor.org/packages/LiquidAssociation
git_branch: master
git_last_commit: c4e24d9
git_last_commit_date: 2021-10-26 11:55:00 -0500 (Tue, 26 Oct 2021)
nebbiolo1Linux (Ubuntu 20.04.4 LTS) / x86_64  OK    OK    OK  UNNEEDED, same version is already published
riesling1Windows Server 2019 Standard / x64  OK    OK    OK    OK  
palomino3Windows Server 2022 Datacenter / x64  OK    OK    OK    OK  NO, package depends on 'Biobase' which is not available
merida1macOS 10.14.6 Mojave / x86_64  OK    OK    OK    OK  UNNEEDED, same version is already published

Summary

Package: LiquidAssociation
Version: 1.49.0
Command: /Library/Frameworks/R.framework/Resources/bin/R CMD check --install=check:LiquidAssociation.install-out.txt --library=/Library/Frameworks/R.framework/Resources/library --no-vignettes --timings LiquidAssociation_1.49.0.tar.gz
StartedAt: 2022-01-21 02:18:00 -0500 (Fri, 21 Jan 2022)
EndedAt: 2022-01-21 02:21:03 -0500 (Fri, 21 Jan 2022)
EllapsedTime: 182.8 seconds
RetCode: 0
Status:   OK  
CheckDir: LiquidAssociation.Rcheck
Warnings: 0

Command output

##############################################################################
##############################################################################
###
### Running command:
###
###   /Library/Frameworks/R.framework/Resources/bin/R CMD check --install=check:LiquidAssociation.install-out.txt --library=/Library/Frameworks/R.framework/Resources/library --no-vignettes --timings LiquidAssociation_1.49.0.tar.gz
###
##############################################################################
##############################################################################


* using log directory ‘/Users/biocbuild/bbs-3.15-bioc/meat/LiquidAssociation.Rcheck’
* using R Under development (unstable) (2022-01-05 r81451)
* using platform: x86_64-apple-darwin17.0 (64-bit)
* using session charset: UTF-8
* using option ‘--no-vignettes’
* checking for file ‘LiquidAssociation/DESCRIPTION’ ... OK
* checking extension type ... Package
* this is package ‘LiquidAssociation’ version ‘1.49.0’
* checking package namespace information ... OK
* checking package dependencies ... OK
* checking if this is a source package ... OK
* checking if there is a namespace ... OK
* checking for hidden files and directories ... NOTE
Found the following hidden files and directories:
  .git_fetch_output.txt
  .git_merge_output.txt
These were most likely included in error. See section ‘Package
structure’ in the ‘Writing R Extensions’ manual.
* checking for portable file names ... OK
* checking for sufficient/correct file permissions ... OK
* checking whether package ‘LiquidAssociation’ can be installed ... OK
* checking installed package size ... OK
* checking package directory ... OK
* checking ‘build’ directory ... OK
* checking DESCRIPTION meta-information ... NOTE
Package listed in more than one of Depends, Imports, Suggests, Enhances:
  ‘methods’
A package should be listed in only one of these fields.
* checking top-level files ... OK
* checking for left-over files ... OK
* checking index information ... OK
* checking package subdirectories ... OK
* checking R files for non-ASCII characters ... OK
* checking R files for syntax errors ... OK
* checking whether the package can be loaded ... OK
* checking whether the package can be loaded with stated dependencies ... OK
* checking whether the package can be unloaded cleanly ... OK
* checking whether the namespace can be loaded with stated dependencies ... OK
* checking whether the namespace can be unloaded cleanly ... OK
* checking dependencies in R code ... NOTE
Packages in Depends field not imported from:
  ‘geepack’ ‘org.Sc.sgd.db’ ‘yeastCC’
  These packages need to be imported from (in the NAMESPACE file)
  for when this namespace is loaded but not attached.
* checking S3 generic/method consistency ... OK
* checking replacement functions ... OK
* checking foreign function calls ... OK
* checking R code for possible problems ... NOTE
CNM.full,matrix: no visible global function definition for ‘geese’
CNM.full,matrix: no visible binding for global variable ‘groupid’
CNM.full,matrix: no visible binding for global variable ‘visit’
CNM.full,matrix: no visible global function definition for
  ‘geese.control’
CNM.simple,matrix: no visible global function definition for ‘geese’
CNM.simple,matrix: no visible binding for global variable ‘groupid’
CNM.simple,matrix: no visible binding for global variable ‘visit’
CNM.simple,matrix: no visible global function definition for
  ‘geese.control’
Undefined global functions or variables:
  geese geese.control groupid visit
* checking Rd files ... OK
* checking Rd metadata ... OK
* checking Rd cross-references ... OK
* checking for missing documentation entries ... OK
* checking for code/documentation mismatches ... OK
* checking Rd \usage sections ... OK
* checking Rd contents ... OK
* checking for unstated dependencies in examples ... OK
* checking sizes of PDF files under ‘inst/doc’ ... OK
* checking files in ‘vignettes’ ... OK
* checking examples ... OK
Examples with CPU (user + system) or elapsed time > 5s
                 user system elapsed
getsGLA-methods 8.350  0.187   8.565
getsLA-methods  5.243  0.041   5.297
* checking for unstated dependencies in vignettes ... OK
* checking package vignettes in ‘inst/doc’ ... OK
* checking running R code from vignettes ... SKIPPED
* checking re-building of vignette outputs ... SKIPPED
* checking PDF version of manual ... OK
* DONE

Status: 4 NOTEs
See
  ‘/Users/biocbuild/bbs-3.15-bioc/meat/LiquidAssociation.Rcheck/00check.log’
for details.



Installation output

LiquidAssociation.Rcheck/00install.out

##############################################################################
##############################################################################
###
### Running command:
###
###   /Library/Frameworks/R.framework/Resources/bin/R CMD INSTALL LiquidAssociation
###
##############################################################################
##############################################################################


* installing to library ‘/Library/Frameworks/R.framework/Versions/4.2/Resources/library’
* installing *source* package ‘LiquidAssociation’ ...
** using staged installation
** R
** byte-compile and prepare package for lazy loading
** help
*** installing help indices
** building package indices
** installing vignettes
** testing if installed package can be loaded from temporary location
** testing if installed package can be loaded from final location
** testing if installed package keeps a record of temporary installation path
* DONE (LiquidAssociation)

Tests output


Example timings

LiquidAssociation.Rcheck/LiquidAssociation-Ex.timings

nameusersystemelapsed
CNM-class0.0020.0010.001
CNM.full-methods0.0750.0030.082
CNM.simple-methods0.0510.0010.051
GLA-methods0.0070.0000.007
LA-methods0.0030.0010.002
LiquidAssociation-package0.1690.0010.170
getsGLA-methods8.3500.1878.565
getsLA-methods5.2430.0415.297
plotGLA-methods0.0430.0021.151