Back to Multiple platform build/check report for BioC 3.17 |
|
This page was generated on 2022-12-09 11:09:28 -0500 (Fri, 09 Dec 2022).
Hostname | OS | Arch (*) | R version | Installed pkgs |
---|---|---|---|---|
nebbiolo1 | Linux (Ubuntu 22.04.1 LTS) | x86_64 | R Under development (unstable) (2022-11-30 r83393) -- "Unsuffered Consequences" | 4449 |
palomino3 | Windows Server 2022 Datacenter | x64 | R Under development (unstable) (2022-11-30 r83393 ucrt) -- "Unsuffered Consequences" | 4194 |
merida1 | macOS 10.14.6 Mojave | x86_64 | R Under development (unstable) (2022-11-30 r83393) -- "Unsuffered Consequences" | 4237 |
Click on any hostname to see more info about the system (e.g. compilers) (*) as reported by 'uname -p', except on Windows and Mac OS X |
To the developers/maintainers of the GSEABenchmarkeR package: - Please allow up to 24 hours (and sometimes 48 hours) for your latest push to git@git.bioconductor.org:packages/GSEABenchmarkeR.git to reflect on this report. See How and When does the builder pull? When will my changes propagate? for more information. - Make sure to use the following settings in order to reproduce any error or warning you see on this page. |
Package 856/2155 | Hostname | OS / Arch | INSTALL | BUILD | CHECK | BUILD BIN | ||||||||
GSEABenchmarkeR 1.19.0 (landing page) Ludwig Geistlinger
| nebbiolo1 | Linux (Ubuntu 22.04.1 LTS) / x86_64 | OK | OK | OK | ![]() | ||||||||
palomino3 | Windows Server 2022 Datacenter / x64 | OK | OK | OK | OK | ![]() | ||||||||
merida1 | macOS 10.14.6 Mojave / x86_64 | OK | OK | OK | OK | ![]() | ||||||||
Package: GSEABenchmarkeR |
Version: 1.19.0 |
Command: /Library/Frameworks/R.framework/Resources/bin/R CMD check --install=check:GSEABenchmarkeR.install-out.txt --library=/Library/Frameworks/R.framework/Resources/library --no-vignettes --timings GSEABenchmarkeR_1.19.0.tar.gz |
StartedAt: 2022-12-09 02:08:55 -0500 (Fri, 09 Dec 2022) |
EndedAt: 2022-12-09 02:19:05 -0500 (Fri, 09 Dec 2022) |
EllapsedTime: 610.1 seconds |
RetCode: 0 |
Status: OK |
CheckDir: GSEABenchmarkeR.Rcheck |
Warnings: 0 |
############################################################################## ############################################################################## ### ### Running command: ### ### /Library/Frameworks/R.framework/Resources/bin/R CMD check --install=check:GSEABenchmarkeR.install-out.txt --library=/Library/Frameworks/R.framework/Resources/library --no-vignettes --timings GSEABenchmarkeR_1.19.0.tar.gz ### ############################################################################## ############################################################################## * using log directory ‘/Users/biocbuild/bbs-3.17-bioc/meat/GSEABenchmarkeR.Rcheck’ * using R Under development (unstable) (2022-11-30 r83393) * using platform: x86_64-apple-darwin17.0 (64-bit) * using session charset: UTF-8 * using option ‘--no-vignettes’ * checking for file ‘GSEABenchmarkeR/DESCRIPTION’ ... OK * checking extension type ... Package * this is package ‘GSEABenchmarkeR’ version ‘1.19.0’ * package encoding: UTF-8 * checking package namespace information ... OK * checking package dependencies ... OK * checking if this is a source package ... OK * checking if there is a namespace ... OK * checking for hidden files and directories ... OK * checking for portable file names ... OK * checking for sufficient/correct file permissions ... OK * checking whether package ‘GSEABenchmarkeR’ can be installed ... OK * checking installed package size ... OK * checking package directory ... OK * checking ‘build’ directory ... OK * checking DESCRIPTION meta-information ... OK * checking top-level files ... OK * checking for left-over files ... OK * checking index information ... OK * checking package subdirectories ... OK * checking R files for non-ASCII characters ... OK * checking R files for syntax errors ... OK * checking whether the package can be loaded ... OK * checking whether the package can be loaded with stated dependencies ... OK * checking whether the package can be unloaded cleanly ... OK * checking whether the namespace can be loaded with stated dependencies ... OK * checking whether the namespace can be unloaded cleanly ... OK * checking dependencies in R code ... OK * checking S3 generic/method consistency ... OK * checking replacement functions ... OK * checking foreign function calls ... OK * checking R code for possible problems ... NOTE evalRelevance: no visible binding for global variable ‘REL.SCORE’ Undefined global functions or variables: REL.SCORE * checking Rd files ... OK * checking Rd metadata ... OK * checking Rd cross-references ... OK * checking for missing documentation entries ... OK * checking for code/documentation mismatches ... OK * checking Rd \usage sections ... OK * checking Rd contents ... OK * checking for unstated dependencies in examples ... OK * checking files in ‘vignettes’ ... OK * checking examples ... OK Examples with CPU (user + system) or elapsed time > 5s user system elapsed evalTypeIError 43.813 36.075 100.161 runEA 22.508 21.539 34.093 loadEData 36.465 4.856 50.789 evalRandomGS 15.025 4.740 27.226 evalNrSigSets 4.387 0.058 5.713 cacheResource 3.636 0.216 5.074 * checking for unstated dependencies in vignettes ... OK * checking package vignettes in ‘inst/doc’ ... OK * checking running R code from vignettes ... SKIPPED * checking re-building of vignette outputs ... SKIPPED * checking PDF version of manual ... OK * DONE Status: 1 NOTE See ‘/Users/biocbuild/bbs-3.17-bioc/meat/GSEABenchmarkeR.Rcheck/00check.log’ for details.
GSEABenchmarkeR.Rcheck/00install.out
############################################################################## ############################################################################## ### ### Running command: ### ### /Library/Frameworks/R.framework/Resources/bin/R CMD INSTALL GSEABenchmarkeR ### ############################################################################## ############################################################################## * installing to library ‘/Library/Frameworks/R.framework/Versions/4.3/Resources/library’ * installing *source* package ‘GSEABenchmarkeR’ ... ** using staged installation ** R ** inst ** byte-compile and prepare package for lazy loading ** help *** installing help indices ** building package indices ** installing vignettes ** testing if installed package can be loaded from temporary location ** testing if installed package can be loaded from final location ** testing if installed package keeps a record of temporary installation path * DONE (GSEABenchmarkeR)
GSEABenchmarkeR.Rcheck/GSEABenchmarkeR-Ex.timings
name | user | system | elapsed | |
bpPlot | 0.024 | 0.001 | 0.031 | |
cacheResource | 3.636 | 0.216 | 5.074 | |
evalNrSigSets | 4.387 | 0.058 | 5.713 | |
evalRandomGS | 15.025 | 4.740 | 27.226 | |
evalRelevance | 2.639 | 1.383 | 1.333 | |
evalTypeIError | 43.813 | 36.075 | 100.161 | |
loadEData | 36.465 | 4.856 | 50.789 | |
maPreproc | 3.171 | 0.503 | 4.773 | |
readDataId2diseaseCodeMap | 0.006 | 0.014 | 0.020 | |
readResults | 0.357 | 0.054 | 0.488 | |
runDE | 1.797 | 0.875 | 2.549 | |
runEA | 22.508 | 21.539 | 34.093 | |