Index of /checkResults/devel/bioc-LATEST/GRaNIE/raw-results

[ICO]NameLast modifiedSizeDescription

[DIR]Parent Directory  -  
[   ]info.dcf09-Jun-2023 01:56 261  
[DIR]kunpeng2/09-Jun-2023 01:56 -  
[DIR]lconway/09-Jun-2023 01:55 -  
[DIR]nebbiolo2/09-Jun-2023 01:52 -  
[DIR]palomino4/09-Jun-2023 01:53 -