Index of /checkResults/devel/bioc-LATEST/GRaNIE/raw-results/merida1

[ICO]NameLast modifiedSizeDescription

[DIR]Parent Directory  -  
[TXT]buildbin-out.txt02-Mar-2024 01:39 1.2K 
[   ]buildbin-summary.dcf02-Mar-2024 01:39 522  
[TXT]buildsrc-out.txt02-Mar-2024 01:39 904  
[   ]buildsrc-summary.dcf02-Mar-2024 01:39 423  
[TXT]checksrc-out.txt02-Mar-2024 01:39 4.4K 
[   ]checksrc-summary.dcf02-Mar-2024 01:39 439  
[TXT]install-out.txt02-Mar-2024 01:39 1.0K 
[   ]install-summary.dcf02-Mar-2024 01:39 267