Index of /checkResults/devel/bioc-LATEST/GRaNIE/raw-results/kjohnson3

[ICO]NameLast modifiedSizeDescription

[DIR]Parent Directory  -  
[TXT]buildbin-out.txt14-Jul-2024 00:43 1.2K 
[   ]buildbin-summary.dcf14-Jul-2024 00:43 521  
[TXT]buildsrc-out.txt14-Jul-2024 00:43 904  
[   ]buildsrc-summary.dcf14-Jul-2024 00:43 422  
[TXT]checksrc-out.txt14-Jul-2024 00:43 3.4K 
[   ]checksrc-summary.dcf14-Jul-2024 00:43 438  
[TXT]install-out.txt14-Jul-2024 00:43 1.0K 
[   ]install-summary.dcf14-Jul-2024 00:43 266