![]() | Name | Last modified | Size | Description |
---|---|---|---|---|
![]() | Parent Directory | - | ||
![]() | buildsrc-out.txt | 29-Sep-2023 00:40 | 835 | |
![]() | buildsrc-summary.dcf | 29-Sep-2023 00:40 | 407 | |
![]() | checksrc-out.txt | 29-Sep-2023 00:40 | 1.4K | |
![]() | checksrc-summary.dcf | 29-Sep-2023 00:40 | 399 | |
![]() | install-out.txt | 29-Sep-2023 00:40 | 929 | |
![]() | install-summary.dcf | 29-Sep-2023 00:40 | 250 | |