![]() | Name | Last modified | Size | Description |
---|---|---|---|---|
![]() | Parent Directory | - | ||
![]() | buildbin-out.txt | 03-Oct-2023 00:37 | 1.4K | |
![]() | buildbin-summary.dcf | 03-Oct-2023 00:37 | 506 | |
![]() | buildsrc-out.txt | 03-Oct-2023 00:37 | 870 | |
![]() | buildsrc-summary.dcf | 03-Oct-2023 00:37 | 447 | |
![]() | checksrc-out.txt | 03-Oct-2023 00:37 | 3.9K | |
![]() | checksrc-summary.dcf | 03-Oct-2023 00:37 | 447 | |
![]() | install-out.txt | 03-Oct-2023 00:37 | 1.2K | |
![]() | install-summary.dcf | 03-Oct-2023 00:37 | 265 | |