Index of /checkResults/devel/bioc-LATEST/FlowSOM/raw-results

[ICO]NameLast modifiedSizeDescription

[DIR]Parent Directory  -  
[   ]info.dcf02-Jun-2023 00:31 271  
[DIR]lconway/02-Jun-2023 00:31 -  
[DIR]nebbiolo2/02-Jun-2023 00:30 -  
[DIR]palomino4/02-Jun-2023 00:31 -