Back to Build/check report for BioC 3.17: simplified long |
|
This page was generated on 2023-03-30 12:33:44 -0400 (Thu, 30 Mar 2023).
Hostname | OS | Arch (*) | R version | Installed pkgs |
---|---|---|---|---|
nebbiolo1 | Linux (Ubuntu 22.04.1 LTS) | x86_64 | R Under development (unstable) (2023-03-16 r83996) -- "Unsuffered Consequences" | 4547 |
Click on any hostname to see more info about the system (e.g. compilers) (*) as reported by 'uname -p', except on Windows and Mac OS X |
To the developers/maintainers of the ExperimentSubset package: - Allow up to 24 hours (and sometimes 48 hours) for your latest push to git@git.bioconductor.org:packages/ExperimentSubset.git to reflect on this report. See Troubleshooting Build Report for more information. - Use the following Renviron settings to reproduce errors and warnings. Note: If "R CMD check" recently failed on the Linux builder over a missing dependency, add the missing dependency to "Suggests" in your DESCRIPTION file. See the Renviron.bioc for details. |
Package 658/2195 | Hostname | OS / Arch | INSTALL | BUILD | CHECK | BUILD BIN | ||||||||
ExperimentSubset 1.9.0 (landing page) Irzam Sarfraz
| nebbiolo1 | Linux (Ubuntu 22.04.1 LTS) / x86_64 | OK | OK | OK | ![]() | ||||||||
Package: ExperimentSubset |
Version: 1.9.0 |
Command: /home/biocbuild/bbs-3.17-bioc/R/bin/R CMD build --keep-empty-dirs --no-resave-data ExperimentSubset |
StartedAt: 2023-03-29 16:28:25 -0400 (Wed, 29 Mar 2023) |
EndedAt: 2023-03-29 16:29:16 -0400 (Wed, 29 Mar 2023) |
EllapsedTime: 50.7 seconds |
RetCode: 0 |
Status: OK |
PackageFile: ExperimentSubset_1.9.0.tar.gz |
PackageFileSize: 307.5 KiB |
############################################################################## ############################################################################## ### ### Running command: ### ### /home/biocbuild/bbs-3.17-bioc/R/bin/R CMD build --keep-empty-dirs --no-resave-data ExperimentSubset ### ############################################################################## ############################################################################## * checking for file ‘ExperimentSubset/DESCRIPTION’ ... OK * preparing ‘ExperimentSubset’: * checking DESCRIPTION meta-information ... OK * installing the package to build vignettes * creating vignettes ... OK * checking for LF line-endings in source and make files and shell scripts * checking for empty or unneeded directories Omitted ‘LazyData’ from DESCRIPTION * building ‘ExperimentSubset_1.9.0.tar.gz’