Back to Multiple platform build/check report for BioC 3.17: simplified long |
|
This page was generated on 2023-03-22 11:06:38 -0400 (Wed, 22 Mar 2023).
Hostname | OS | Arch (*) | R version | Installed pkgs |
---|---|---|---|---|
nebbiolo1 | Linux (Ubuntu 22.04.1 LTS) | x86_64 | R Under development (unstable) (2023-03-16 r83996) -- "Unsuffered Consequences" | 4508 |
palomino3 | Windows Server 2022 Datacenter | x64 | R Under development (unstable) (2023-03-15 r83984 ucrt) -- "Unsuffered Consequences" | 4293 |
merida1 | macOS 10.14.6 Mojave | x86_64 | R Under development (unstable) (2023-03-16 r83985) -- "Unsuffered Consequences" | 4290 |
Click on any hostname to see more info about the system (e.g. compilers) (*) as reported by 'uname -p', except on Windows and Mac OS X |
To the developers/maintainers of the ExperimentSubset package: - Please allow up to 24 hours (and sometimes 48 hours) for your latest push to git@git.bioconductor.org:packages/ExperimentSubset.git to reflect on this report. See How and When does the builder pull? When will my changes propagate? for more information. - Make sure to use the following settings in order to reproduce any error or warning you see on this page. |
Package 657/2189 | Hostname | OS / Arch | INSTALL | BUILD | CHECK | BUILD BIN | ||||||||
ExperimentSubset 1.9.0 (landing page) Irzam Sarfraz
| nebbiolo1 | Linux (Ubuntu 22.04.1 LTS) / x86_64 | OK | OK | OK | ![]() | ||||||||
palomino3 | Windows Server 2022 Datacenter / x64 | OK | OK | OK | OK | ![]() | ||||||||
merida1 | macOS 10.14.6 Mojave / x86_64 | OK | OK | OK | OK | ![]() | ||||||||
Package: ExperimentSubset |
Version: 1.9.0 |
Command: rm -rf ExperimentSubset.buildbin-libdir && mkdir ExperimentSubset.buildbin-libdir && /Users/biocbuild/BBS/utils/build-universal.sh ExperimentSubset_1.9.0.tar.gz /Library/Frameworks/R.framework/Resources/bin/R ExperimentSubset.buildbin-libdir |
StartedAt: 2023-03-22 09:07:21 -0400 (Wed, 22 Mar 2023) |
EndedAt: 2023-03-22 09:09:22 -0400 (Wed, 22 Mar 2023) |
EllapsedTime: 121.0 seconds |
RetCode: 0 |
Status: OK |
PackageFile: ExperimentSubset_1.9.0.tgz |
PackageFileSize: 711.4 KiB |
############################################################################## ############################################################################## ### ### Running command: ### ### rm -rf ExperimentSubset.buildbin-libdir && mkdir ExperimentSubset.buildbin-libdir && /Users/biocbuild/BBS/utils/build-universal.sh ExperimentSubset_1.9.0.tar.gz /Library/Frameworks/R.framework/Resources/bin/R ExperimentSubset.buildbin-libdir ### ############################################################################## ############################################################################## >>>>>>> >>>>>>> INSTALLATION WITH 'R CMD INSTALL --preclean --no-multiarch --library=ExperimentSubset.buildbin-libdir ExperimentSubset_1.9.0.tar.gz' >>>>>>> * installing *source* package ‘ExperimentSubset’ ... ** using staged installation ** R ** inst ** byte-compile and prepare package for lazy loading Warning in makePrototypeFromClassDef(properties, ClassDef, immediate, where) : in constructing the prototype for class “SubsetSummarizedExperiment”, slots in prototype and not in class: listData, elementType Warning in makePrototypeFromClassDef(properties, ClassDef, immediate, where) : in constructing the prototype for class “SubsetRangedSummarizedExperiment”, slots in prototype and not in class: listData, elementType Warning in makePrototypeFromClassDef(properties, ClassDef, immediate, where) : in constructing the prototype for class “SubsetSingleCellExperiment”, slots in prototype and not in class: listData, elementType Warning in makePrototypeFromClassDef(properties, ClassDef, immediate, where) : in constructing the prototype for class “SubsetTreeSummarizedExperiment”, slots in prototype and not in class: listData, elementType Warning in makePrototypeFromClassDef(properties, ClassDef, immediate, where) : in constructing the prototype for class “SubsetSpatialExperiment”, slots in prototype and not in class: listData, elementType ** help *** installing help indices ** building package indices ** installing vignettes ** testing if installed package can be loaded from temporary location ** testing if installed package can be loaded from final location ** testing if installed package keeps a record of temporary installation path * DONE (ExperimentSubset)