Back to Multiple platform build/check report for BioC 3.16
ABCD[E]FGHIJKLMNOPQRSTUVWXYZ

This page was generated on 2022-06-24 11:06:25 -0400 (Fri, 24 Jun 2022).

HostnameOSArch (*)R versionInstalled pkgs
nebbiolo2Linux (Ubuntu 20.04.4 LTS)x86_644.2.0 Patched (2022-06-02 r82447) -- "Vigorous Calisthenics" 4331
palomino4Windows Server 2022 Datacenterx644.2.0 Patched (2022-06-02 r82447 ucrt) -- "Vigorous Calisthenics" 4136
lconwaymacOS 12.2.1 Montereyx86_644.2.0 Patched (2022-05-29 r82424) -- "Vigorous Calisthenics" 4147
Click on any hostname to see more info about the system (e.g. compilers)      (*) as reported by 'uname -p', except on Windows and Mac OS X

BUILD results for ExiMiR on palomino4


To the developers/maintainers of the ExiMiR package:
- Please allow up to 24 hours (and sometimes 48 hours) for your latest push to git@git.bioconductor.org:packages/ExiMiR.git to
reflect on this report. See How and When does the builder pull? When will my changes propagate? for more information.
- Make sure to use the following settings in order to reproduce any error or warning you see on this page.

raw results

Package 625/2118HostnameOS / ArchINSTALLBUILDCHECKBUILD BIN
ExiMiR 2.39.0  (landing page)
Sylvain Gubian
Snapshot Date: 2022-06-23 14:00:04 -0400 (Thu, 23 Jun 2022)
git_url: https://git.bioconductor.org/packages/ExiMiR
git_branch: master
git_last_commit: ac1b5b3
git_last_commit_date: 2022-04-26 11:06:50 -0400 (Tue, 26 Apr 2022)
nebbiolo2Linux (Ubuntu 20.04.4 LTS) / x86_64  OK    OK    OK  UNNEEDED, same version is already published
palomino4Windows Server 2022 Datacenter / x64  OK    OK    OK    OK  UNNEEDED, same version is already published
lconwaymacOS 12.2.1 Monterey / x86_64  OK    OK    OK    OK  UNNEEDED, same version is already published

Summary

Package: ExiMiR
Version: 2.39.0
Command: chmod a+r ExiMiR -R && F:\biocbuild\bbs-3.16-bioc\R\bin\R.exe CMD build --keep-empty-dirs --no-resave-data ExiMiR
StartedAt: 2022-06-23 18:27:49 -0400 (Thu, 23 Jun 2022)
EndedAt: 2022-06-23 18:29:05 -0400 (Thu, 23 Jun 2022)
EllapsedTime: 75.3 seconds
RetCode: 0
Status:   OK  
PackageFile: ExiMiR_2.39.0.tar.gz
PackageFileSize: 1.22 MiB

Command output

##############################################################################
##############################################################################
###
### Running command:
###
###   chmod a+r ExiMiR -R && F:\biocbuild\bbs-3.16-bioc\R\bin\R.exe CMD build --keep-empty-dirs --no-resave-data ExiMiR
###
##############################################################################
##############################################################################


* checking for file 'ExiMiR/DESCRIPTION' ... OK
* preparing 'ExiMiR':
* checking DESCRIPTION meta-information ... OK
* installing the package to build vignettes
* creating vignettes ... OK
* checking for LF line-endings in source and make files and shell scripts
* checking for empty or unneeded directories
* looking to see if a 'data/datalist' file should be added
* building 'ExiMiR_2.39.0.tar.gz'