Index of /checkResults/devel/bioc-LATEST/ExCluster/raw-results

[ICO]NameLast modifiedSizeDescription

[DIR]Parent Directory  -  
[   ]info.dcf10-Dec-2022 01:09 273  
[DIR]merida1/10-Dec-2022 01:09 -  
[DIR]nebbiolo1/10-Dec-2022 01:05 -