Back to Multiple platform build/check report for BioC 3.19:   simplified   long
ABCD[E]FGHIJKLMNOPQRSTUVWXYZ

This page was generated on 2024-03-04 11:36:38 -0500 (Mon, 04 Mar 2024).

HostnameOSArch (*)R versionInstalled pkgs
nebbiolo1Linux (Ubuntu 22.04.3 LTS)x86_64R Under development (unstable) (2024-01-16 r85808) -- "Unsuffered Consequences" 4676
palomino3Windows Server 2022 Datacenterx64R Under development (unstable) (2024-01-14 r85805 ucrt) -- "Unsuffered Consequences" 4414
merida1macOS 12.7.1 Montereyx86_64R Under development (unstable) (2024-01-16 r85808) -- "Unsuffered Consequences" 4441
kunpeng2Linux (openEuler 22.03 LTS-SP1)aarch64R Under development (unstable) (2024-01-16 r85812) -- "Unsuffered Consequences" 4417
Click on any hostname to see more info about the system (e.g. compilers)      (*) as reported by 'uname -p', except on Windows and Mac OS X

Package 639/2251HostnameOS / ArchINSTALLBUILDCHECKBUILD BIN
EnMCB 1.15.0  (landing page)
Xin Yu
Snapshot Date: 2024-03-01 14:00:22 -0500 (Fri, 01 Mar 2024)
git_url: https://git.bioconductor.org/packages/EnMCB
git_branch: devel
git_last_commit: b3cf92e
git_last_commit_date: 2023-10-24 11:18:41 -0500 (Tue, 24 Oct 2023)
nebbiolo1Linux (Ubuntu 22.04.3 LTS) / x86_64  OK    OK    OK  UNNEEDED, same version is already published
palomino3Windows Server 2022 Datacenter / x64  OK    OK    OK    OK  UNNEEDED, same version is already published
merida1macOS 12.7.1 Monterey / x86_64  OK    OK    OK    OK  UNNEEDED, same version is already published
kunpeng2Linux (openEuler 22.03 LTS-SP1) / aarch64  OK    OK    OK  

CHECK results for EnMCB on nebbiolo1


To the developers/maintainers of the EnMCB package:
- Allow up to 24 hours (and sometimes 48 hours) for your latest push to git@git.bioconductor.org:packages/EnMCB.git to reflect on this report. See Troubleshooting Build Report for more information.
- Use the following Renviron settings to reproduce errors and warnings.
- If 'R CMD check' started to fail recently on the Linux builder(s) over a missing dependency, add the missing dependency to 'Suggests:' in your DESCRIPTION file. See Renviron.bioc for more information.

raw results


Summary

Package: EnMCB
Version: 1.15.0
Command: /home/biocbuild/bbs-3.19-bioc/R/bin/R CMD check --install=check:EnMCB.install-out.txt --library=/home/biocbuild/bbs-3.19-bioc/R/site-library --timings EnMCB_1.15.0.tar.gz
StartedAt: 2024-03-01 21:56:06 -0500 (Fri, 01 Mar 2024)
EndedAt: 2024-03-01 21:58:38 -0500 (Fri, 01 Mar 2024)
EllapsedTime: 151.9 seconds
RetCode: 0
Status:   OK  
CheckDir: EnMCB.Rcheck
Warnings: 0

Command output

##############################################################################
##############################################################################
###
### Running command:
###
###   /home/biocbuild/bbs-3.19-bioc/R/bin/R CMD check --install=check:EnMCB.install-out.txt --library=/home/biocbuild/bbs-3.19-bioc/R/site-library --timings EnMCB_1.15.0.tar.gz
###
##############################################################################
##############################################################################


* using log directory ‘/home/biocbuild/bbs-3.19-bioc/meat/EnMCB.Rcheck’
* using R Under development (unstable) (2024-01-16 r85808)
* using platform: x86_64-pc-linux-gnu
* R was compiled by
    gcc (Ubuntu 11.4.0-1ubuntu1~22.04) 11.4.0
    GNU Fortran (Ubuntu 11.4.0-1ubuntu1~22.04) 11.4.0
* running under: Ubuntu 22.04.4 LTS
* using session charset: UTF-8
* checking for file ‘EnMCB/DESCRIPTION’ ... OK
* checking extension type ... Package
* this is package ‘EnMCB’ version ‘1.15.0’
* package encoding: UTF-8
* checking package namespace information ... OK
* checking package dependencies ... OK
* checking if this is a source package ... OK
* checking if there is a namespace ... OK
* checking for hidden files and directories ... OK
* checking for portable file names ... OK
* checking for sufficient/correct file permissions ... OK
* checking whether package ‘EnMCB’ can be installed ... OK
* checking installed package size ... NOTE
  installed size is  5.2Mb
  sub-directories of 1Mb or more:
    data   4.9Mb
* checking package directory ... OK
* checking ‘build’ directory ... OK
* checking DESCRIPTION meta-information ... OK
* checking top-level files ... OK
* checking for left-over files ... OK
* checking index information ... OK
* checking package subdirectories ... OK
* checking R files for non-ASCII characters ... OK
* checking R files for syntax errors ... OK
* checking whether the package can be loaded ... OK
* checking whether the package can be loaded with stated dependencies ... OK
* checking whether the package can be unloaded cleanly ... OK
* checking whether the namespace can be loaded with stated dependencies ... OK
* checking whether the namespace can be unloaded cleanly ... OK
* checking loading without being on the library search path ... OK
* checking dependencies in R code ... OK
* checking S3 generic/method consistency ... OK
* checking replacement functions ... OK
* checking foreign function calls ... OK
* checking R code for possible problems ... OK
* checking Rd files ... OK
* checking Rd metadata ... OK
* checking Rd cross-references ... OK
* checking for missing documentation entries ... OK
* checking for code/documentation mismatches ... OK
* checking Rd \usage sections ... OK
* checking Rd contents ... OK
* checking for unstated dependencies in examples ... OK
* checking contents of ‘data’ directory ... OK
* checking data for non-ASCII characters ... OK
* checking data for ASCII and uncompressed saves ... OK
* checking files in ‘vignettes’ ... OK
* checking examples ... OK
Examples with CPU (user + system) or elapsed time > 5s
                          user system elapsed
metricMCB.cv            10.646  0.121  10.766
ensemble_model           6.141  0.111   6.252
pre_process_methylation  5.139  0.995   6.136
ensemble_prediction      5.715  0.144   5.860
* checking for unstated dependencies in ‘tests’ ... OK
* checking tests ...
  Running ‘testthat.R’
 OK
* checking for unstated dependencies in vignettes ... OK
* checking package vignettes ... OK
* checking re-building of vignette outputs ... OK
* checking PDF version of manual ... OK
* DONE

Status: 1 NOTE
See
  ‘/home/biocbuild/bbs-3.19-bioc/meat/EnMCB.Rcheck/00check.log’
for details.



Installation output

EnMCB.Rcheck/00install.out

##############################################################################
##############################################################################
###
### Running command:
###
###   /home/biocbuild/bbs-3.19-bioc/R/bin/R CMD INSTALL EnMCB
###
##############################################################################
##############################################################################


* installing to library ‘/home/biocbuild/bbs-3.19-bioc/R/site-library’
* installing *source* package ‘EnMCB’ ...
** using staged installation
** R
** data
** inst
** byte-compile and prepare package for lazy loading
** help
*** installing help indices
** building package indices
** installing vignettes
** testing if installed package can be loaded from temporary location
** testing if installed package can be loaded from final location
** testing if installed package keeps a record of temporary installation path
* DONE (EnMCB)

Tests output

EnMCB.Rcheck/tests/testthat.Rout


R Under development (unstable) (2024-01-16 r85808) -- "Unsuffered Consequences"
Copyright (C) 2024 The R Foundation for Statistical Computing
Platform: x86_64-pc-linux-gnu

R is free software and comes with ABSOLUTELY NO WARRANTY.
You are welcome to redistribute it under certain conditions.
Type 'license()' or 'licence()' for distribution details.

R is a collaborative project with many contributors.
Type 'contributors()' for more information and
'citation()' on how to cite R or R packages in publications.

Type 'demo()' for some demos, 'help()' for on-line help, or
'help.start()' for an HTML browser interface to help.
Type 'q()' to quit R.

> library(testthat)
> library(EnMCB)
> 
> test_check("EnMCB")
Start calculating the correlation, this may take a while...
(or you can try to use IdentifyMCB_parallel function instead)

  |                                                                            
  |                                                                      |   0%
  |                                                                            
  |##################                                                    |  25%
  |                                                                            
  |###################################                                   |  50%
  |                                                                            
  |####################################################                  |  75%
  |                                                                            
  |######################################################################| 100%
Now gathering the results, please wait ...
Statistics ( 4  MCBs in total):
chr2 : total MCBs: 1  Mean Length: 167  (Range:  167 167 )
chr6 : total MCBs: 1  Mean Length: 129  (Range:  129 129 )
chr8 : total MCBs: 2  Mean Length: 303.5  (Range:  181 426 )
[ FAIL 0 | WARN 0 | SKIP 0 | PASS 1 ]
> 
> proc.time()
   user  system elapsed 
  6.932   0.285   7.204 

Example timings

EnMCB.Rcheck/EnMCB-Ex.timings

nameusersystemelapsed
CompareMCB0.0230.0030.028
DiffMCB0.1280.0000.128
IdentifyMCB4.1700.1524.323
IdentifyMCB_parallel3.3390.1003.439
create_demo0.6940.0470.743
draw_survival_curve1.7390.1751.915
ensemble_model6.1410.1116.252
ensemble_prediction5.7150.1445.860
fast_roc_calculation3.5620.0093.569
metricMCB0.7200.0510.772
metricMCB.cv10.646 0.12110.766
multi_coxph0.0340.0000.034
pre_process_methylation5.1390.9956.136
univ_coxph0.1140.0030.118