Back to Multiple platform build/check report for BioC 3.14
ABCD[E]FGHIJKLMNOPQRSTUVWXYZ

This page was generated on 2021-10-23 14:06:58 -0400 (Sat, 23 Oct 2021).

BUILD BIN results for EGSEA on merida1

To the developers/maintainers of the EGSEA package:
- Please allow up to 24 hours (and sometimes 48 hours) for your latest push to git@git.bioconductor.org:packages/EGSEA.git to
reflect on this report. See How and When does the builder pull? When will my changes propagate? here for more information.
- Make sure to use the following settings in order to reproduce any error or warning you see on this page.

raw results

Package 569/2083HostnameOS / ArchINSTALLBUILDCHECKBUILD BIN
EGSEA 1.21.1  (landing page)
Monther Alhamdoosh
Snapshot Date: 2021-10-22 14:50:11 -0400 (Fri, 22 Oct 2021)
git_url: https://git.bioconductor.org/packages/EGSEA
git_branch: master
git_last_commit: 5664de3
git_last_commit_date: 2021-10-11 17:48:18 -0400 (Mon, 11 Oct 2021)
nebbiolo2Linux (Ubuntu 20.04.2 LTS) / x86_64  OK    OK    WARNINGS  UNNEEDED, same version is already published
riesling1Windows Server 2019 Standard / x64  OK    OK    WARNINGS    OK  UNNEEDED, same version is already published
merida1macOS 10.14.6 Mojave / x86_64  OK    OK    WARNINGS    OK  UNNEEDED, same version is already published

Summary

Package: EGSEA
Version: 1.21.1
Command: rm -rf EGSEA.buildbin-libdir && mkdir EGSEA.buildbin-libdir && /Users/biocbuild/BBS/utils/build-universal.sh EGSEA_1.21.1.tar.gz /Library/Frameworks/R.framework/Resources/bin/R EGSEA.buildbin-libdir
StartedAt: 2021-10-23 11:46:03 -0400 (Sat, 23 Oct 2021)
EndedAt: 2021-10-23 11:47:02 -0400 (Sat, 23 Oct 2021)
EllapsedTime: 58.9 seconds
RetCode: 0
Status:   OK  
PackageFile: EGSEA_1.21.1.tgz
PackageFileSize: 2.365 MiB

Command output

##############################################################################
##############################################################################
###
### Running command:
###
###   rm -rf EGSEA.buildbin-libdir && mkdir EGSEA.buildbin-libdir && /Users/biocbuild/BBS/utils/build-universal.sh EGSEA_1.21.1.tar.gz /Library/Frameworks/R.framework/Resources/bin/R EGSEA.buildbin-libdir
###
##############################################################################
##############################################################################


>>>>>>> 
>>>>>>> INSTALLATION WITH 'R CMD INSTALL --preclean --no-multiarch --library=EGSEA.buildbin-libdir EGSEA_1.21.1.tar.gz'
>>>>>>> 

* installing *source* package ‘EGSEA’ ...
** using staged installation
** R
** data
** inst
** byte-compile and prepare package for lazy loading

groupGOTerms: 	GOBPTerm, GOMFTerm, GOCCTerm environments built.
** help
*** installing help indices
** building package indices
** installing vignettes
** testing if installed package can be loaded from temporary location

groupGOTerms: 	GOBPTerm, GOMFTerm, GOCCTerm environments built.
** testing if installed package can be loaded from final location

groupGOTerms: 	GOBPTerm, GOMFTerm, GOCCTerm environments built.
** testing if installed package keeps a record of temporary installation path
* DONE (EGSEA)