Back to Multiple platform build/check report for BioC 3.17:   simplified   long
ABC[D]EFGHIJKLMNOPQRSTUVWXYZ

This page was generated on 2023-02-04 11:06:04 -0500 (Sat, 04 Feb 2023).

HostnameOSArch (*)R versionInstalled pkgs
nebbiolo1Linux (Ubuntu 22.04.1 LTS)x86_64R Under development (unstable) (2023-01-10 r83596) -- "Unsuffered Consequences" 4483
palomino3Windows Server 2022 Datacenterx64R Under development (unstable) (2023-01-10 r83596 ucrt) -- "Unsuffered Consequences" 4249
merida1macOS 10.14.6 Mojavex86_64R Under development (unstable) (2023-01-10 r83596) -- "Unsuffered Consequences" 4272
Click on any hostname to see more info about the system (e.g. compilers)      (*) as reported by 'uname -p', except on Windows and Mac OS X

BUILD BIN results for DifferentialRegulation on merida1


To the developers/maintainers of the DifferentialRegulation package:
- Please allow up to 24 hours (and sometimes 48 hours) for your latest push to git@git.bioconductor.org:packages/DifferentialRegulation.git to
reflect on this report. See How and When does the builder pull? When will my changes propagate? for more information.
- Make sure to use the following settings in order to reproduce any error or warning you see on this page.

raw results

Package 525/2164HostnameOS / ArchINSTALLBUILDCHECKBUILD BIN
DifferentialRegulation 1.3.0  (landing page)
Simone Tiberi
Snapshot Date: 2023-02-03 14:00:22 -0500 (Fri, 03 Feb 2023)
git_url: https://git.bioconductor.org/packages/DifferentialRegulation
git_branch: master
git_last_commit: 22e3ca4
git_last_commit_date: 2022-11-01 11:27:01 -0500 (Tue, 01 Nov 2022)
nebbiolo1Linux (Ubuntu 22.04.1 LTS) / x86_64  OK    OK    OK  UNNEEDED, same version is already published
palomino3Windows Server 2022 Datacenter / x64  OK    OK    OK    OK  UNNEEDED, same version is already published
merida1macOS 10.14.6 Mojave / x86_64  OK    OK    OK    OK  UNNEEDED, same version is already published

Summary

Package: DifferentialRegulation
Version: 1.3.0
Command: rm -rf DifferentialRegulation.buildbin-libdir && mkdir DifferentialRegulation.buildbin-libdir && /Users/biocbuild/BBS/utils/build-universal.sh DifferentialRegulation_1.3.0.tar.gz /Library/Frameworks/R.framework/Resources/bin/R DifferentialRegulation.buildbin-libdir
StartedAt: 2023-02-04 08:55:13 -0500 (Sat, 04 Feb 2023)
EndedAt: 2023-02-04 08:58:15 -0500 (Sat, 04 Feb 2023)
EllapsedTime: 182.7 seconds
RetCode: 0
Status:   OK  
PackageFile: DifferentialRegulation_1.3.0.tgz
PackageFileSize: 924.5 KiB

Command output

##############################################################################
##############################################################################
###
### Running command:
###
###   rm -rf DifferentialRegulation.buildbin-libdir && mkdir DifferentialRegulation.buildbin-libdir && /Users/biocbuild/BBS/utils/build-universal.sh DifferentialRegulation_1.3.0.tar.gz /Library/Frameworks/R.framework/Resources/bin/R DifferentialRegulation.buildbin-libdir
###
##############################################################################
##############################################################################


>>>>>>> 
>>>>>>> INSTALLATION WITH 'R CMD INSTALL --preclean --no-multiarch --library=DifferentialRegulation.buildbin-libdir DifferentialRegulation_1.3.0.tar.gz'
>>>>>>> 

* installing *source* package ‘DifferentialRegulation’ ...
** using staged installation
** libs
using C++ compiler: ‘Apple clang version 11.0.0 (clang-1100.0.33.17)’
using C++11
using SDK: ‘’
clang++ -mmacosx-version-min=10.13 -std=gnu++11 -I"/Library/Frameworks/R.framework/Resources/include" -DNDEBUG  -I'/Library/Frameworks/R.framework/Versions/4.3/Resources/library/Rcpp/include' -I'/Library/Frameworks/R.framework/Versions/4.3/Resources/library/RcppArmadillo/include' -I/usr/local/include    -fPIC  -Wall -g -O2  -c RcppExports.cpp -o RcppExports.o
clang++ -mmacosx-version-min=10.13 -std=gnu++11 -I"/Library/Frameworks/R.framework/Resources/include" -DNDEBUG  -I'/Library/Frameworks/R.framework/Versions/4.3/Resources/library/Rcpp/include' -I'/Library/Frameworks/R.framework/Versions/4.3/Resources/library/RcppArmadillo/include' -I/usr/local/include    -fPIC  -Wall -g -O2  -c Rcpp_MCMC.cpp -o Rcpp_MCMC.o
Rcpp_MCMC.cpp:144:10: warning: unused variable 'tmp_1' [-Wunused-variable]
  double tmp_1, tmp_2, tmp_3;
         ^
Rcpp_MCMC.cpp:144:17: warning: unused variable 'tmp_2' [-Wunused-variable]
  double tmp_1, tmp_2, tmp_3;
                ^
Rcpp_MCMC.cpp:144:24: warning: unused variable 'tmp_3' [-Wunused-variable]
  double tmp_1, tmp_2, tmp_3;
                       ^
3 warnings generated.
clang++ -mmacosx-version-min=10.13 -std=gnu++11 -I"/Library/Frameworks/R.framework/Resources/include" -DNDEBUG  -I'/Library/Frameworks/R.framework/Versions/4.3/Resources/library/Rcpp/include' -I'/Library/Frameworks/R.framework/Versions/4.3/Resources/library/RcppArmadillo/include' -I/usr/local/include    -fPIC  -Wall -g -O2  -c Rcpp_MCMC_sce.cpp -o Rcpp_MCMC_sce.o
Rcpp_MCMC_sce.cpp:145:17: warning: unused variable 'tmp_2' [-Wunused-variable]
  double tmp_1, tmp_2, tmp_3;
                ^
Rcpp_MCMC_sce.cpp:145:10: warning: unused variable 'tmp_1' [-Wunused-variable]
  double tmp_1, tmp_2, tmp_3;
         ^
Rcpp_MCMC_sce.cpp:145:24: warning: unused variable 'tmp_3' [-Wunused-variable]
  double tmp_1, tmp_2, tmp_3;
                       ^
3 warnings generated.
clang++ -mmacosx-version-min=10.13 -std=gnu++11 -dynamiclib -Wl,-headerpad_max_install_names -undefined dynamic_lookup -single_module -multiply_defined suppress -L/Library/Frameworks/R.framework/Resources/lib -L/usr/local/lib -o DifferentialRegulation.so RcppExports.o Rcpp_MCMC.o Rcpp_MCMC_sce.o -L/Library/Frameworks/R.framework/Resources/lib -lRlapack -L/Library/Frameworks/R.framework/Resources/lib -lRblas -L/usr/local/gfortran/lib/gcc/x86_64-apple-darwin18/8.2.0 -L/usr/local/gfortran/lib -lgfortran -lquadmath -lm -F/Library/Frameworks/R.framework/.. -framework R -Wl,-framework -Wl,CoreFoundation
installing to /Users/biocbuild/bbs-3.17-bioc/meat/DifferentialRegulation.buildbin-libdir/00LOCK-DifferentialRegulation/00new/DifferentialRegulation/libs
** R
** inst
** byte-compile and prepare package for lazy loading
** help
*** installing help indices
** building package indices
** installing vignettes
** testing if installed package can be loaded from temporary location
** checking absolute paths in shared objects and dynamic libraries
** testing if installed package can be loaded from final location
** testing if installed package keeps a record of temporary installation path
* DONE (DifferentialRegulation)


>>>>>>> 
>>>>>>> FIXING LINKS FOR DifferentialRegulation.buildbin-libdir/DifferentialRegulation/libs/DifferentialRegulation.so
>>>>>>> 

install_name_tool -change "/usr/local/lib/libgcc_s.1.dylib" "/Library/Frameworks/R.framework/Versions/4.3/Resources/lib/libgcc_s.1.dylib" "DifferentialRegulation.buildbin-libdir/DifferentialRegulation/libs/DifferentialRegulation.so"
install_name_tool -change "/usr/local/lib/libgfortran.5.dylib" "/Library/Frameworks/R.framework/Versions/4.3/Resources/lib/libgfortran.5.dylib" "DifferentialRegulation.buildbin-libdir/DifferentialRegulation/libs/DifferentialRegulation.so"
install_name_tool -change "/usr/local/lib/libquadmath.0.dylib" "/Library/Frameworks/R.framework/Versions/4.3/Resources/lib/libquadmath.0.dylib" "DifferentialRegulation.buildbin-libdir/DifferentialRegulation/libs/DifferentialRegulation.so"
install_name_tool -change "/usr/local/gfortran/lib/libgfortran.5.dylib" "/Library/Frameworks/R.framework/Versions/4.3/Resources/lib/libgfortran.5.dylib" "DifferentialRegulation.buildbin-libdir/DifferentialRegulation/libs/DifferentialRegulation.so"
install_name_tool -change "/usr/local/gfortran/lib/libquadmath.0.dylib" "/Library/Frameworks/R.framework/Versions/4.3/Resources/lib/libquadmath.0.dylib" "DifferentialRegulation.buildbin-libdir/DifferentialRegulation/libs/DifferentialRegulation.so"