Back to Multiple platform build/check report for BioC 3.14
ABC[D]EFGHIJKLMNOPQRSTUVWXYZ

This page was generated on 2021-10-20 12:05:37 -0400 (Wed, 20 Oct 2021).

BUILD results for DaMiRseq on merida1

To the developers/maintainers of the DaMiRseq package:
- Please allow up to 24 hours (and sometimes 48 hours) for your latest push to git@git.bioconductor.org:packages/DaMiRseq.git to
reflect on this report. See How and When does the builder pull? When will my changes propagate? here for more information.
- Make sure to use the following settings in order to reproduce any error or warning you see on this page.

raw results

Package 446/2072HostnameOS / ArchINSTALLBUILDCHECKBUILD BIN
DaMiRseq 2.5.4  (landing page)
Mattia Chiesa
Snapshot Date: 2021-10-19 14:50:04 -0400 (Tue, 19 Oct 2021)
git_url: https://git.bioconductor.org/packages/DaMiRseq
git_branch: master
git_last_commit: 318c280
git_last_commit_date: 2021-08-19 09:06:35 -0400 (Thu, 19 Aug 2021)
nebbiolo2Linux (Ubuntu 20.04.2 LTS) / x86_64  OK    OK    WARNINGS  UNNEEDED, same version is already published
riesling1Windows Server 2019 Standard / x64  OK    OK    WARNINGS    OK  UNNEEDED, same version is already published
merida1macOS 10.14.6 Mojave / x86_64  OK    OK    WARNINGS    OK  UNNEEDED, same version is already published

Summary

Package: DaMiRseq
Version: 2.5.4
Command: /Library/Frameworks/R.framework/Resources/bin/R CMD build --keep-empty-dirs --no-resave-data DaMiRseq
StartedAt: 2021-10-19 19:29:51 -0400 (Tue, 19 Oct 2021)
EndedAt: 2021-10-19 19:44:19 -0400 (Tue, 19 Oct 2021)
EllapsedTime: 867.3 seconds
RetCode: 0
Status:   OK  
PackageFile: DaMiRseq_2.5.4.tar.gz
PackageFileSize: 4.719 MiB

Command output

##############################################################################
##############################################################################
###
### Running command:
###
###   /Library/Frameworks/R.framework/Resources/bin/R CMD build --keep-empty-dirs --no-resave-data DaMiRseq
###
##############################################################################
##############################################################################


* checking for file ‘DaMiRseq/DESCRIPTION’ ... OK
* preparing ‘DaMiRseq’:
* checking DESCRIPTION meta-information ... OK
* installing the package to build vignettes
* creating vignettes ... OK
* checking for LF line-endings in source and make files and shell scripts
* checking for empty or unneeded directories
* building ‘DaMiRseq_2.5.4.tar.gz’