Index of /checkResults/devel/bioc-LATEST/DEScan2/raw-results
Name
Last modified
Size
Description
Parent Directory
-
info.dcf
24-Mar-2023 00:06
270
merida1/
24-Mar-2023 00:06
-
nebbiolo1/
24-Mar-2023 00:05
-
palomino3/
24-Mar-2023 00:05
-