![]() | Name | Last modified | Size | Description |
---|---|---|---|---|
![]() | Parent Directory | - | ||
![]() | buildbin-out.txt | 24-Sep-2023 00:38 | 6.2K | |
![]() | buildbin-summary.dcf | 24-Sep-2023 00:38 | 530 | |
![]() | buildsrc-out.txt | 24-Sep-2023 00:38 | 938 | |
![]() | buildsrc-summary.dcf | 24-Sep-2023 00:38 | 428 | |
![]() | checksrc-out.txt | 24-Sep-2023 00:38 | 4.6K | |
![]() | checksrc-summary.dcf | 24-Sep-2023 00:38 | 450 | |
![]() | install-out.txt | 24-Sep-2023 00:38 | 2.6K | |
![]() | install-summary.dcf | 24-Sep-2023 00:38 | 269 | |