![]() | Name | Last modified | Size | Description |
---|---|---|---|---|
![]() | Parent Directory | - | ||
![]() | buildbin-out.txt | 24-Sep-2023 00:37 | 2.3K | |
![]() | buildbin-summary.dcf | 24-Sep-2023 00:37 | 515 | |
![]() | buildsrc-out.txt | 24-Sep-2023 00:37 | 961 | |
![]() | buildsrc-summary.dcf | 24-Sep-2023 00:37 | 453 | |
![]() | checksrc-out.txt | 24-Sep-2023 00:37 | 5.0K | |
![]() | checksrc-summary.dcf | 24-Sep-2023 00:37 | 453 | |
![]() | install-out.txt | 24-Sep-2023 00:37 | 2.1K | |
![]() | install-summary.dcf | 24-Sep-2023 00:37 | 268 | |