![]() | Name | Last modified | Size | Description |
---|---|---|---|---|
![]() | Parent Directory | - | ||
![]() | buildsrc-out.txt | 24-Sep-2023 00:39 | 922 | |
![]() | buildsrc-summary.dcf | 24-Sep-2023 00:39 | 412 | |
![]() | checksrc-out.txt | 24-Sep-2023 00:39 | 4.6K | |
![]() | checksrc-summary.dcf | 24-Sep-2023 00:39 | 408 | |
![]() | install-out.txt | 24-Sep-2023 00:39 | 1.9K | |
![]() | install-summary.dcf | 24-Sep-2023 00:39 | 253 | |