Index of /checkResults/devel/bioc-LATEST/DEScan2/raw-results/nebbiolo2

[ICO]NameLast modifiedSizeDescription

[DIR]Parent Directory  -  
[TXT]buildsrc-out.txt24-Sep-2023 00:36 928  
[   ]buildsrc-summary.dcf24-Sep-2023 00:36 417  
[TXT]checksrc-out.txt24-Sep-2023 00:36 4.6K 
[   ]checksrc-summary.dcf24-Sep-2023 00:36 420  
[TXT]install-out.txt24-Sep-2023 00:36 2.0K 
[   ]install-summary.dcf24-Sep-2023 00:36 259