Back to Multiple platform build/check report for BioC 3.14
ABC[D]EFGHIJKLMNOPQRSTUVWXYZ

This page was generated on 2021-10-22 12:04:56 -0400 (Fri, 22 Oct 2021).

BUILD BIN results for DEGreport on merida1

To the developers/maintainers of the DEGreport package:
- Please allow up to 24 hours (and sometimes 48 hours) for your latest push to git@git.bioconductor.org:packages/DEGreport.git to
reflect on this report. See How and When does the builder pull? When will my changes propagate? here for more information.
- Make sure to use the following settings in order to reproduce any error or warning you see on this page.

raw results

Package 472/2075HostnameOS / ArchINSTALLBUILDCHECKBUILD BIN
DEGreport 1.29.0  (landing page)
Lorena Pantano
Snapshot Date: 2021-10-21 14:50:08 -0400 (Thu, 21 Oct 2021)
git_url: https://git.bioconductor.org/packages/DEGreport
git_branch: master
git_last_commit: a1579b1
git_last_commit_date: 2021-05-19 12:05:35 -0400 (Wed, 19 May 2021)
nebbiolo2Linux (Ubuntu 20.04.2 LTS) / x86_64  OK    OK    OK  UNNEEDED, same version is already published
riesling1Windows Server 2019 Standard / x64  OK    OK    OK    OK  UNNEEDED, same version is already published
merida1macOS 10.14.6 Mojave / x86_64  OK    OK    OK    OK  UNNEEDED, same version is already published

Summary

Package: DEGreport
Version: 1.29.0
Command: rm -rf DEGreport.buildbin-libdir && mkdir DEGreport.buildbin-libdir && /Users/biocbuild/BBS/utils/build-universal.sh DEGreport_1.29.0.tar.gz /Library/Frameworks/R.framework/Resources/bin/R DEGreport.buildbin-libdir
StartedAt: 2021-10-22 11:53:15 -0400 (Fri, 22 Oct 2021)
EndedAt: 2021-10-22 11:54:17 -0400 (Fri, 22 Oct 2021)
EllapsedTime: 61.7 seconds
RetCode: 0
Status:   OK  
PackageFile: DEGreport_1.29.0.tgz
PackageFileSize: 2.97 MiB

Command output

##############################################################################
##############################################################################
###
### Running command:
###
###   rm -rf DEGreport.buildbin-libdir && mkdir DEGreport.buildbin-libdir && /Users/biocbuild/BBS/utils/build-universal.sh DEGreport_1.29.0.tar.gz /Library/Frameworks/R.framework/Resources/bin/R DEGreport.buildbin-libdir
###
##############################################################################
##############################################################################


>>>>>>> 
>>>>>>> INSTALLATION WITH 'R CMD INSTALL --preclean --no-multiarch --library=DEGreport.buildbin-libdir DEGreport_1.29.0.tar.gz'
>>>>>>> 

* installing *source* package ‘DEGreport’ ...
** using staged installation
** R
** data
** inst
** byte-compile and prepare package for lazy loading
** help
*** installing help indices
** building package indices
** installing vignettes
** testing if installed package can be loaded from temporary location
** testing if installed package can be loaded from final location
** testing if installed package keeps a record of temporary installation path
* DONE (DEGreport)