Back to Multiple platform build/check report for BioC 3.16
AB[C]DEFGHIJKLMNOPQRSTUVWXYZ

This page was generated on 2022-06-24 11:06:16 -0400 (Fri, 24 Jun 2022).

HostnameOSArch (*)R versionInstalled pkgs
nebbiolo2Linux (Ubuntu 20.04.4 LTS)x86_644.2.0 Patched (2022-06-02 r82447) -- "Vigorous Calisthenics" 4331
palomino4Windows Server 2022 Datacenterx644.2.0 Patched (2022-06-02 r82447 ucrt) -- "Vigorous Calisthenics" 4136
lconwaymacOS 12.2.1 Montereyx86_644.2.0 Patched (2022-05-29 r82424) -- "Vigorous Calisthenics" 4147
Click on any hostname to see more info about the system (e.g. compilers)      (*) as reported by 'uname -p', except on Windows and Mac OS X

INSTALL results for CoGAPS on palomino4


To the developers/maintainers of the CoGAPS package:
- Please allow up to 24 hours (and sometimes 48 hours) for your latest push to git@git.bioconductor.org:packages/CoGAPS.git to
reflect on this report. See How and When does the builder pull? When will my changes propagate? for more information.
- Make sure to use the following settings in order to reproduce any error or warning you see on this page.

raw results

Package 372/2118HostnameOS / ArchINSTALLBUILDCHECKBUILD BIN
CoGAPS 3.17.0  (landing page)
Elana J. Fertig
Snapshot Date: 2022-06-23 14:00:04 -0400 (Thu, 23 Jun 2022)
git_url: https://git.bioconductor.org/packages/CoGAPS
git_branch: master
git_last_commit: ace4b90
git_last_commit_date: 2022-04-26 11:05:27 -0400 (Tue, 26 Apr 2022)
nebbiolo2Linux (Ubuntu 20.04.4 LTS) / x86_64  OK    OK    WARNINGS  UNNEEDED, same version is already published
palomino4Windows Server 2022 Datacenter / x64  OK    OK    WARNINGS    OK  UNNEEDED, same version is already published
lconwaymacOS 12.2.1 Monterey / x86_64  OK    OK    WARNINGS    OK  UNNEEDED, same version is already published

Summary

Package: CoGAPS
Version: 3.17.0
Command: C:\cygwin\bin\curl.exe -O http://155.52.207.166/BBS/3.16/bioc/src/contrib/CoGAPS_3.17.0.tar.gz && rm -rf CoGAPS.buildbin-libdir && mkdir CoGAPS.buildbin-libdir && F:\biocbuild\bbs-3.16-bioc\R\bin\R.exe CMD INSTALL --merge-multiarch --build --library=CoGAPS.buildbin-libdir CoGAPS_3.17.0.tar.gz && F:\biocbuild\bbs-3.16-bioc\R\bin\R.exe CMD INSTALL CoGAPS_3.17.0.zip && rm CoGAPS_3.17.0.tar.gz CoGAPS_3.17.0.zip
StartedAt: 2022-06-23 16:00:40 -0400 (Thu, 23 Jun 2022)
EndedAt: 2022-06-23 16:03:59 -0400 (Thu, 23 Jun 2022)
EllapsedTime: 198.6 seconds
RetCode: 0
Status:   OK  

Command output

##############################################################################
##############################################################################
###
### Running command:
###
###   C:\cygwin\bin\curl.exe -O http://155.52.207.166/BBS/3.16/bioc/src/contrib/CoGAPS_3.17.0.tar.gz && rm -rf CoGAPS.buildbin-libdir && mkdir CoGAPS.buildbin-libdir && F:\biocbuild\bbs-3.16-bioc\R\bin\R.exe CMD INSTALL --merge-multiarch --build --library=CoGAPS.buildbin-libdir CoGAPS_3.17.0.tar.gz && F:\biocbuild\bbs-3.16-bioc\R\bin\R.exe CMD INSTALL CoGAPS_3.17.0.zip && rm CoGAPS_3.17.0.tar.gz CoGAPS_3.17.0.zip
###
##############################################################################
##############################################################################


  % Total    % Received % Xferd  Average Speed   Time    Time     Time  Current
                                 Dload  Upload   Total   Spent    Left  Speed

  0     0    0     0    0     0      0      0 --:--:-- --:--:-- --:--:--     0
 62 19.6M   62 12.2M    0     0  14.4M      0  0:00:01 --:--:--  0:00:01 14.5M
100 19.6M  100 19.6M    0     0  16.0M      0  0:00:01  0:00:01 --:--:-- 16.0M
only one architecture so ignoring '--merge-multiarch'
* installing *source* package 'CoGAPS' ...
** using staged installation
** libs
g++ -std=gnu++11  -I"F:/biocbuild/bbs-3.16-bioc/R/include" -DNDEBUG -DBOOST_MATH_PROMOTE_DOUBLE_POLICY=0 -D__GAPS_R_BUILD__ -Iinclude -DGAPS_DISABLE_CHECKPOINTS -I'F:/biocbuild/bbs-3.16-bioc/R/library/Rcpp/include' -I'F:/biocbuild/bbs-3.16-bioc/R/library/BH/include'   -I"C:/rtools42/x86_64-w64-mingw32.static.posix/include"     -O2 -Wall  -mfpmath=sse -msse2 -mstackrealign  -c Cogaps.cpp -o Cogaps.o
g++ -std=gnu++11  -I"F:/biocbuild/bbs-3.16-bioc/R/include" -DNDEBUG -DBOOST_MATH_PROMOTE_DOUBLE_POLICY=0 -D__GAPS_R_BUILD__ -Iinclude -DGAPS_DISABLE_CHECKPOINTS -I'F:/biocbuild/bbs-3.16-bioc/R/library/Rcpp/include' -I'F:/biocbuild/bbs-3.16-bioc/R/library/BH/include'   -I"C:/rtools42/x86_64-w64-mingw32.static.posix/include"     -O2 -Wall  -mfpmath=sse -msse2 -mstackrealign  -c GapsParameters.cpp -o GapsParameters.o
GapsParameters.cpp: In member function 'void GapsParameters::print() const':
GapsParameters.cpp:41:46: warning: format '%lu' expects argument of type 'long unsigned int', but argument 2 has type 'std::vector<unsigned int>::size_type' {aka 'long long unsigned int'} [-Wformat=]
   41 |     gaps_printf("dataIndicesSubset.size(): %lu\n", dataIndicesSubset.size());
      |                                            ~~^     ~~~~~~~~~~~~~~~~~~~~~~~~
      |                                              |                           |
      |                                              long unsigned int           std::vector<unsigned int>::size_type {aka long long unsigned int}
      |                                            %llu
g++ -std=gnu++11  -I"F:/biocbuild/bbs-3.16-bioc/R/include" -DNDEBUG -DBOOST_MATH_PROMOTE_DOUBLE_POLICY=0 -D__GAPS_R_BUILD__ -Iinclude -DGAPS_DISABLE_CHECKPOINTS -I'F:/biocbuild/bbs-3.16-bioc/R/library/Rcpp/include' -I'F:/biocbuild/bbs-3.16-bioc/R/library/BH/include'   -I"C:/rtools42/x86_64-w64-mingw32.static.posix/include"     -O2 -Wall  -mfpmath=sse -msse2 -mstackrealign  -c GapsResult.cpp -o GapsResult.o
g++ -std=gnu++11  -I"F:/biocbuild/bbs-3.16-bioc/R/include" -DNDEBUG -DBOOST_MATH_PROMOTE_DOUBLE_POLICY=0 -D__GAPS_R_BUILD__ -Iinclude -DGAPS_DISABLE_CHECKPOINTS -I'F:/biocbuild/bbs-3.16-bioc/R/library/Rcpp/include' -I'F:/biocbuild/bbs-3.16-bioc/R/library/BH/include'   -I"C:/rtools42/x86_64-w64-mingw32.static.posix/include"     -O2 -Wall  -mfpmath=sse -msse2 -mstackrealign  -c GapsRunner.cpp -o GapsRunner.o
In file included from GapsRunner.cpp:8:
gibbs_sampler/AsynchronousGibbsSampler.h:105: warning: ignoring '#pragma omp parallel' [-Wunknown-pragmas]
  105 |         #pragma omp parallel for num_threads(nThreads)
      | 
In file included from F:/biocbuild/bbs-3.16-bioc/R/library/BH/include/boost/mpl/aux_/na_assert.hpp:23,
                 from F:/biocbuild/bbs-3.16-bioc/R/library/BH/include/boost/mpl/arg.hpp:25,
                 from F:/biocbuild/bbs-3.16-bioc/R/library/BH/include/boost/mpl/placeholders.hpp:24,
                 from F:/biocbuild/bbs-3.16-bioc/R/library/BH/include/boost/iterator/iterator_categories.hpp:16,
                 from F:/biocbuild/bbs-3.16-bioc/R/library/BH/include/boost/iterator/iterator_facade.hpp:13,
                 from F:/biocbuild/bbs-3.16-bioc/R/library/BH/include/boost/range/iterator_range_core.hpp:27,
                 from F:/biocbuild/bbs-3.16-bioc/R/library/BH/include/boost/algorithm/string/replace.hpp:16,
                 from F:/biocbuild/bbs-3.16-bioc/R/library/BH/include/boost/date_time/date_facet.hpp:17,
                 from F:/biocbuild/bbs-3.16-bioc/R/library/BH/include/boost/date_time/gregorian/gregorian_io.hpp:16,
                 from F:/biocbuild/bbs-3.16-bioc/R/library/BH/include/boost/date_time/gregorian/gregorian.hpp:31,
                 from F:/biocbuild/bbs-3.16-bioc/R/library/BH/include/boost/date_time/posix_time/time_formatters.hpp:12,
                 from F:/biocbuild/bbs-3.16-bioc/R/library/BH/include/boost/date_time/posix_time/posix_time.hpp:24,
                 from GapsRunner.cpp:27:
F:/biocbuild/bbs-3.16-bioc/R/library/BH/include/boost/mpl/assert.hpp:194:21: warning: unnecessary parentheses in declaration of 'assert_arg' [-Wparentheses]
  194 | failed ************ (Pred::************
      |                     ^
F:/biocbuild/bbs-3.16-bioc/R/library/BH/include/boost/mpl/assert.hpp:199:21: warning: unnecessary parentheses in declaration of 'assert_not_arg' [-Wparentheses]
  199 | failed ************ (boost::mpl::not_<Pred>::************
      |                     ^
GapsRunner.cpp: In instantiation of 'GapsResult runCoGAPSAlgorithm(const DataType&, GapsParameters&, const DataType&, GapsRandomState*) [with Sampler = AsynchronousGibbsSampler<SparseNormalModel>; DataType = Matrix]':
GapsRunner.cpp:70:73:   required from 'GapsResult chooseSampler(const DataType&, GapsParameters&, const DataType&, GapsRandomState*) [with DataModel = SparseNormalModel; DataType = Matrix]'
GapsRunner.cpp:85:48:   required from 'GapsResult chooseDataModel(const DataType&, GapsParameters&, const DataType&, GapsRandomState*) [with DataType = Matrix]'
GapsRunner.cpp:104:27:   required from 'GapsResult run_helper(const DataType&, GapsParameters&, const DataType&, GapsRandomState*) [with DataType = Matrix]'
GapsRunner.cpp:113:59:   required from here
GapsRunner.cpp:430:5: warning: enumeration value 'GAPS_ALL_PHASES' not handled in switch [-Wswitch]
  430 |     switch (phase)
      |     ^~~~~~
GapsRunner.cpp: In instantiation of 'GapsResult runCoGAPSAlgorithm(const DataType&, GapsParameters&, const DataType&, GapsRandomState*) [with Sampler = SingleThreadedGibbsSampler<SparseNormalModel>; DataType = Matrix]':
GapsRunner.cpp:74:71:   required from 'GapsResult chooseSampler(const DataType&, GapsParameters&, const DataType&, GapsRandomState*) [with DataModel = SparseNormalModel; DataType = Matrix]'
GapsRunner.cpp:85:48:   required from 'GapsResult chooseDataModel(const DataType&, GapsParameters&, const DataType&, GapsRandomState*) [with DataType = Matrix]'
GapsRunner.cpp:104:27:   required from 'GapsResult run_helper(const DataType&, GapsParameters&, const DataType&, GapsRandomState*) [with DataType = Matrix]'
GapsRunner.cpp:113:59:   required from here
GapsRunner.cpp:430:5: warning: enumeration value 'GAPS_ALL_PHASES' not handled in switch [-Wswitch]
GapsRunner.cpp: In instantiation of 'GapsResult runCoGAPSAlgorithm(const DataType&, GapsParameters&, const DataType&, GapsRandomState*) [with Sampler = AsynchronousGibbsSampler<DenseNormalModel>; DataType = Matrix]':
GapsRunner.cpp:70:73:   required from 'GapsResult chooseSampler(const DataType&, GapsParameters&, const DataType&, GapsRandomState*) [with DataModel = DenseNormalModel; DataType = Matrix]'
GapsRunner.cpp:88:43:   required from 'GapsResult chooseDataModel(const DataType&, GapsParameters&, const DataType&, GapsRandomState*) [with DataType = Matrix]'
GapsRunner.cpp:104:27:   required from 'GapsResult run_helper(const DataType&, GapsParameters&, const DataType&, GapsRandomState*) [with DataType = Matrix]'
GapsRunner.cpp:113:59:   required from here
GapsRunner.cpp:430:5: warning: enumeration value 'GAPS_ALL_PHASES' not handled in switch [-Wswitch]
GapsRunner.cpp: In instantiation of 'GapsResult runCoGAPSAlgorithm(const DataType&, GapsParameters&, const DataType&, GapsRandomState*) [with Sampler = SingleThreadedGibbsSampler<DenseNormalModel>; DataType = Matrix]':
GapsRunner.cpp:74:71:   required from 'GapsResult chooseSampler(const DataType&, GapsParameters&, const DataType&, GapsRandomState*) [with DataModel = DenseNormalModel; DataType = Matrix]'
GapsRunner.cpp:88:43:   required from 'GapsResult chooseDataModel(const DataType&, GapsParameters&, const DataType&, GapsRandomState*) [with DataType = Matrix]'
GapsRunner.cpp:104:27:   required from 'GapsResult run_helper(const DataType&, GapsParameters&, const DataType&, GapsRandomState*) [with DataType = Matrix]'
GapsRunner.cpp:113:59:   required from here
GapsRunner.cpp:430:5: warning: enumeration value 'GAPS_ALL_PHASES' not handled in switch [-Wswitch]
GapsRunner.cpp: In instantiation of 'GapsResult runCoGAPSAlgorithm(const DataType&, GapsParameters&, const DataType&, GapsRandomState*) [with Sampler = AsynchronousGibbsSampler<SparseNormalModel>; DataType = std::__cxx11::basic_string<char>]':
GapsRunner.cpp:70:73:   required from 'GapsResult chooseSampler(const DataType&, GapsParameters&, const DataType&, GapsRandomState*) [with DataModel = SparseNormalModel; DataType = std::__cxx11::basic_string<char>]'
GapsRunner.cpp:85:48:   required from 'GapsResult chooseDataModel(const DataType&, GapsParameters&, const DataType&, GapsRandomState*) [with DataType = std::__cxx11::basic_string<char>]'
GapsRunner.cpp:104:27:   required from 'GapsResult run_helper(const DataType&, GapsParameters&, const DataType&, GapsRandomState*) [with DataType = std::__cxx11::basic_string<char>]'
GapsRunner.cpp:119:59:   required from here
GapsRunner.cpp:430:5: warning: enumeration value 'GAPS_ALL_PHASES' not handled in switch [-Wswitch]
GapsRunner.cpp: In instantiation of 'GapsResult runCoGAPSAlgorithm(const DataType&, GapsParameters&, const DataType&, GapsRandomState*) [with Sampler = SingleThreadedGibbsSampler<SparseNormalModel>; DataType = std::__cxx11::basic_string<char>]':
GapsRunner.cpp:74:71:   required from 'GapsResult chooseSampler(const DataType&, GapsParameters&, const DataType&, GapsRandomState*) [with DataModel = SparseNormalModel; DataType = std::__cxx11::basic_string<char>]'
GapsRunner.cpp:85:48:   required from 'GapsResult chooseDataModel(const DataType&, GapsParameters&, const DataType&, GapsRandomState*) [with DataType = std::__cxx11::basic_string<char>]'
GapsRunner.cpp:104:27:   required from 'GapsResult run_helper(const DataType&, GapsParameters&, const DataType&, GapsRandomState*) [with DataType = std::__cxx11::basic_string<char>]'
GapsRunner.cpp:119:59:   required from here
GapsRunner.cpp:430:5: warning: enumeration value 'GAPS_ALL_PHASES' not handled in switch [-Wswitch]
GapsRunner.cpp: In instantiation of 'GapsResult runCoGAPSAlgorithm(const DataType&, GapsParameters&, const DataType&, GapsRandomState*) [with Sampler = AsynchronousGibbsSampler<DenseNormalModel>; DataType = std::__cxx11::basic_string<char>]':
GapsRunner.cpp:70:73:   required from 'GapsResult chooseSampler(const DataType&, GapsParameters&, const DataType&, GapsRandomState*) [with DataModel = DenseNormalModel; DataType = std::__cxx11::basic_string<char>]'
GapsRunner.cpp:88:43:   required from 'GapsResult chooseDataModel(const DataType&, GapsParameters&, const DataType&, GapsRandomState*) [with DataType = std::__cxx11::basic_string<char>]'
GapsRunner.cpp:104:27:   required from 'GapsResult run_helper(const DataType&, GapsParameters&, const DataType&, GapsRandomState*) [with DataType = std::__cxx11::basic_string<char>]'
GapsRunner.cpp:119:59:   required from here
GapsRunner.cpp:430:5: warning: enumeration value 'GAPS_ALL_PHASES' not handled in switch [-Wswitch]
GapsRunner.cpp: In instantiation of 'GapsResult runCoGAPSAlgorithm(const DataType&, GapsParameters&, const DataType&, GapsRandomState*) [with Sampler = SingleThreadedGibbsSampler<DenseNormalModel>; DataType = std::__cxx11::basic_string<char>]':
GapsRunner.cpp:74:71:   required from 'GapsResult chooseSampler(const DataType&, GapsParameters&, const DataType&, GapsRandomState*) [with DataModel = DenseNormalModel; DataType = std::__cxx11::basic_string<char>]'
GapsRunner.cpp:88:43:   required from 'GapsResult chooseDataModel(const DataType&, GapsParameters&, const DataType&, GapsRandomState*) [with DataType = std::__cxx11::basic_string<char>]'
GapsRunner.cpp:104:27:   required from 'GapsResult run_helper(const DataType&, GapsParameters&, const DataType&, GapsRandomState*) [with DataType = std::__cxx11::basic_string<char>]'
GapsRunner.cpp:119:59:   required from here
GapsRunner.cpp:430:5: warning: enumeration value 'GAPS_ALL_PHASES' not handled in switch [-Wswitch]
g++ -std=gnu++11  -I"F:/biocbuild/bbs-3.16-bioc/R/include" -DNDEBUG -DBOOST_MATH_PROMOTE_DOUBLE_POLICY=0 -D__GAPS_R_BUILD__ -Iinclude -DGAPS_DISABLE_CHECKPOINTS -I'F:/biocbuild/bbs-3.16-bioc/R/library/Rcpp/include' -I'F:/biocbuild/bbs-3.16-bioc/R/library/BH/include'   -I"C:/rtools42/x86_64-w64-mingw32.static.posix/include"     -O2 -Wall  -mfpmath=sse -msse2 -mstackrealign  -c GapsStatistics.cpp -o GapsStatistics.o
g++ -std=gnu++11  -I"F:/biocbuild/bbs-3.16-bioc/R/include" -DNDEBUG -DBOOST_MATH_PROMOTE_DOUBLE_POLICY=0 -D__GAPS_R_BUILD__ -Iinclude -DGAPS_DISABLE_CHECKPOINTS -I'F:/biocbuild/bbs-3.16-bioc/R/library/Rcpp/include' -I'F:/biocbuild/bbs-3.16-bioc/R/library/BH/include'   -I"C:/rtools42/x86_64-w64-mingw32.static.posix/include"     -O2 -Wall  -mfpmath=sse -msse2 -mstackrealign  -c RcppExports.cpp -o RcppExports.o
g++ -std=gnu++11  -I"F:/biocbuild/bbs-3.16-bioc/R/include" -DNDEBUG -DBOOST_MATH_PROMOTE_DOUBLE_POLICY=0 -D__GAPS_R_BUILD__ -Iinclude -DGAPS_DISABLE_CHECKPOINTS -I'F:/biocbuild/bbs-3.16-bioc/R/library/Rcpp/include' -I'F:/biocbuild/bbs-3.16-bioc/R/library/BH/include'   -I"C:/rtools42/x86_64-w64-mingw32.static.posix/include"     -O2 -Wall  -mfpmath=sse -msse2 -mstackrealign  -c test-runner.cpp -o test-runner.o
g++ -std=gnu++11  -I"F:/biocbuild/bbs-3.16-bioc/R/include" -DNDEBUG -DBOOST_MATH_PROMOTE_DOUBLE_POLICY=0 -D__GAPS_R_BUILD__ -Iinclude -DGAPS_DISABLE_CHECKPOINTS -I'F:/biocbuild/bbs-3.16-bioc/R/library/Rcpp/include' -I'F:/biocbuild/bbs-3.16-bioc/R/library/BH/include'   -I"C:/rtools42/x86_64-w64-mingw32.static.posix/include"     -O2 -Wall  -mfpmath=sse -msse2 -mstackrealign  -c atomic/Atom.cpp -o atomic/Atom.o
g++ -std=gnu++11  -I"F:/biocbuild/bbs-3.16-bioc/R/include" -DNDEBUG -DBOOST_MATH_PROMOTE_DOUBLE_POLICY=0 -D__GAPS_R_BUILD__ -Iinclude -DGAPS_DISABLE_CHECKPOINTS -I'F:/biocbuild/bbs-3.16-bioc/R/library/Rcpp/include' -I'F:/biocbuild/bbs-3.16-bioc/R/library/BH/include'   -I"C:/rtools42/x86_64-w64-mingw32.static.posix/include"     -O2 -Wall  -mfpmath=sse -msse2 -mstackrealign  -c atomic/ConcurrentAtom.cpp -o atomic/ConcurrentAtom.o
g++ -std=gnu++11  -I"F:/biocbuild/bbs-3.16-bioc/R/include" -DNDEBUG -DBOOST_MATH_PROMOTE_DOUBLE_POLICY=0 -D__GAPS_R_BUILD__ -Iinclude -DGAPS_DISABLE_CHECKPOINTS -I'F:/biocbuild/bbs-3.16-bioc/R/library/Rcpp/include' -I'F:/biocbuild/bbs-3.16-bioc/R/library/BH/include'   -I"C:/rtools42/x86_64-w64-mingw32.static.posix/include"     -O2 -Wall  -mfpmath=sse -msse2 -mstackrealign  -c atomic/AtomicDomain.cpp -o atomic/AtomicDomain.o
g++ -std=gnu++11  -I"F:/biocbuild/bbs-3.16-bioc/R/include" -DNDEBUG -DBOOST_MATH_PROMOTE_DOUBLE_POLICY=0 -D__GAPS_R_BUILD__ -Iinclude -DGAPS_DISABLE_CHECKPOINTS -I'F:/biocbuild/bbs-3.16-bioc/R/library/Rcpp/include' -I'F:/biocbuild/bbs-3.16-bioc/R/library/BH/include'   -I"C:/rtools42/x86_64-w64-mingw32.static.posix/include"     -O2 -Wall  -mfpmath=sse -msse2 -mstackrealign  -c atomic/ConcurrentAtomicDomain.cpp -o atomic/ConcurrentAtomicDomain.o
atomic/ConcurrentAtomicDomain.cpp:64: warning: ignoring '#pragma omp critical' [-Wunknown-pragmas]
   64 |     #pragma omp critical(AtomicInsertOrErase)
      | 
g++ -std=gnu++11  -I"F:/biocbuild/bbs-3.16-bioc/R/include" -DNDEBUG -DBOOST_MATH_PROMOTE_DOUBLE_POLICY=0 -D__GAPS_R_BUILD__ -Iinclude -DGAPS_DISABLE_CHECKPOINTS -I'F:/biocbuild/bbs-3.16-bioc/R/library/Rcpp/include' -I'F:/biocbuild/bbs-3.16-bioc/R/library/BH/include'   -I"C:/rtools42/x86_64-w64-mingw32.static.posix/include"     -O2 -Wall  -mfpmath=sse -msse2 -mstackrealign  -c atomic/ProposalQueue.cpp -o atomic/ProposalQueue.o
atomic/ProposalQueue.cpp:101: warning: ignoring '#pragma omp atomic' [-Wunknown-pragmas]
  101 |     #pragma omp atomic
      | 
atomic/ProposalQueue.cpp:107: warning: ignoring '#pragma omp atomic' [-Wunknown-pragmas]
  107 |     #pragma omp atomic
      | 
atomic/ProposalQueue.cpp:113: warning: ignoring '#pragma omp atomic' [-Wunknown-pragmas]
  113 |     #pragma omp atomic
      | 
atomic/ProposalQueue.cpp:119: warning: ignoring '#pragma omp atomic' [-Wunknown-pragmas]
  119 |     #pragma omp atomic
      | 
g++ -std=gnu++11  -I"F:/biocbuild/bbs-3.16-bioc/R/include" -DNDEBUG -DBOOST_MATH_PROMOTE_DOUBLE_POLICY=0 -D__GAPS_R_BUILD__ -Iinclude -DGAPS_DISABLE_CHECKPOINTS -I'F:/biocbuild/bbs-3.16-bioc/R/library/Rcpp/include' -I'F:/biocbuild/bbs-3.16-bioc/R/library/BH/include'   -I"C:/rtools42/x86_64-w64-mingw32.static.posix/include"     -O2 -Wall  -mfpmath=sse -msse2 -mstackrealign  -c data_structures/HashSets.cpp -o data_structures/HashSets.o
g++ -std=gnu++11  -I"F:/biocbuild/bbs-3.16-bioc/R/include" -DNDEBUG -DBOOST_MATH_PROMOTE_DOUBLE_POLICY=0 -D__GAPS_R_BUILD__ -Iinclude -DGAPS_DISABLE_CHECKPOINTS -I'F:/biocbuild/bbs-3.16-bioc/R/library/Rcpp/include' -I'F:/biocbuild/bbs-3.16-bioc/R/library/BH/include'   -I"C:/rtools42/x86_64-w64-mingw32.static.posix/include"     -O2 -Wall  -mfpmath=sse -msse2 -mstackrealign  -c data_structures/HybridMatrix.cpp -o data_structures/HybridMatrix.o
g++ -std=gnu++11  -I"F:/biocbuild/bbs-3.16-bioc/R/include" -DNDEBUG -DBOOST_MATH_PROMOTE_DOUBLE_POLICY=0 -D__GAPS_R_BUILD__ -Iinclude -DGAPS_DISABLE_CHECKPOINTS -I'F:/biocbuild/bbs-3.16-bioc/R/library/Rcpp/include' -I'F:/biocbuild/bbs-3.16-bioc/R/library/BH/include'   -I"C:/rtools42/x86_64-w64-mingw32.static.posix/include"     -O2 -Wall  -mfpmath=sse -msse2 -mstackrealign  -c data_structures/HybridVector.cpp -o data_structures/HybridVector.o
data_structures/HybridVector.cpp:60: warning: ignoring '#pragma omp atomic' [-Wunknown-pragmas]
   60 |         #pragma omp atomic
      | 
data_structures/HybridVector.cpp:65: warning: ignoring '#pragma omp atomic' [-Wunknown-pragmas]
   65 |     #pragma omp atomic
      | 
data_structures/HybridVector.cpp:77: warning: ignoring '#pragma omp atomic' [-Wunknown-pragmas]
   77 |         #pragma omp atomic
      | 
data_structures/HybridVector.cpp:82: warning: ignoring '#pragma omp atomic' [-Wunknown-pragmas]
   82 |     #pragma omp atomic
      | 
g++ -std=gnu++11  -I"F:/biocbuild/bbs-3.16-bioc/R/include" -DNDEBUG -DBOOST_MATH_PROMOTE_DOUBLE_POLICY=0 -D__GAPS_R_BUILD__ -Iinclude -DGAPS_DISABLE_CHECKPOINTS -I'F:/biocbuild/bbs-3.16-bioc/R/library/Rcpp/include' -I'F:/biocbuild/bbs-3.16-bioc/R/library/BH/include'   -I"C:/rtools42/x86_64-w64-mingw32.static.posix/include"     -O2 -Wall  -mfpmath=sse -msse2 -mstackrealign  -c data_structures/Matrix.cpp -o data_structures/Matrix.o
g++ -std=gnu++11  -I"F:/biocbuild/bbs-3.16-bioc/R/include" -DNDEBUG -DBOOST_MATH_PROMOTE_DOUBLE_POLICY=0 -D__GAPS_R_BUILD__ -Iinclude -DGAPS_DISABLE_CHECKPOINTS -I'F:/biocbuild/bbs-3.16-bioc/R/library/Rcpp/include' -I'F:/biocbuild/bbs-3.16-bioc/R/library/BH/include'   -I"C:/rtools42/x86_64-w64-mingw32.static.posix/include"     -O2 -Wall  -mfpmath=sse -msse2 -mstackrealign  -c data_structures/SparseIterator.cpp -o data_structures/SparseIterator.o
g++ -std=gnu++11  -I"F:/biocbuild/bbs-3.16-bioc/R/include" -DNDEBUG -DBOOST_MATH_PROMOTE_DOUBLE_POLICY=0 -D__GAPS_R_BUILD__ -Iinclude -DGAPS_DISABLE_CHECKPOINTS -I'F:/biocbuild/bbs-3.16-bioc/R/library/Rcpp/include' -I'F:/biocbuild/bbs-3.16-bioc/R/library/BH/include'   -I"C:/rtools42/x86_64-w64-mingw32.static.posix/include"     -O2 -Wall  -mfpmath=sse -msse2 -mstackrealign  -c data_structures/SparseMatrix.cpp -o data_structures/SparseMatrix.o
g++ -std=gnu++11  -I"F:/biocbuild/bbs-3.16-bioc/R/include" -DNDEBUG -DBOOST_MATH_PROMOTE_DOUBLE_POLICY=0 -D__GAPS_R_BUILD__ -Iinclude -DGAPS_DISABLE_CHECKPOINTS -I'F:/biocbuild/bbs-3.16-bioc/R/library/Rcpp/include' -I'F:/biocbuild/bbs-3.16-bioc/R/library/BH/include'   -I"C:/rtools42/x86_64-w64-mingw32.static.posix/include"     -O2 -Wall  -mfpmath=sse -msse2 -mstackrealign  -c data_structures/SparseVector.cpp -o data_structures/SparseVector.o
g++ -std=gnu++11  -I"F:/biocbuild/bbs-3.16-bioc/R/include" -DNDEBUG -DBOOST_MATH_PROMOTE_DOUBLE_POLICY=0 -D__GAPS_R_BUILD__ -Iinclude -DGAPS_DISABLE_CHECKPOINTS -I'F:/biocbuild/bbs-3.16-bioc/R/library/Rcpp/include' -I'F:/biocbuild/bbs-3.16-bioc/R/library/BH/include'   -I"C:/rtools42/x86_64-w64-mingw32.static.posix/include"     -O2 -Wall  -mfpmath=sse -msse2 -mstackrealign  -c data_structures/Vector.cpp -o data_structures/Vector.o
g++ -std=gnu++11  -I"F:/biocbuild/bbs-3.16-bioc/R/include" -DNDEBUG -DBOOST_MATH_PROMOTE_DOUBLE_POLICY=0 -D__GAPS_R_BUILD__ -Iinclude -DGAPS_DISABLE_CHECKPOINTS -I'F:/biocbuild/bbs-3.16-bioc/R/library/Rcpp/include' -I'F:/biocbuild/bbs-3.16-bioc/R/library/BH/include'   -I"C:/rtools42/x86_64-w64-mingw32.static.posix/include"     -O2 -Wall  -mfpmath=sse -msse2 -mstackrealign  -c file_parser/CharacterDelimitedParser.cpp -o file_parser/CharacterDelimitedParser.o
g++ -std=gnu++11  -I"F:/biocbuild/bbs-3.16-bioc/R/include" -DNDEBUG -DBOOST_MATH_PROMOTE_DOUBLE_POLICY=0 -D__GAPS_R_BUILD__ -Iinclude -DGAPS_DISABLE_CHECKPOINTS -I'F:/biocbuild/bbs-3.16-bioc/R/library/Rcpp/include' -I'F:/biocbuild/bbs-3.16-bioc/R/library/BH/include'   -I"C:/rtools42/x86_64-w64-mingw32.static.posix/include"     -O2 -Wall  -mfpmath=sse -msse2 -mstackrealign  -c file_parser/FileParser.cpp -o file_parser/FileParser.o
g++ -std=gnu++11  -I"F:/biocbuild/bbs-3.16-bioc/R/include" -DNDEBUG -DBOOST_MATH_PROMOTE_DOUBLE_POLICY=0 -D__GAPS_R_BUILD__ -Iinclude -DGAPS_DISABLE_CHECKPOINTS -I'F:/biocbuild/bbs-3.16-bioc/R/library/Rcpp/include' -I'F:/biocbuild/bbs-3.16-bioc/R/library/BH/include'   -I"C:/rtools42/x86_64-w64-mingw32.static.posix/include"     -O2 -Wall  -mfpmath=sse -msse2 -mstackrealign  -c file_parser/MatrixElement.cpp -o file_parser/MatrixElement.o
g++ -std=gnu++11  -I"F:/biocbuild/bbs-3.16-bioc/R/include" -DNDEBUG -DBOOST_MATH_PROMOTE_DOUBLE_POLICY=0 -D__GAPS_R_BUILD__ -Iinclude -DGAPS_DISABLE_CHECKPOINTS -I'F:/biocbuild/bbs-3.16-bioc/R/library/Rcpp/include' -I'F:/biocbuild/bbs-3.16-bioc/R/library/BH/include'   -I"C:/rtools42/x86_64-w64-mingw32.static.posix/include"     -O2 -Wall  -mfpmath=sse -msse2 -mstackrealign  -c file_parser/MtxParser.cpp -o file_parser/MtxParser.o
g++ -std=gnu++11  -I"F:/biocbuild/bbs-3.16-bioc/R/include" -DNDEBUG -DBOOST_MATH_PROMOTE_DOUBLE_POLICY=0 -D__GAPS_R_BUILD__ -Iinclude -DGAPS_DISABLE_CHECKPOINTS -I'F:/biocbuild/bbs-3.16-bioc/R/library/Rcpp/include' -I'F:/biocbuild/bbs-3.16-bioc/R/library/BH/include'   -I"C:/rtools42/x86_64-w64-mingw32.static.posix/include"     -O2 -Wall  -mfpmath=sse -msse2 -mstackrealign  -c gibbs_sampler/AlphaParameters.cpp -o gibbs_sampler/AlphaParameters.o
g++ -std=gnu++11  -I"F:/biocbuild/bbs-3.16-bioc/R/include" -DNDEBUG -DBOOST_MATH_PROMOTE_DOUBLE_POLICY=0 -D__GAPS_R_BUILD__ -Iinclude -DGAPS_DISABLE_CHECKPOINTS -I'F:/biocbuild/bbs-3.16-bioc/R/library/Rcpp/include' -I'F:/biocbuild/bbs-3.16-bioc/R/library/BH/include'   -I"C:/rtools42/x86_64-w64-mingw32.static.posix/include"     -O2 -Wall  -mfpmath=sse -msse2 -mstackrealign  -c gibbs_sampler/DenseNormalModel.cpp -o gibbs_sampler/DenseNormalModel.o
gibbs_sampler/DenseNormalModel.cpp:26: warning: ignoring '#pragma omp parallel' [-Wunknown-pragmas]
   26 |     #pragma omp parallel for num_threads(nThreads)
      | 
g++ -std=gnu++11  -I"F:/biocbuild/bbs-3.16-bioc/R/include" -DNDEBUG -DBOOST_MATH_PROMOTE_DOUBLE_POLICY=0 -D__GAPS_R_BUILD__ -Iinclude -DGAPS_DISABLE_CHECKPOINTS -I'F:/biocbuild/bbs-3.16-bioc/R/library/Rcpp/include' -I'F:/biocbuild/bbs-3.16-bioc/R/library/BH/include'   -I"C:/rtools42/x86_64-w64-mingw32.static.posix/include"     -O2 -Wall  -mfpmath=sse -msse2 -mstackrealign  -c gibbs_sampler/SparseNormalModel.cpp -o gibbs_sampler/SparseNormalModel.o
g++ -std=gnu++11  -I"F:/biocbuild/bbs-3.16-bioc/R/include" -DNDEBUG -DBOOST_MATH_PROMOTE_DOUBLE_POLICY=0 -D__GAPS_R_BUILD__ -Iinclude -DGAPS_DISABLE_CHECKPOINTS -I'F:/biocbuild/bbs-3.16-bioc/R/library/Rcpp/include' -I'F:/biocbuild/bbs-3.16-bioc/R/library/BH/include'   -I"C:/rtools42/x86_64-w64-mingw32.static.posix/include"     -O2 -Wall  -mfpmath=sse -msse2 -mstackrealign  -c math/Math.cpp -o math/Math.o
In file included from F:/biocbuild/bbs-3.16-bioc/R/library/BH/include/boost/mpl/aux_/na_assert.hpp:23,
                 from F:/biocbuild/bbs-3.16-bioc/R/library/BH/include/boost/mpl/arg.hpp:25,
                 from F:/biocbuild/bbs-3.16-bioc/R/library/BH/include/boost/mpl/placeholders.hpp:24,
                 from F:/biocbuild/bbs-3.16-bioc/R/library/BH/include/boost/iterator/iterator_categories.hpp:16,
                 from F:/biocbuild/bbs-3.16-bioc/R/library/BH/include/boost/iterator/iterator_facade.hpp:13,
                 from F:/biocbuild/bbs-3.16-bioc/R/library/BH/include/boost/range/iterator_range_core.hpp:27,
                 from F:/biocbuild/bbs-3.16-bioc/R/library/BH/include/boost/lexical_cast.hpp:30,
                 from F:/biocbuild/bbs-3.16-bioc/R/library/BH/include/boost/math/tools/lexical_cast.hpp:12,
                 from F:/biocbuild/bbs-3.16-bioc/R/library/BH/include/boost/math/tools/convert_from_string.hpp:14,
                 from F:/biocbuild/bbs-3.16-bioc/R/library/BH/include/boost/math/constants/constants.hpp:14,
                 from F:/biocbuild/bbs-3.16-bioc/R/library/BH/include/boost/math/distributions/exponential.hpp:10,
                 from math/Math.cpp:4:
F:/biocbuild/bbs-3.16-bioc/R/library/BH/include/boost/mpl/assert.hpp:194:21: warning: unnecessary parentheses in declaration of 'assert_arg' [-Wparentheses]
  194 | failed ************ (Pred::************
      |                     ^
F:/biocbuild/bbs-3.16-bioc/R/library/BH/include/boost/mpl/assert.hpp:199:21: warning: unnecessary parentheses in declaration of 'assert_not_arg' [-Wparentheses]
  199 | failed ************ (boost::mpl::not_<Pred>::************
      |                     ^
g++ -std=gnu++11  -I"F:/biocbuild/bbs-3.16-bioc/R/include" -DNDEBUG -DBOOST_MATH_PROMOTE_DOUBLE_POLICY=0 -D__GAPS_R_BUILD__ -Iinclude -DGAPS_DISABLE_CHECKPOINTS -I'F:/biocbuild/bbs-3.16-bioc/R/library/Rcpp/include' -I'F:/biocbuild/bbs-3.16-bioc/R/library/BH/include'   -I"C:/rtools42/x86_64-w64-mingw32.static.posix/include"     -O2 -Wall  -mfpmath=sse -msse2 -mstackrealign  -c math/MatrixMath.cpp -o math/MatrixMath.o
g++ -std=gnu++11  -I"F:/biocbuild/bbs-3.16-bioc/R/include" -DNDEBUG -DBOOST_MATH_PROMOTE_DOUBLE_POLICY=0 -D__GAPS_R_BUILD__ -Iinclude -DGAPS_DISABLE_CHECKPOINTS -I'F:/biocbuild/bbs-3.16-bioc/R/library/Rcpp/include' -I'F:/biocbuild/bbs-3.16-bioc/R/library/BH/include'   -I"C:/rtools42/x86_64-w64-mingw32.static.posix/include"     -O2 -Wall  -mfpmath=sse -msse2 -mstackrealign  -c math/Random.cpp -o math/Random.o
g++ -std=gnu++11  -I"F:/biocbuild/bbs-3.16-bioc/R/include" -DNDEBUG -DBOOST_MATH_PROMOTE_DOUBLE_POLICY=0 -D__GAPS_R_BUILD__ -Iinclude -DGAPS_DISABLE_CHECKPOINTS -I'F:/biocbuild/bbs-3.16-bioc/R/library/Rcpp/include' -I'F:/biocbuild/bbs-3.16-bioc/R/library/BH/include'   -I"C:/rtools42/x86_64-w64-mingw32.static.posix/include"     -O2 -Wall  -mfpmath=sse -msse2 -mstackrealign  -c math/VectorMath.cpp -o math/VectorMath.o
g++ -std=gnu++11 -shared -s -static-libgcc -o CoGAPS.dll tmp.def Cogaps.o GapsParameters.o GapsResult.o GapsRunner.o GapsStatistics.o RcppExports.o test-runner.o atomic/Atom.o atomic/ConcurrentAtom.o atomic/AtomicDomain.o atomic/ConcurrentAtomicDomain.o atomic/ProposalQueue.o data_structures/HashSets.o data_structures/HybridMatrix.o data_structures/HybridVector.o data_structures/Matrix.o data_structures/SparseIterator.o data_structures/SparseMatrix.o data_structures/SparseVector.o data_structures/Vector.o file_parser/CharacterDelimitedParser.o file_parser/FileParser.o file_parser/MatrixElement.o file_parser/MtxParser.o gibbs_sampler/AlphaParameters.o gibbs_sampler/DenseNormalModel.o gibbs_sampler/SparseNormalModel.o math/Math.o math/MatrixMath.o math/Random.o math/VectorMath.o -LC:/rtools42/x86_64-w64-mingw32.static.posix/lib/x64 -LC:/rtools42/x86_64-w64-mingw32.static.posix/lib -LF:/biocbuild/bbs-3.16-bioc/R/bin/x64 -lR
installing to F:/biocbuild/bbs-3.16-bioc/meat/CoGAPS.buildbin-libdir/00LOCK-CoGAPS/00new/CoGAPS/libs/x64
** R
** data
** inst
** byte-compile and prepare package for lazy loading
** help
*** installing help indices
** building package indices
** installing vignettes
** testing if installed package can be loaded from temporary location
** testing if installed package can be loaded from final location
** testing if installed package keeps a record of temporary installation path
* MD5 sums
packaged installation of 'CoGAPS' as CoGAPS_3.17.0.zip
* DONE (CoGAPS)
* installing to library 'F:/biocbuild/bbs-3.16-bioc/R/library'
package 'CoGAPS' successfully unpacked and MD5 sums checked