Back to Multiple platform build/check report for BioC 3.15
AB[C]DEFGHIJKLMNOPQRSTUVWXYZ

This page was generated on 2022-01-22 11:05:37 -0500 (Sat, 22 Jan 2022).

HostnameOSArch (*)R versionInstalled pkgs
nebbiolo1Linux (Ubuntu 20.04.4 LTS)x86_64R Under development (unstable) (2022-01-05 r81451) -- "Unsuffered Consequences" 4163
riesling1Windows Server 2019 Standardx64R Under development (unstable) (2021-11-21 r81221) -- "Unsuffered Consequences" 4058
palomino3Windows Server 2022 Datacenterx64R Under development (unstable) (2021-12-21 r81400 ucrt) -- "Unsuffered Consequences" 4000
merida1macOS 10.14.6 Mojavex86_64R Under development (unstable) (2022-01-05 r81451) -- "Unsuffered Consequences" 4117
Click on any hostname to see more info about the system (e.g. compilers)      (*) as reported by 'uname -p', except on Windows and Mac OS X

CHECK results for CoCiteStats on nebbiolo1


To the developers/maintainers of the CoCiteStats package:
- Please allow up to 24 hours (and sometimes 48 hours) for your latest push to git@git.bioconductor.org:packages/CoCiteStats.git to
reflect on this report. See How and When does the builder pull? When will my changes propagate? here for more information.
- Make sure to use the following settings in order to reproduce any error or warning you see on this page.

raw results

Package 361/2075HostnameOS / ArchINSTALLBUILDCHECKBUILD BIN
CoCiteStats 1.67.0  (landing page)
Bioconductor Package Maintainer
Snapshot Date: 2022-01-21 13:55:18 -0500 (Fri, 21 Jan 2022)
git_url: https://git.bioconductor.org/packages/CoCiteStats
git_branch: master
git_last_commit: 04646f2
git_last_commit_date: 2021-10-26 11:47:37 -0500 (Tue, 26 Oct 2021)
nebbiolo1Linux (Ubuntu 20.04.4 LTS) / x86_64  OK    OK    OK  UNNEEDED, same version is already published
riesling1Windows Server 2019 Standard / x64  OK    OK    NA    NA  
palomino3Windows Server 2022 Datacenter / x64  OK    OK    OK    OK  NO, package depends on 'AnnotationDbi' which is not available
merida1macOS 10.14.6 Mojave / x86_64  OK    OK    OK    OK  UNNEEDED, same version is already published

Summary

Package: CoCiteStats
Version: 1.67.0
Command: /home/biocbuild/bbs-3.15-bioc/R/bin/R CMD check --install=check:CoCiteStats.install-out.txt --library=/home/biocbuild/bbs-3.15-bioc/R/library --no-vignettes --timings CoCiteStats_1.67.0.tar.gz
StartedAt: 2022-01-21 18:42:12 -0500 (Fri, 21 Jan 2022)
EndedAt: 2022-01-21 18:45:47 -0500 (Fri, 21 Jan 2022)
EllapsedTime: 215.1 seconds
RetCode: 0
Status:   OK  
CheckDir: CoCiteStats.Rcheck
Warnings: 0

Command output

##############################################################################
##############################################################################
###
### Running command:
###
###   /home/biocbuild/bbs-3.15-bioc/R/bin/R CMD check --install=check:CoCiteStats.install-out.txt --library=/home/biocbuild/bbs-3.15-bioc/R/library --no-vignettes --timings CoCiteStats_1.67.0.tar.gz
###
##############################################################################
##############################################################################


* using log directory ‘/home/biocbuild/bbs-3.15-bioc/meat/CoCiteStats.Rcheck’
* using R Under development (unstable) (2022-01-05 r81451)
* using platform: x86_64-pc-linux-gnu (64-bit)
* using session charset: UTF-8
* using option ‘--no-vignettes’
* checking for file ‘CoCiteStats/DESCRIPTION’ ... OK
* this is package ‘CoCiteStats’ version ‘1.67.0’
* checking package namespace information ... OK
* checking package dependencies ... OK
* checking if this is a source package ... OK
* checking if there is a namespace ... OK
* checking for hidden files and directories ... OK
* checking for portable file names ... OK
* checking for sufficient/correct file permissions ... OK
* checking whether package ‘CoCiteStats’ can be installed ... OK
* checking installed package size ... OK
* checking package directory ... OK
* checking DESCRIPTION meta-information ... NOTE
Malformed Title field: should not end in a period.
* checking top-level files ... OK
* checking for left-over files ... OK
* checking index information ... OK
* checking package subdirectories ... OK
* checking R files for non-ASCII characters ... OK
* checking R files for syntax errors ... OK
* checking whether the package can be loaded ... OK
* checking whether the package can be loaded with stated dependencies ... OK
* checking whether the package can be unloaded cleanly ... OK
* checking whether the namespace can be loaded with stated dependencies ... OK
* checking whether the namespace can be unloaded cleanly ... OK
* checking dependencies in R code ... NOTE
Package in Depends field not imported from: ‘org.Hs.eg.db’
  These packages need to be imported from (in the NAMESPACE file)
  for when this namespace is loaded but not attached.
* checking S3 generic/method consistency ... OK
* checking replacement functions ... OK
* checking foreign function calls ... OK
* checking R code for possible problems ... NOTE
gene.geneslist.sig: no visible global function definition for ‘Lkeys’
gene.geneslist.sig: no visible binding for global variable
  ‘org.Hs.egPMID’
paperLen: no visible global function definition for ‘toTable’
paperLen: no visible binding for global variable ‘org.Hs.egPMID’
paperLen: no visible global function definition for ‘nhit’
paperLen: no visible global function definition for ‘revmap’
Undefined global functions or variables:
  Lkeys nhit org.Hs.egPMID revmap toTable
* checking Rd files ... NOTE
prepare_Rd: gene.geneslist.statistic.Rd:19-21: Dropping empty section \details
* checking Rd metadata ... OK
* checking Rd cross-references ... OK
* checking for missing documentation entries ... OK
* checking for code/documentation mismatches ... OK
* checking Rd \usage sections ... OK
* checking Rd contents ... OK
* checking for unstated dependencies in examples ... OK
* checking examples ... OK
Examples with CPU (user + system) or elapsed time > 5s
                           user system elapsed
gene.geneslist.sig       26.734  0.395  27.129
actorAdjTable            20.326  2.305  22.637
gene.gene.statistic      17.729  1.283  19.014
gene.geneslist.statistic 17.443  0.036  17.479
twTStats                 15.871  0.233  16.104
twowayTable              15.828  0.094  15.922
paperLen                 14.927  0.028  14.955
* checking PDF version of manual ... OK
* DONE

Status: 4 NOTEs
See
  ‘/home/biocbuild/bbs-3.15-bioc/meat/CoCiteStats.Rcheck/00check.log’
for details.



Installation output

CoCiteStats.Rcheck/00install.out

##############################################################################
##############################################################################
###
### Running command:
###
###   /home/biocbuild/bbs-3.15-bioc/R/bin/R CMD INSTALL CoCiteStats
###
##############################################################################
##############################################################################


* installing to library ‘/home/biocbuild/bbs-3.15-bioc/R/library’
* installing *source* package ‘CoCiteStats’ ...
** using staged installation
** R
** byte-compile and prepare package for lazy loading
** help
*** installing help indices
** building package indices
** testing if installed package can be loaded from temporary location
** testing if installed package can be loaded from final location
** testing if installed package keeps a record of temporary installation path
* DONE (CoCiteStats)

Tests output


Example timings

CoCiteStats.Rcheck/CoCiteStats-Ex.timings

nameusersystemelapsed
actorAdjTable20.326 2.30522.637
gene.gene.statistic17.729 1.28319.014
gene.geneslist.sig26.734 0.39527.129
gene.geneslist.statistic17.443 0.03617.479
paperLen14.927 0.02814.955
twTStats15.871 0.23316.104
twowayTable15.828 0.09415.922