Back to Multiple platform build/check report for BioC 3.17:   simplified   long
AB[C]DEFGHIJKLMNOPQRSTUVWXYZ

This page was generated on 2023-02-06 11:06:30 -0500 (Mon, 06 Feb 2023).

HostnameOSArch (*)R versionInstalled pkgs
nebbiolo1Linux (Ubuntu 22.04.1 LTS)x86_64R Under development (unstable) (2023-01-10 r83596) -- "Unsuffered Consequences" 4483
palomino3Windows Server 2022 Datacenterx64R Under development (unstable) (2023-01-10 r83596 ucrt) -- "Unsuffered Consequences" 4249
merida1macOS 10.14.6 Mojavex86_64R Under development (unstable) (2023-01-10 r83596) -- "Unsuffered Consequences" 4272
Click on any hostname to see more info about the system (e.g. compilers)      (*) as reported by 'uname -p', except on Windows and Mac OS X

CHECK results for CircSeqAlignTk on merida1


To the developers/maintainers of the CircSeqAlignTk package:
- Please allow up to 24 hours (and sometimes 48 hours) for your latest push to git@git.bioconductor.org:packages/CircSeqAlignTk.git to
reflect on this report. See How and When does the builder pull? When will my changes propagate? for more information.
- Make sure to use the following settings in order to reproduce any error or warning you see on this page.

raw results

Package 328/2164HostnameOS / ArchINSTALLBUILDCHECKBUILD BIN
CircSeqAlignTk 1.1.0  (landing page)
Jianqiang Sun
Snapshot Date: 2023-02-05 14:00:11 -0500 (Sun, 05 Feb 2023)
git_url: https://git.bioconductor.org/packages/CircSeqAlignTk
git_branch: master
git_last_commit: 4fad321
git_last_commit_date: 2022-11-01 11:27:37 -0500 (Tue, 01 Nov 2022)
nebbiolo1Linux (Ubuntu 22.04.1 LTS) / x86_64  OK    OK    OK  UNNEEDED, same version is already published
palomino3Windows Server 2022 Datacenter / x64  OK    OK    ERROR    OK  
merida1macOS 10.14.6 Mojave / x86_64  OK    OK    OK    OK  UNNEEDED, same version is already published

Summary

Package: CircSeqAlignTk
Version: 1.1.0
Command: /Library/Frameworks/R.framework/Resources/bin/R CMD check --install=check:CircSeqAlignTk.install-out.txt --library=/Library/Frameworks/R.framework/Resources/library --no-vignettes --timings CircSeqAlignTk_1.1.0.tar.gz
StartedAt: 2023-02-05 23:32:40 -0500 (Sun, 05 Feb 2023)
EndedAt: 2023-02-05 23:45:25 -0500 (Sun, 05 Feb 2023)
EllapsedTime: 764.9 seconds
RetCode: 0
Status:   OK  
CheckDir: CircSeqAlignTk.Rcheck
Warnings: 0

Command output

##############################################################################
##############################################################################
###
### Running command:
###
###   /Library/Frameworks/R.framework/Resources/bin/R CMD check --install=check:CircSeqAlignTk.install-out.txt --library=/Library/Frameworks/R.framework/Resources/library --no-vignettes --timings CircSeqAlignTk_1.1.0.tar.gz
###
##############################################################################
##############################################################################


* using log directory ‘/Users/biocbuild/bbs-3.17-bioc/meat/CircSeqAlignTk.Rcheck’
* using R Under development (unstable) (2023-01-10 r83596)
* using platform: x86_64-apple-darwin17.0 (64-bit)
* R was compiled by
    Apple clang version 12.0.0 (clang-1200.0.32.29)
    GNU Fortran (GCC) 8.2.0
* running under: macOS Mojave 10.14.6
* using session charset: UTF-8
* using option ‘--no-vignettes’
* checking for file ‘CircSeqAlignTk/DESCRIPTION’ ... OK
* checking extension type ... Package
* this is package ‘CircSeqAlignTk’ version ‘1.1.0’
* package encoding: UTF-8
* checking package namespace information ... OK
* checking package dependencies ... OK
* checking if this is a source package ... OK
* checking if there is a namespace ... OK
* checking for hidden files and directories ... OK
* checking for portable file names ... OK
* checking for sufficient/correct file permissions ... OK
* checking whether package ‘CircSeqAlignTk’ can be installed ... OK
* checking installed package size ... OK
* checking package directory ... OK
* checking ‘build’ directory ... OK
* checking DESCRIPTION meta-information ... OK
* checking top-level files ... OK
* checking for left-over files ... OK
* checking index information ... OK
* checking package subdirectories ... OK
* checking R files for non-ASCII characters ... OK
* checking R files for syntax errors ... OK
* checking whether the package can be loaded ... OK
* checking whether the package can be loaded with stated dependencies ... OK
* checking whether the package can be unloaded cleanly ... OK
* checking whether the namespace can be loaded with stated dependencies ... OK
* checking whether the namespace can be unloaded cleanly ... OK
* checking dependencies in R code ... OK
* checking S3 generic/method consistency ... OK
* checking replacement functions ... OK
* checking foreign function calls ... OK
* checking R code for possible problems ... OK
* checking Rd files ... OK
* checking Rd metadata ... OK
* checking Rd cross-references ... OK
* checking for missing documentation entries ... OK
* checking for code/documentation mismatches ... OK
* checking Rd \usage sections ... OK
* checking Rd contents ... OK
* checking for unstated dependencies in examples ... OK
* checking files in ‘vignettes’ ... OK
* checking examples ... OK
Examples with CPU (user + system) or elapsed time > 5s
                user system elapsed
plot_coverage  6.662  0.550   9.935
align_reads    6.443  0.587   9.539
calc_coverage  5.249  0.591   7.856
generate_reads 5.319  0.275   8.234
* checking for unstated dependencies in ‘tests’ ... OK
* checking tests ...
  Running ‘testthat.R’
 OK
* checking for unstated dependencies in vignettes ... OK
* checking package vignettes in ‘inst/doc’ ... OK
* checking running R code from vignettes ... SKIPPED
* checking re-building of vignette outputs ... SKIPPED
* checking PDF version of manual ... OK
* DONE

Status: OK


Installation output

CircSeqAlignTk.Rcheck/00install.out

##############################################################################
##############################################################################
###
### Running command:
###
###   /Library/Frameworks/R.framework/Resources/bin/R CMD INSTALL CircSeqAlignTk
###
##############################################################################
##############################################################################


* installing to library ‘/Library/Frameworks/R.framework/Versions/4.3/Resources/library’
* installing *source* package ‘CircSeqAlignTk’ ...
** using staged installation
** R
** inst
** byte-compile and prepare package for lazy loading
** help
*** installing help indices
** building package indices
** installing vignettes
** testing if installed package can be loaded from temporary location
** testing if installed package can be loaded from final location
** testing if installed package keeps a record of temporary installation path
* DONE (CircSeqAlignTk)

Tests output

CircSeqAlignTk.Rcheck/tests/testthat.Rout


R Under development (unstable) (2023-01-10 r83596) -- "Unsuffered Consequences"
Copyright (C) 2023 The R Foundation for Statistical Computing
Platform: x86_64-apple-darwin17.0 (64-bit)

R is free software and comes with ABSOLUTELY NO WARRANTY.
You are welcome to redistribute it under certain conditions.
Type 'license()' or 'licence()' for distribution details.

R is a collaborative project with many contributors.
Type 'contributors()' for more information and
'citation()' on how to cite R or R packages in publications.

Type 'demo()' for some demos, 'help()' for on-line help, or
'help.start()' for an HTML browser interface to help.
Type 'q()' to quit R.

> library('testthat')
> library('CircSeqAlignTk')
> test_check('CircSeqAlignTk')
Building a SMALL index
Building a SMALL index
29178 reads; of these:
  29178 (100.00%) were unpaired; of these:
    29012 (99.43%) aligned 0 times
    166 (0.57%) aligned exactly 1 time
    0 (0.00%) aligned >1 times
0.57% overall alignment rate
29012 reads; of these:
  29012 (100.00%) were unpaired; of these:
    28981 (99.89%) aligned 0 times
    31 (0.11%) aligned exactly 1 time
    0 (0.00%) aligned >1 times
0.11% overall alignment rate
29178 reads; of these:
  29178 (100.00%) were unpaired; of these:
    29012 (99.43%) aligned 0 times
    166 (0.57%) aligned exactly 1 time
    0 (0.00%) aligned >1 times
0.57% overall alignment rate
29012 reads; of these:
  29012 (100.00%) were unpaired; of these:
    28981 (99.89%) aligned 0 times
    31 (0.11%) aligned exactly 1 time
    0 (0.00%) aligned >1 times
0.11% overall alignment rate
Settings:
  Output files: "tmp_ht2index/refseq.t1.*.ht2"
  Line rate: 6 (line is 64 bytes)
  Lines per side: 1 (side is 64 bytes)
  Offset rate: 4 (one in 16)
  FTable chars: 10
  Strings: unpacked
  Local offset rate: 3 (one in 8)
  Local fTable chars: 6
  Local sequence length: 57344
  Local sequence overlap between two consecutive indexes: 1024
  Endianness: little
  Actual local endianness: little
  Sanity checking: disabled
  Assertions: disabled
  Random seed: 0
  Sizeofs: void*:8, int:4, long:8, size_t:8
Input files DNA, FASTA:
  tmp_ht2index/refseq.t1.fa
Reading reference sizes
  Time reading reference sizes: 00:00:00
Calculating joined length
Writing header
Reserving space for joined string
Joining reference sequences
  Time to join reference sequences: 00:00:00
  Time to read SNPs and splice sites: 00:00:00
Using parameters --bmax 68 --dcv 1024
  Doing ahead-of-time memory usage test
  Passed!  Constructing with these parameters: --bmax 68 --dcv 1024
Constructing suffix-array element generator
Converting suffix-array elements to index image
Allocating ftab, absorbFtab
Entering GFM loop
Exited GFM loop
fchr[A]: 0
fchr[C]: 70
fchr[G]: 180
fchr[T]: 281
fchr[$]: 361
Exiting GFM::buildToDisk()
Returning from initFromVector
Wrote 4194625 bytes to primary GFM file: tmp_ht2index/refseq.t1.1.ht2
Wrote 96 bytes to secondary GFM file: tmp_ht2index/refseq.t1.2.ht2
Re-opening _in1 and _in2 as input streams
Returning from GFM constructor
Returning from initFromVector
Wrote 8421 bytes to primary GFM file: tmp_ht2index/refseq.t1.5.ht2
Wrote 96 bytes to secondary GFM file: tmp_ht2index/refseq.t1.6.ht2
Re-opening _in5 and _in5 as input streams
Returning from HGFM constructor
Headers:
    len: 361
    gbwtLen: 362
    nodes: 362
    sz: 91
    gbwtSz: 91
    lineRate: 6
    offRate: 4
    offMask: 0xfffffff0
    ftabChars: 10
    eftabLen: 0
    eftabSz: 0
    ftabLen: 1048577
    ftabSz: 4194308
    offsLen: 23
    offsSz: 92
    lineSz: 64
    sideSz: 64
    sideGbwtSz: 48
    sideGbwtLen: 192
    numSides: 2
    numLines: 2
    gbwtTotLen: 128
    gbwtTotSz: 128
    reverse: 0
    linearFM: Yes
Total time for call to driver() for forward index: 00:00:00
Settings:
  Output files: "tmp_ht2index/refseq.t2.*.ht2"
  Line rate: 6 (line is 64 bytes)
  Lines per side: 1 (side is 64 bytes)
  Offset rate: 4 (one in 16)
  FTable chars: 10
  Strings: unpacked
  Local offset rate: 3 (one in 8)
  Local fTable chars: 6
  Local sequence length: 57344
  Local sequence overlap between two consecutive indexes: 1024
  Endianness: little
  Actual local endianness: little
  Sanity checking: disabled
  Assertions: disabled
  Random seed: 0
  Sizeofs: void*:8, int:4, long:8, size_t:8
Input files DNA, FASTA:
  tmp_ht2index/refseq.t2.fa
Reading reference sizes
  Time reading reference sizes: 00:00:00
Calculating joined length
Writing header
Reserving space for joined string
Joining reference sequences
  Time to join reference sequences: 00:00:00
  Time to read SNPs and splice sites: 00:00:00
Using parameters --bmax 68 --dcv 1024
  Doing ahead-of-time memory usage test
  Passed!  Constructing with these parameters: --bmax 68 --dcv 1024
Constructing suffix-array element generator
Converting suffix-array elements to index image
Allocating ftab, absorbFtab
Entering GFM loop
Exited GFM loop
fchr[A]: 0
fchr[C]: 70
fchr[G]: 180
fchr[T]: 281
fchr[$]: 361
Exiting GFM::buildToDisk()
Returning from initFromVector
Wrote 4194625 bytes to primary GFM file: tmp_ht2index/refseq.t2.1.ht2
Wrote 96 bytes to secondary GFM file: tmp_ht2index/refseq.t2.2.ht2
Re-opening _in1 and _in2 as input streams
Returning from GFM constructor
Returning from initFromVector
Wrote 8421 bytes to primary GFM file: tmp_ht2index/refseq.t2.5.ht2
Wrote 96 bytes to secondary GFM file: tmp_ht2index/refseq.t2.6.ht2
Re-opening _in5 and _in5 as input streams
Returning from HGFM constructor
Headers:
    len: 361
    gbwtLen: 362
    nodes: 362
    sz: 91
    gbwtSz: 91
    lineRate: 6
    offRate: 4
    offMask: 0xfffffff0
    ftabChars: 10
    eftabLen: 0
    eftabSz: 0
    ftabLen: 1048577
    ftabSz: 4194308
    offsLen: 23
    offsSz: 92
    lineSz: 64
    sideSz: 64
    sideGbwtSz: 48
    sideGbwtLen: 192
    numSides: 2
    numLines: 2
    gbwtTotLen: 128
    gbwtTotSz: 128
    reverse: 0
    linearFM: Yes
Total time for call to driver() for forward index: 00:00:00
29178 reads; of these:
  29178 (100.00%) were unpaired; of these:
    29007 (99.41%) aligned 0 times
    171 (0.59%) aligned exactly 1 time
    0 (0.00%) aligned >1 times
0.59% overall alignment rate
29007 reads; of these:
  29007 (100.00%) were unpaired; of these:
    28978 (99.90%) aligned 0 times
    29 (0.10%) aligned exactly 1 time
    0 (0.00%) aligned >1 times
0.10% overall alignment rate
29178 reads; of these:
  29178 (100.00%) were unpaired; of these:
    29007 (99.41%) aligned 0 times
    171 (0.59%) aligned exactly 1 time
    0 (0.00%) aligned >1 times
0.59% overall alignment rate
29007 reads; of these:
  29007 (100.00%) were unpaired; of these:
    28978 (99.90%) aligned 0 times
    29 (0.10%) aligned exactly 1 time
    0 (0.00%) aligned >1 times
0.10% overall alignment rate
Building a SMALL index
Building a SMALL index
10000 reads; of these:
  10000 (100.00%) were unpaired; of these:
    0 (0.00%) aligned 0 times
    10000 (100.00%) aligned exactly 1 time
    0 (0.00%) aligned >1 times
100.00% overall alignment rate
0 reads
0.00% overall alignment rate
Building a SMALL index
Building a SMALL index
10000 reads; of these:
  10000 (100.00%) were unpaired; of these:
    6982 (69.82%) aligned 0 times
    3018 (30.18%) aligned exactly 1 time
    0 (0.00%) aligned >1 times
30.18% overall alignment rate
6982 reads; of these:
  6982 (100.00%) were unpaired; of these:
    0 (0.00%) aligned 0 times
    6982 (100.00%) aligned exactly 1 time
    0 (0.00%) aligned >1 times
100.00% overall alignment rate
Building a SMALL index
Building a SMALL index
10000 reads; of these:
  10000 (100.00%) were unpaired; of these:
    839 (8.39%) aligned 0 times
    9161 (91.61%) aligned exactly 1 time
    0 (0.00%) aligned >1 times
91.61% overall alignment rate
839 reads; of these:
  839 (100.00%) were unpaired; of these:
    0 (0.00%) aligned 0 times
    839 (100.00%) aligned exactly 1 time
    0 (0.00%) aligned >1 times
100.00% overall alignment rate
10000 reads; of these:
  10000 (100.00%) were unpaired; of these:
    1846 (18.46%) aligned 0 times
    8154 (81.54%) aligned exactly 1 time
    0 (0.00%) aligned >1 times
81.54% overall alignment rate
1846 reads; of these:
  1846 (100.00%) were unpaired; of these:
    0 (0.00%) aligned 0 times
    1846 (100.00%) aligned exactly 1 time
    0 (0.00%) aligned >1 times
100.00% overall alignment rate
10000 reads; of these:
  10000 (100.00%) were unpaired; of these:
    0 (0.00%) aligned 0 times
    10000 (100.00%) aligned exactly 1 time
    0 (0.00%) aligned >1 times
100.00% overall alignment rate
0 reads
0.00% overall alignment rate
10000 reads; of these:
  10000 (100.00%) were unpaired; of these:
    14 (0.14%) aligned 0 times
    9986 (99.86%) aligned exactly 1 time
    0 (0.00%) aligned >1 times
99.86% overall alignment rate
14 reads; of these:
  14 (100.00%) were unpaired; of these:
    0 (0.00%) aligned 0 times
    14 (100.00%) aligned exactly 1 time
    0 (0.00%) aligned >1 times
100.00% overall alignment rate
10000 reads; of these:
  10000 (100.00%) were unpaired; of these:
    0 (0.00%) aligned 0 times
    10000 (100.00%) aligned exactly 1 time
    0 (0.00%) aligned >1 times
100.00% overall alignment rate
0 reads
0.00% overall alignment rate
10000 reads; of these:
  10000 (100.00%) were unpaired; of these:
    1041 (10.41%) aligned 0 times
    8959 (89.59%) aligned exactly 1 time
    0 (0.00%) aligned >1 times
89.59% overall alignment rate
1041 reads; of these:
  1041 (100.00%) were unpaired; of these:
    0 (0.00%) aligned 0 times
    1041 (100.00%) aligned exactly 1 time
    0 (0.00%) aligned >1 times
100.00% overall alignment rate
10000 reads; of these:
  10000 (100.00%) were unpaired; of these:
    0 (0.00%) aligned 0 times
    10000 (100.00%) aligned exactly 1 time
    0 (0.00%) aligned >1 times
100.00% overall alignment rate
0 reads
0.00% overall alignment rate
10000 reads; of these:
  10000 (100.00%) were unpaired; of these:
    204 (2.04%) aligned 0 times
    9796 (97.96%) aligned exactly 1 time
    0 (0.00%) aligned >1 times
97.96% overall alignment rate
204 reads; of these:
  204 (100.00%) were unpaired; of these:
    0 (0.00%) aligned 0 times
    204 (100.00%) aligned exactly 1 time
    0 (0.00%) aligned >1 times
100.00% overall alignment rate
10000 reads; of these:
  10000 (100.00%) were unpaired; of these:
    3269 (32.69%) aligned 0 times
    6731 (67.31%) aligned exactly 1 time
    0 (0.00%) aligned >1 times
67.31% overall alignment rate
3269 reads; of these:
  3269 (100.00%) were unpaired; of these:
    0 (0.00%) aligned 0 times
    3269 (100.00%) aligned exactly 1 time
    0 (0.00%) aligned >1 times
100.00% overall alignment rate
10000 reads; of these:
  10000 (100.00%) were unpaired; of these:
    0 (0.00%) aligned 0 times
    10000 (100.00%) aligned exactly 1 time
    0 (0.00%) aligned >1 times
100.00% overall alignment rate
0 reads
0.00% overall alignment rate
[ FAIL 0 | WARN 19 | SKIP 4 | PASS 2 ]

══ Skipped tests ═══════════════════════════════════════════════════════════════
• empty test (4)

[ FAIL 0 | WARN 19 | SKIP 4 | PASS 2 ]
> 
> proc.time()
   user  system elapsed 
 74.564   6.416 111.727 

Example timings

CircSeqAlignTk.Rcheck/CircSeqAlignTk-Ex.timings

nameusersystemelapsed
CircSeqAlignTk-package0.0040.0000.005
align_reads6.4430.5879.539
build_index0.4920.1820.753
calc_coverage5.2490.5917.856
filter_reads2.1360.0403.096
generate_reads5.3190.2758.234
get_slot_contents1.2540.0221.902
merge.CircSeqAlignTkSim1.5460.0352.379
plot_coverage6.6620.5509.935