Back to Multiple platform build/check report for BioC 3.19: simplified long |
|
This page was generated on 2024-04-29 11:37:48 -0400 (Mon, 29 Apr 2024).
Hostname | OS | Arch (*) | R version | Installed pkgs |
---|---|---|---|---|
nebbiolo1 | Linux (Ubuntu 22.04.3 LTS) | x86_64 | 4.4.0 beta (2024-04-15 r86425) -- "Puppy Cup" | 4752 |
palomino3 | Windows Server 2022 Datacenter | x64 | 4.4.0 beta (2024-04-15 r86425 ucrt) -- "Puppy Cup" | 4486 |
lconway | macOS 12.7.1 Monterey | x86_64 | 4.4.0 beta (2024-04-14 r86421) -- "Puppy Cup" | 4518 |
kunpeng2 | Linux (openEuler 22.03 LTS-SP1) | aarch64 | 4.4.0 beta (2024-04-15 r86425) -- "Puppy Cup" | 4475 |
Click on any hostname to see more info about the system (e.g. compilers) (*) as reported by 'uname -p', except on Windows and Mac OS X |
Package 274/2300 | Hostname | OS / Arch | INSTALL | BUILD | CHECK | BUILD BIN | ||||||||
CardinalIO 1.1.6 (landing page) Kylie Ariel Bemis
| nebbiolo1 | Linux (Ubuntu 22.04.3 LTS) / x86_64 | OK | OK | OK | |||||||||
palomino3 | Windows Server 2022 Datacenter / x64 | OK | OK | OK | OK | |||||||||
lconway | macOS 12.7.1 Monterey / x86_64 | OK | OK | OK | OK | |||||||||
kunpeng2 | Linux (openEuler 22.03 LTS-SP1) / aarch64 | OK | OK | OK | ||||||||||
kjohnson3 | macOS 13.6.5 Ventura / arm64 | see weekly results here | ||||||||||||
To the developers/maintainers of the CardinalIO package: - Allow up to 24 hours (and sometimes 48 hours) for your latest push to git@git.bioconductor.org:packages/CardinalIO.git to reflect on this report. See Troubleshooting Build Report for more information. - Use the following Renviron settings to reproduce errors and warnings. - If 'R CMD check' started to fail recently on the Linux builder(s) over a missing dependency, add the missing dependency to 'Suggests:' in your DESCRIPTION file. See Renviron.bioc for more information. |
Package: CardinalIO |
Version: 1.1.6 |
Command: chmod a+r CardinalIO -R && F:\biocbuild\bbs-3.19-bioc\R\bin\R.exe CMD build --keep-empty-dirs --no-resave-data CardinalIO |
StartedAt: 2024-04-28 17:37:31 -0400 (Sun, 28 Apr 2024) |
EndedAt: 2024-04-28 17:38:07 -0400 (Sun, 28 Apr 2024) |
EllapsedTime: 35.7 seconds |
RetCode: 0 |
Status: OK |
PackageFile: CardinalIO_1.1.6.tar.gz |
PackageFileSize: 933.9 KiB |
############################################################################## ############################################################################## ### ### Running command: ### ### chmod a+r CardinalIO -R && F:\biocbuild\bbs-3.19-bioc\R\bin\R.exe CMD build --keep-empty-dirs --no-resave-data CardinalIO ### ############################################################################## ############################################################################## * checking for file 'CardinalIO/DESCRIPTION' ... OK * preparing 'CardinalIO': * checking DESCRIPTION meta-information ... OK * cleaning src * installing the package to build vignettes * creating vignettes ... OK * cleaning src * checking for LF line-endings in source and make files and shell scripts * checking for empty or unneeded directories * building 'CardinalIO_1.1.6.tar.gz'