Back to Multiple platform build/check report for BioC 3.19: simplified long | |
This page was generated on 2024-05-01 11:35:49 -0400 (Wed, 01 May 2024).
Hostname | OS | Arch (*) | R version | Installed pkgs |
nebbiolo1 | Linux (Ubuntu 22.04.3 LTS) | x86_64 | 4.4.0 beta (2024-04-15 r86425) -- "Puppy Cup"
| 4753 |
lconway | macOS 12.7.1 Monterey | x86_64 | 4.4.0 beta (2024-04-14 r86421) -- "Puppy Cup"
| 4518 |
Click on any hostname to see more info about the system (e.g. compilers) (*) as reported by 'uname -p', except on Windows and Mac OS X |
| COMPASS 1.42.0 (landing page) Greg Finak
Snapshot Date: 2024-04-30 20:18:44 -0400 (Tue, 30 Apr 2024) |
git_url: https://git.bioconductor.org/packages/COMPASS |
git_branch: RELEASE_3_19 |
git_last_commit: b47dd43 |
git_last_commit_date: 2024-04-30 10:35:03 -0400 (Tue, 30 Apr 2024) |
| nebbiolo1 | Linux (Ubuntu 22.04.3 LTS) / x86_64 | OK | OK | OK | | | |
| lconway | macOS 12.7.1 Monterey / x86_64 | OK | OK | OK | OK | | |
| kjohnson3 | macOS 13.6.5 Ventura / arm64 | see weekly results here | |
BUILD results for COMPASS on nebbiolo1
To the developers/maintainers of the COMPASS package:
- Allow up to 24 hours (and sometimes 48 hours) for your latest push to git@git.bioconductor.org:packages/COMPASS.git to reflect on this report. See Troubleshooting Build Report for more information.
- Use the following Renviron settings to reproduce errors and warnings.
- If 'R CMD check' started to fail recently on the Linux builder(s) over a missing dependency, add the missing dependency to 'Suggests:' in your DESCRIPTION file. See Renviron.bioc for more information.
|
raw results
Summary
Command output