Back to Multiple platform build/check report for BioC 3.16 |
|
This page was generated on 2022-06-24 11:06:14 -0400 (Fri, 24 Jun 2022).
Hostname | OS | Arch (*) | R version | Installed pkgs |
---|---|---|---|---|
nebbiolo2 | Linux (Ubuntu 20.04.4 LTS) | x86_64 | 4.2.0 Patched (2022-06-02 r82447) -- "Vigorous Calisthenics" | 4331 |
palomino4 | Windows Server 2022 Datacenter | x64 | 4.2.0 Patched (2022-06-02 r82447 ucrt) -- "Vigorous Calisthenics" | 4136 |
lconway | macOS 12.2.1 Monterey | x86_64 | 4.2.0 Patched (2022-05-29 r82424) -- "Vigorous Calisthenics" | 4147 |
Click on any hostname to see more info about the system (e.g. compilers) (*) as reported by 'uname -p', except on Windows and Mac OS X |
To the developers/maintainers of the CHRONOS package: - Please allow up to 24 hours (and sometimes 48 hours) for your latest push to git@git.bioconductor.org:packages/CHRONOS.git to reflect on this report. See How and When does the builder pull? When will my changes propagate? for more information. - Make sure to use the following settings in order to reproduce any error or warning you see on this page. |
Package 321/2118 | Hostname | OS / Arch | INSTALL | BUILD | CHECK | BUILD BIN | ||||||||
CHRONOS 1.25.1 (landing page) Panos Balomenos
| nebbiolo2 | Linux (Ubuntu 20.04.4 LTS) / x86_64 | OK | OK | OK | ![]() | ||||||||
palomino4 | Windows Server 2022 Datacenter / x64 | OK | OK | OK | OK | ![]() | ||||||||
lconway | macOS 12.2.1 Monterey / x86_64 | OK | OK | OK | OK | ![]() | ||||||||
Package: CHRONOS |
Version: 1.25.1 |
Command: F:\biocbuild\bbs-3.16-bioc\R\bin\R.exe CMD check --force-multiarch --install=check:CHRONOS.install-out.txt --library=F:\biocbuild\bbs-3.16-bioc\R\library --no-vignettes --timings CHRONOS_1.25.1.tar.gz |
StartedAt: 2022-06-24 00:12:30 -0400 (Fri, 24 Jun 2022) |
EndedAt: 2022-06-24 00:15:06 -0400 (Fri, 24 Jun 2022) |
EllapsedTime: 155.5 seconds |
RetCode: 0 |
Status: OK |
CheckDir: CHRONOS.Rcheck |
Warnings: 0 |
############################################################################## ############################################################################## ### ### Running command: ### ### F:\biocbuild\bbs-3.16-bioc\R\bin\R.exe CMD check --force-multiarch --install=check:CHRONOS.install-out.txt --library=F:\biocbuild\bbs-3.16-bioc\R\library --no-vignettes --timings CHRONOS_1.25.1.tar.gz ### ############################################################################## ############################################################################## * using log directory 'F:/biocbuild/bbs-3.16-bioc/meat/CHRONOS.Rcheck' * using R version 4.2.0 Patched (2022-06-02 r82447 ucrt) * using platform: x86_64-w64-mingw32 (64-bit) * using session charset: UTF-8 * using option '--no-vignettes' * checking for file 'CHRONOS/DESCRIPTION' ... OK * this is package 'CHRONOS' version '1.25.1' * checking package namespace information ... OK * checking package dependencies ... OK * checking if this is a source package ... OK * checking if there is a namespace ... OK * checking for hidden files and directories ... OK * checking for portable file names ... OK * checking whether package 'CHRONOS' can be installed ... OK * checking installed package size ... OK * checking package directory ... OK * checking 'build' directory ... OK * checking DESCRIPTION meta-information ... OK * checking top-level files ... OK * checking for left-over files ... OK * checking index information ... OK * checking package subdirectories ... OK * checking R files for non-ASCII characters ... OK * checking R files for syntax errors ... OK * checking whether the package can be loaded ... OK * checking whether the package can be loaded with stated dependencies ... OK * checking whether the package can be unloaded cleanly ... OK * checking whether the namespace can be loaded with stated dependencies ... OK * checking whether the namespace can be unloaded cleanly ... OK * checking dependencies in R code ... OK * checking S3 generic/method consistency ... OK * checking replacement functions ... OK * checking foreign function calls ... OK * checking R code for possible problems ... OK * checking Rd files ... OK * checking Rd metadata ... OK * checking Rd cross-references ... OK * checking for missing documentation entries ... OK * checking for code/documentation mismatches ... OK * checking Rd \usage sections ... OK * checking Rd contents ... OK * checking for unstated dependencies in examples ... OK * checking sizes of PDF files under 'inst/doc' ... OK * checking files in 'vignettes' ... OK * checking examples ... OK * checking for unstated dependencies in 'tests' ... OK * checking tests ... Running 'runTests.R' OK * checking for unstated dependencies in vignettes ... OK * checking package vignettes in 'inst/doc' ... OK * checking running R code from vignettes ... SKIPPED * checking re-building of vignette outputs ... SKIPPED * checking PDF version of manual ... OK * DONE Status: OK
CHRONOS.Rcheck/00install.out
############################################################################## ############################################################################## ### ### Running command: ### ### C:\cygwin\bin\curl.exe -O http://155.52.207.166/BBS/3.16/bioc/src/contrib/CHRONOS_1.25.1.tar.gz && rm -rf CHRONOS.buildbin-libdir && mkdir CHRONOS.buildbin-libdir && F:\biocbuild\bbs-3.16-bioc\R\bin\R.exe CMD INSTALL --merge-multiarch --build --library=CHRONOS.buildbin-libdir CHRONOS_1.25.1.tar.gz && F:\biocbuild\bbs-3.16-bioc\R\bin\R.exe CMD INSTALL CHRONOS_1.25.1.zip && rm CHRONOS_1.25.1.tar.gz CHRONOS_1.25.1.zip ### ############################################################################## ############################################################################## % Total % Received % Xferd Average Speed Time Time Time Current Dload Upload Total Spent Left Speed 0 0 0 0 0 0 0 0 --:--:-- --:--:-- --:--:-- 0 100 930k 100 930k 0 0 6231k 0 --:--:-- --:--:-- --:--:-- 6288k only one architecture so ignoring '--merge-multiarch' * installing *source* package 'CHRONOS' ... ** using staged installation ** R ** inst ** byte-compile and prepare package for lazy loading ** help *** installing help indices ** building package indices ** installing vignettes ** testing if installed package can be loaded from temporary location ** testing if installed package can be loaded from final location ** testing if installed package keeps a record of temporary installation path * MD5 sums packaged installation of 'CHRONOS' as CHRONOS_1.25.1.zip * DONE (CHRONOS) * installing to library 'F:/biocbuild/bbs-3.16-bioc/R/library' package 'CHRONOS' successfully unpacked and MD5 sums checked
CHRONOS.Rcheck/tests/runTests.Rout
R version 4.2.0 Patched (2022-06-02 r82447 ucrt) -- "Vigorous Calisthenics" Copyright (C) 2022 The R Foundation for Statistical Computing Platform: x86_64-w64-mingw32/x64 (64-bit) R is free software and comes with ABSOLUTELY NO WARRANTY. You are welcome to redistribute it under certain conditions. Type 'license()' or 'licence()' for distribution details. R is a collaborative project with many contributors. Type 'contributors()' for more information and 'citation()' on how to cite R or R packages in publications. Type 'demo()' for some demos, 'help()' for on-line help, or 'help.start()' for an HTML browser interface to help. Type 'q()' to quit R. > BiocGenerics:::testPackage('CHRONOS') Testing test_CHRONOSrun...Importing entrezgene data...done. Importing miRNA data...done. Downloading files...done. Creating adjacency matrices...done. Extracting Linear Subpathways...done. #98 subpathways initially Calculating subscores...done. #21 subpathways after subscore. Calculating mirscores......end. Extracting Non Linear Subpathways...done. #24 subpathways initially Calculating subscores...done. #19 subpathways after subscore. Calculating mirscores......end. done. Testing test_pathwayToGraph...Creating adjacency matrices...done. done. Testing test_subExtractionLinear...Importing entrezgene data...done. Extracting Linear Subpathways...done. done. Testing test_subExtractionNonLinear...Importing entrezgene data...done. Extracting Non Linear Subpathways...done. done. Testing test_subRefinement...Importing entrezgene data...done. Importing miRNA data...done. #98 subpathways initially Calculating subscores...done. #21 subpathways after subscore. Calculating mirscores......end. done. Testing test_subVisualization...Importing entrezgene data...done. Summarising scores...done. Summarising scores...done. done. RUNIT TEST PROTOCOL -- Fri Jun 24 00:14:56 2022 *********************************************** Number of test functions: 6 Number of errors: 0 Number of failures: 0 1 Test Suite : CHRONOS RUnit Tests - 6 test functions, 0 errors, 0 failures Number of test functions: 6 Number of errors: 0 Number of failures: 0 > > > proc.time() user system elapsed 8.95 1.04 13.37
CHRONOS.Rcheck/CHRONOS-Ex.timings
name | user | system | elapsed | |
CHRONOSrun | 1.34 | 0.25 | 1.59 | |
convertMiRNANomenclature | 0 | 0 | 0 | |
convertNomenclature | 0 | 0 | 0 | |
createPathwayGraphs | 0.37 | 0.01 | 0.39 | |
downloadKEGGPathwayList | 0.03 | 0.00 | 0.03 | |
downloadMiRecords | 0.03 | 0.00 | 0.03 | |
downloadPathways | 0 | 0 | 0 | |
extractLinearSubpathways | 0.46 | 0.05 | 0.40 | |
extractNonLinearSubpathways | 0.26 | 0.01 | 0.29 | |
getEdgeTypes | 0 | 0 | 0 | |
importExpressions | 0.06 | 0.02 | 0.08 | |
pathwayMeasures | 0.11 | 0.00 | 0.11 | |
scoreSubpathways | 0.06 | 0.00 | 0.07 | |
subpathwayKEGGmap | 0.02 | 0.02 | 0.03 | |
subpathwayMiRNAs | 1.04 | 0.00 | 1.05 | |
visualizeResults | 0.08 | 0.04 | 2.28 | |