Back to Multiple platform build/check report for BioC 3.17:   simplified   long
AB[C]DEFGHIJKLMNOPQRSTUVWXYZ

This page was generated on 2023-03-22 11:06:31 -0400 (Wed, 22 Mar 2023).

HostnameOSArch (*)R versionInstalled pkgs
nebbiolo1Linux (Ubuntu 22.04.1 LTS)x86_64R Under development (unstable) (2023-03-16 r83996) -- "Unsuffered Consequences" 4508
palomino3Windows Server 2022 Datacenterx64R Under development (unstable) (2023-03-15 r83984 ucrt) -- "Unsuffered Consequences" 4293
merida1macOS 10.14.6 Mojavex86_64R Under development (unstable) (2023-03-16 r83985) -- "Unsuffered Consequences" 4290
Click on any hostname to see more info about the system (e.g. compilers)      (*) as reported by 'uname -p', except on Windows and Mac OS X

BUILD BIN results for CBEA on merida1


To the developers/maintainers of the CBEA package:
- Please allow up to 24 hours (and sometimes 48 hours) for your latest push to git@git.bioconductor.org:packages/CBEA.git to
reflect on this report. See How and When does the builder pull? When will my changes propagate? for more information.
- Make sure to use the following settings in order to reproduce any error or warning you see on this page.

raw results

Package 272/2189HostnameOS / ArchINSTALLBUILDCHECKBUILD BIN
CBEA 1.3.0  (landing page)
Quang Nguyen
Snapshot Date: 2023-03-21 14:00:22 -0400 (Tue, 21 Mar 2023)
git_url: https://git.bioconductor.org/packages/CBEA
git_branch: master
git_last_commit: 2d94691
git_last_commit_date: 2022-11-01 11:26:38 -0400 (Tue, 01 Nov 2022)
nebbiolo1Linux (Ubuntu 22.04.1 LTS) / x86_64  OK    OK    OK  UNNEEDED, same version is already published
palomino3Windows Server 2022 Datacenter / x64  OK    OK    OK    OK  UNNEEDED, same version is already published
merida1macOS 10.14.6 Mojave / x86_64  OK    OK    OK    OK  UNNEEDED, same version is already published

Summary

Package: CBEA
Version: 1.3.0
Command: rm -rf CBEA.buildbin-libdir && mkdir CBEA.buildbin-libdir && /Users/biocbuild/BBS/utils/build-universal.sh CBEA_1.3.0.tar.gz /Library/Frameworks/R.framework/Resources/bin/R CBEA.buildbin-libdir
StartedAt: 2023-03-22 08:50:43 -0400 (Wed, 22 Mar 2023)
EndedAt: 2023-03-22 08:53:04 -0400 (Wed, 22 Mar 2023)
EllapsedTime: 141.0 seconds
RetCode: 0
Status:   OK  
PackageFile: CBEA_1.3.0.tgz
PackageFileSize: 2.16 MiB

Command output

##############################################################################
##############################################################################
###
### Running command:
###
###   rm -rf CBEA.buildbin-libdir && mkdir CBEA.buildbin-libdir && /Users/biocbuild/BBS/utils/build-universal.sh CBEA_1.3.0.tar.gz /Library/Frameworks/R.framework/Resources/bin/R CBEA.buildbin-libdir
###
##############################################################################
##############################################################################


>>>>>>> 
>>>>>>> INSTALLATION WITH 'R CMD INSTALL --preclean --no-multiarch --library=CBEA.buildbin-libdir CBEA_1.3.0.tar.gz'
>>>>>>> 

* installing *source* package ‘CBEA’ ...
** using staged installation
** libs
using C++ compiler: ‘Apple clang version 11.0.0 (clang-1100.0.33.17)’
using SDK: ‘’
clang++ -mmacosx-version-min=10.13 -std=gnu++17 -I"/Library/Frameworks/R.framework/Resources/include" -DNDEBUG  -I'/Library/Frameworks/R.framework/Versions/4.3/Resources/library/Rcpp/include' -I/usr/local/include    -fPIC  -Wall -g -O2  -c RcppExports.cpp -o RcppExports.o
clang++ -mmacosx-version-min=10.13 -std=gnu++17 -I"/Library/Frameworks/R.framework/Resources/include" -DNDEBUG  -I'/Library/Frameworks/R.framework/Versions/4.3/Resources/library/Rcpp/include' -I/usr/local/include    -fPIC  -Wall -g -O2  -c gmeans.cpp -o gmeans.o
clang++ -mmacosx-version-min=10.13 -std=gnu++17 -dynamiclib -Wl,-headerpad_max_install_names -undefined dynamic_lookup -single_module -multiply_defined suppress -L/Library/Frameworks/R.framework/Resources/lib -L/usr/local/lib -o CBEA.so RcppExports.o gmeans.o -F/Library/Frameworks/R.framework/.. -framework R -Wl,-framework -Wl,CoreFoundation
installing to /Users/biocbuild/bbs-3.17-bioc/meat/CBEA.buildbin-libdir/00LOCK-CBEA/00new/CBEA/libs
** R
** data
** inst
** byte-compile and prepare package for lazy loading
** help
*** installing help indices
*** copying figures
** building package indices
** installing vignettes
** testing if installed package can be loaded from temporary location
** checking absolute paths in shared objects and dynamic libraries
** testing if installed package can be loaded from final location
** testing if installed package keeps a record of temporary installation path
* DONE (CBEA)


>>>>>>> 
>>>>>>> FIXING LINKS FOR CBEA.buildbin-libdir/CBEA/libs/CBEA.so
>>>>>>> 

install_name_tool -change "/usr/local/lib/libgcc_s.1.dylib" "/Library/Frameworks/R.framework/Versions/4.3/Resources/lib/libgcc_s.1.dylib" "CBEA.buildbin-libdir/CBEA/libs/CBEA.so"
install_name_tool -change "/usr/local/lib/libgfortran.5.dylib" "/Library/Frameworks/R.framework/Versions/4.3/Resources/lib/libgfortran.5.dylib" "CBEA.buildbin-libdir/CBEA/libs/CBEA.so"
install_name_tool -change "/usr/local/lib/libquadmath.0.dylib" "/Library/Frameworks/R.framework/Versions/4.3/Resources/lib/libquadmath.0.dylib" "CBEA.buildbin-libdir/CBEA/libs/CBEA.so"