Back to Multiple platform build/check report for BioC 3.17:   simplified   long
A[B]CDEFGHIJKLMNOPQRSTUVWXYZ

This page was generated on 2023-02-04 11:05:59 -0500 (Sat, 04 Feb 2023).

HostnameOSArch (*)R versionInstalled pkgs
nebbiolo1Linux (Ubuntu 22.04.1 LTS)x86_64R Under development (unstable) (2023-01-10 r83596) -- "Unsuffered Consequences" 4483
palomino3Windows Server 2022 Datacenterx64R Under development (unstable) (2023-01-10 r83596 ucrt) -- "Unsuffered Consequences" 4249
merida1macOS 10.14.6 Mojavex86_64R Under development (unstable) (2023-01-10 r83596) -- "Unsuffered Consequences" 4272
Click on any hostname to see more info about the system (e.g. compilers)      (*) as reported by 'uname -p', except on Windows and Mac OS X

INSTALL results for BloodGen3Module on merida1


To the developers/maintainers of the BloodGen3Module package:
- Please allow up to 24 hours (and sometimes 48 hours) for your latest push to git@git.bioconductor.org:packages/BloodGen3Module.git to
reflect on this report. See How and When does the builder pull? When will my changes propagate? for more information.
- Make sure to use the following settings in order to reproduce any error or warning you see on this page.

raw results

Package 210/2164HostnameOS / ArchINSTALLBUILDCHECKBUILD BIN
BloodGen3Module 1.7.0  (landing page)
Darawan Rinchai
Snapshot Date: 2023-02-03 14:00:22 -0500 (Fri, 03 Feb 2023)
git_url: https://git.bioconductor.org/packages/BloodGen3Module
git_branch: master
git_last_commit: 95d2663
git_last_commit_date: 2022-11-01 11:25:01 -0500 (Tue, 01 Nov 2022)
nebbiolo1Linux (Ubuntu 22.04.1 LTS) / x86_64  OK    OK    WARNINGS  UNNEEDED, same version is already published
palomino3Windows Server 2022 Datacenter / x64  OK    OK    WARNINGS    OK  UNNEEDED, same version is already published
merida1macOS 10.14.6 Mojave / x86_64  OK    OK    WARNINGS    OK  UNNEEDED, same version is already published

Summary

Package: BloodGen3Module
Version: 1.7.0
Command: /Library/Frameworks/R.framework/Resources/bin/R CMD INSTALL BloodGen3Module
StartedAt: 2023-02-03 16:29:44 -0500 (Fri, 03 Feb 2023)
EndedAt: 2023-02-03 16:30:49 -0500 (Fri, 03 Feb 2023)
EllapsedTime: 65.3 seconds
RetCode: 0
Status:   OK  

Command output

##############################################################################
##############################################################################
###
### Running command:
###
###   /Library/Frameworks/R.framework/Resources/bin/R CMD INSTALL BloodGen3Module
###
##############################################################################
##############################################################################


* installing to library ‘/Library/Frameworks/R.framework/Versions/4.3/Resources/library’
* installing *source* package ‘BloodGen3Module’ ...
** using staged installation
** R
** inst
** byte-compile and prepare package for lazy loading
Warning: replacing previous import ‘SummarizedExperiment::rowRanges’ by ‘matrixStats::rowRanges’ when loading ‘BloodGen3Module’
Warning: replacing previous import ‘SummarizedExperiment::start’ by ‘stats::start’ when loading ‘BloodGen3Module’
Warning: replacing previous import ‘SummarizedExperiment::end’ by ‘stats::end’ when loading ‘BloodGen3Module’
Warning: replacing previous import ‘matrixStats::rowRanges’ by ‘SummarizedExperiment::rowRanges’ when loading ‘BloodGen3Module’
** help
*** installing help indices
** building package indices
** installing vignettes
** testing if installed package can be loaded from temporary location
Warning: replacing previous import ‘SummarizedExperiment::rowRanges’ by ‘matrixStats::rowRanges’ when loading ‘BloodGen3Module’
Warning: replacing previous import ‘SummarizedExperiment::start’ by ‘stats::start’ when loading ‘BloodGen3Module’
Warning: replacing previous import ‘SummarizedExperiment::end’ by ‘stats::end’ when loading ‘BloodGen3Module’
Warning: replacing previous import ‘matrixStats::rowRanges’ by ‘SummarizedExperiment::rowRanges’ when loading ‘BloodGen3Module’
** testing if installed package can be loaded from final location
Warning: replacing previous import ‘SummarizedExperiment::rowRanges’ by ‘matrixStats::rowRanges’ when loading ‘BloodGen3Module’
Warning: replacing previous import ‘SummarizedExperiment::start’ by ‘stats::start’ when loading ‘BloodGen3Module’
Warning: replacing previous import ‘SummarizedExperiment::end’ by ‘stats::end’ when loading ‘BloodGen3Module’
Warning: replacing previous import ‘matrixStats::rowRanges’ by ‘SummarizedExperiment::rowRanges’ when loading ‘BloodGen3Module’
** testing if installed package keeps a record of temporary installation path
* DONE (BloodGen3Module)