Index of /checkResults/devel/bioc-LATEST/BicARE/raw-results

[ICO]NameLast modifiedSizeDescription

[DIR]Parent Directory  -  
[   ]info.dcf21-Feb-2024 03:14 269  
[DIR]kunpeng2/18-Feb-2024 16:29 -  
[DIR]merida1/18-Feb-2024 16:28 -  
[DIR]nebbiolo1/21-Feb-2024 03:14 -  
[DIR]palomino3/18-Feb-2024 16:26 -