Index of /checkResults/devel/bioc-LATEST/BicARE/raw-results/palomino4

[ICO]NameLast modifiedSizeDescription

[DIR]Parent Directory  -  
[TXT]buildbin-out.txt07-Jul-2022 00:06 1.8K 
[   ]buildbin-summary.dcf07-Jul-2022 00:06 527  
[TXT]buildsrc-out.txt07-Jul-2022 00:06 926  
[   ]buildsrc-summary.dcf07-Jul-2022 00:06 449  
[TXT]checksrc-out.txt07-Jul-2022 00:06 6.5K 
[   ]checksrc-summary.dcf07-Jul-2022 00:06 446  
[TXT]install-out.txt07-Jul-2022 00:06 2.5K 
[   ]install-summary.dcf07-Jul-2022 00:06 619