Index of /checkResults/devel/bioc-LATEST/BicARE/raw-results/nebbiolo2

[ICO]NameLast modifiedSizeDescription

[DIR]Parent Directory  -  
[TXT]buildsrc-out.txt01-Jul-2022 00:04 895  
[   ]buildsrc-summary.dcf01-Jul-2022 00:04 415  
[TXT]checksrc-out.txt01-Jul-2022 00:04 6.6K 
[   ]checksrc-summary.dcf01-Jul-2022 00:04 420  
[TXT]install-out.txt01-Jul-2022 00:04 1.5K 
[   ]install-summary.dcf01-Jul-2022 00:04 257