Index of /checkResults/devel/bioc-LATEST/BicARE/raw-results/lconway

[ICO]NameLast modifiedSizeDescription

[DIR]Parent Directory  -  
[TXT]buildbin-out.txt25-Jun-2022 00:07 2.6K 
[   ]buildbin-summary.dcf25-Jun-2022 00:07 524  
[TXT]buildsrc-out.txt25-Jun-2022 00:07 905  
[   ]buildsrc-summary.dcf25-Jun-2022 00:07 425  
[TXT]checksrc-out.txt25-Jun-2022 00:07 6.7K 
[   ]checksrc-summary.dcf25-Jun-2022 00:07 440  
[TXT]install-out.txt25-Jun-2022 00:07 1.7K 
[   ]install-summary.dcf25-Jun-2022 00:07 267