![]() | Name | Last modified | Size | Description |
---|---|---|---|---|
![]() | Parent Directory | - | ||
![]() | buildsrc-out.txt | 01-Oct-2023 00:39 | 889 | |
![]() | buildsrc-summary.dcf | 01-Oct-2023 00:39 | 407 | |
![]() | checksrc-out.txt | 01-Oct-2023 00:39 | 4.1K | |
![]() | checksrc-summary.dcf | 01-Oct-2023 00:39 | 398 | |
![]() | install-out.txt | 01-Oct-2023 00:39 | 1.5K | |
![]() | install-summary.dcf | 01-Oct-2023 00:39 | 251 | |