Back to Multiple platform build/check report for BioC 3.19:   simplified   long
A[B]CDEFGHIJKLMNOPQRSTUVWXYZ

This page was generated on 2023-12-09 12:24:33 -0500 (Sat, 09 Dec 2023).

HostnameOSArch (*)R versionInstalled pkgs
nebbiolo1Linux (Ubuntu 22.04.2 LTS)x86_64R Under development (unstable) (2023-11-11 r85510) -- "Unsuffered Consequences" 4619
palomino3Windows Server 2022 Datacenterx64R Under development (unstable) (2023-11-14 r85524 ucrt) -- "Unsuffered Consequences" 4379
merida1macOS 12.7.1 Montereyx86_64R Under development (unstable) (2023-11-11 r85510) -- "Unsuffered Consequences" 4388
kunpeng2Linux (openEuler 22.03 LTS-SP1)aarch64R Under development (unstable) (2023-11-01 r85459) -- "Unsuffered Consequences" 4271
Click on any hostname to see more info about the system (e.g. compilers)      (*) as reported by 'uname -p', except on Windows and Mac OS X

Package 136/2230HostnameOS / ArchINSTALLBUILDCHECKBUILD BIN
BatchQC 1.31.0  (landing page)
Solaiappan Manimaran
Snapshot Date: 2023-12-08 14:00:14 -0500 (Fri, 08 Dec 2023)
git_url: https://git.bioconductor.org/packages/BatchQC
git_branch: devel
git_last_commit: f2d537a
git_last_commit_date: 2023-10-24 10:49:29 -0500 (Tue, 24 Oct 2023)
nebbiolo1Linux (Ubuntu 22.04.2 LTS) / x86_64  OK    OK    OK  UNNEEDED, same version is already published
palomino3Windows Server 2022 Datacenter / x64  OK    OK    OK    OK  UNNEEDED, same version is already published
merida1macOS 12.7.1 Monterey / x86_64  OK    OK    OK    OK  UNNEEDED, same version is already published
kunpeng2Linux (openEuler 22.03 LTS-SP1) / aarch64  OK    OK    OK  

CHECK results for BatchQC on kunpeng2


To the developers/maintainers of the BatchQC package:
- Allow up to 24 hours (and sometimes 48 hours) for your latest push to git@git.bioconductor.org:packages/BatchQC.git to reflect on this report. See Troubleshooting Build Report for more information.
- Use the following Renviron settings to reproduce errors and warnings.
- If 'R CMD check' started to fail recently on the Linux builder(s) over a missing dependency, add the missing dependency to 'Suggests:' in your DESCRIPTION file. See Renviron.bioc for more information.
- See Martin Grigorov's blog post for how to debug Linux ARM64 related issues on a x86_64 host.

raw results


Summary

Package: BatchQC
Version: 1.31.0
Command: /home/biocbuild/R/R-4.4-devel-2023.11.02/bin/R CMD check --install=check:BatchQC.install-out.txt --library=/home/biocbuild/R/R-4.4-devel-2023.11.02/site-library --no-vignettes --timings BatchQC_1.31.0.tar.gz
StartedAt: 2023-12-09 06:12:48 -0000 (Sat, 09 Dec 2023)
EndedAt: 2023-12-09 06:17:31 -0000 (Sat, 09 Dec 2023)
EllapsedTime: 282.8 seconds
RetCode: 0
Status:   OK  
CheckDir: BatchQC.Rcheck
Warnings: 0

Command output

##############################################################################
##############################################################################
###
### Running command:
###
###   /home/biocbuild/R/R-4.4-devel-2023.11.02/bin/R CMD check --install=check:BatchQC.install-out.txt --library=/home/biocbuild/R/R-4.4-devel-2023.11.02/site-library --no-vignettes --timings BatchQC_1.31.0.tar.gz
###
##############################################################################
##############################################################################


* using log directory ‘/home/biocbuild/bbs-3.19-bioc/meat/BatchQC.Rcheck’
* using R Under development (unstable) (2023-11-01 r85459)
* using platform: aarch64-unknown-linux-gnu
* R was compiled by
    gcc (GCC) 10.3.1
    GNU Fortran (GCC) 10.3.1
* running under: openEuler 22.03 (LTS-SP1)
* using session charset: UTF-8
* using option ‘--no-vignettes’
* checking for file ‘BatchQC/DESCRIPTION’ ... OK
* checking extension type ... Package
* this is package ‘BatchQC’ version ‘1.31.0’
* package encoding: UTF-8
* checking package namespace information ... OK
* checking package dependencies ... OK
* checking if this is a source package ... OK
* checking if there is a namespace ... OK
* checking for hidden files and directories ... OK
* checking for portable file names ... OK
* checking for sufficient/correct file permissions ... OK
* checking whether package ‘BatchQC’ can be installed ... OK
* checking installed package size ... OK
* checking package directory ... OK
* checking ‘build’ directory ... OK
* checking DESCRIPTION meta-information ... OK
* checking top-level files ... OK
* checking for left-over files ... OK
* checking index information ... OK
* checking package subdirectories ... OK
* checking R files for non-ASCII characters ... OK
* checking R files for syntax errors ... OK
* checking whether the package can be loaded ... OK
* checking whether the package can be loaded with stated dependencies ... OK
* checking whether the package can be unloaded cleanly ... OK
* checking whether the namespace can be loaded with stated dependencies ... OK
* checking whether the namespace can be unloaded cleanly ... OK
* checking loading without being on the library search path ... OK
* checking dependencies in R code ... OK
* checking S3 generic/method consistency ... OK
* checking replacement functions ... OK
* checking foreign function calls ... OK
* checking R code for possible problems ... NOTE
gene_plot: no visible global function definition for ‘boxplot’
gene_plot: no visible binding for global variable ‘batch’
gls.series.C: no visible global function definition for ‘lm.fit’
sample_plot: no visible global function definition for ‘boxplot’
sample_plot: no visible binding for global variable ‘batch’
Undefined global functions or variables:
  batch boxplot lm.fit
Consider adding
  importFrom("graphics", "boxplot")
  importFrom("stats", "lm.fit")
to your NAMESPACE file.
* checking Rd files ... OK
* checking Rd metadata ... OK
* checking Rd cross-references ... OK
* checking for missing documentation entries ... OK
* checking for code/documentation mismatches ... OK
* checking Rd \usage sections ... OK
* checking Rd contents ... OK
* checking for unstated dependencies in examples ... OK
* checking contents of ‘data’ directory ... OK
* checking data for non-ASCII characters ... OK
* checking data for ASCII and uncompressed saves ... OK
* checking files in ‘vignettes’ ... OK
* checking examples ... OK
Examples with CPU (user + system) or elapsed time > 5s
         user system elapsed
batchQC 2.594   3.29   8.674
* checking for unstated dependencies in ‘tests’ ... OK
* checking tests ...
  Running ‘testthat.R’
 OK
* checking for unstated dependencies in vignettes ... OK
* checking package vignettes in ‘inst/doc’ ... OK
* checking running R code from vignettes ... SKIPPED
* checking re-building of vignette outputs ... SKIPPED
* checking PDF version of manual ... OK
* DONE

Status: 1 NOTE
See
  ‘/home/biocbuild/bbs-3.19-bioc/meat/BatchQC.Rcheck/00check.log’
for details.



Installation output

BatchQC.Rcheck/00install.out

##############################################################################
##############################################################################
###
### Running command:
###
###   /home/biocbuild/R/R-4.4-devel-2023.11.02/bin/R CMD INSTALL BatchQC
###
##############################################################################
##############################################################################


* installing to library ‘/home/biocbuild/R/R-4.4-devel-2023.11.02/site-library’
* installing *source* package ‘BatchQC’ ...
** using staged installation
** R
** data
** inst
** byte-compile and prepare package for lazy loading
** help
*** installing help indices
** building package indices
** installing vignettes
** testing if installed package can be loaded from temporary location
** testing if installed package can be loaded from final location
** testing if installed package keeps a record of temporary installation path
* DONE (BatchQC)

Tests output

BatchQC.Rcheck/tests/testthat.Rout


R Under development (unstable) (2023-11-01 r85459) -- "Unsuffered Consequences"
Copyright (C) 2023 The R Foundation for Statistical Computing
Platform: aarch64-unknown-linux-gnu

R is free software and comes with ABSOLUTELY NO WARRANTY.
You are welcome to redistribute it under certain conditions.
Type 'license()' or 'licence()' for distribution details.

R is a collaborative project with many contributors.
Type 'contributors()' for more information and
'citation()' on how to cite R or R packages in publications.

Type 'demo()' for some demos, 'help()' for on-line help, or
'help.start()' for an HTML browser interface to help.
Type 'q()' to quit R.

> library(testthat)
> library(BatchQC)
> 
> test_check("BatchQC")

Call:
lm(formula = pc[, 1] ~ fbatch)

Residuals:
    Min      1Q  Median      3Q     Max 
-2.7762 -1.1421 -0.0791  1.2867  2.4370 

Coefficients:
            Estimate Std. Error t value Pr(>|t|)    
(Intercept)  -6.1453     0.3425  -17.94   <2e-16 ***
fbatch2       5.9121     0.4843   12.21   <2e-16 ***
fbatch3      12.5239     0.4843   25.86   <2e-16 ***
---
Signif. codes:  0 '***' 0.001 '**' 0.01 '*' 0.05 '.' 0.1 ' ' 1

Residual standard error: 1.532 on 57 degrees of freedom
Multiple R-squared:  0.9215,	Adjusted R-squared:  0.9188 
F-statistic: 334.7 on 2 and 57 DF,  p-value: < 2.2e-16


Call:
lm(formula = pc[, 2] ~ fbatch)

Residuals:
    Min      1Q  Median      3Q     Max 
-3.7216 -0.6493  0.0871  0.8373  2.9491 

Coefficients:
            Estimate Std. Error t value Pr(>|t|)
(Intercept)  0.17183    0.27913   0.616    0.541
fbatch2     -0.43845    0.39476  -1.111    0.271
fbatch3     -0.07704    0.39476  -0.195    0.846

Residual standard error: 1.248 on 57 degrees of freedom
Multiple R-squared:  0.02408,	Adjusted R-squared:  -0.01016 
F-statistic: 0.7033 on 2 and 57 DF,  p-value: 0.4992


Call:
lm(formula = pc[, 3] ~ fbatch)

Residuals:
    Min      1Q  Median      3Q     Max 
-5.0250 -0.5986  0.1308  0.8576  2.2028 

Coefficients:
             Estimate Std. Error t value Pr(>|t|)
(Intercept) -0.064898   0.274133  -0.237    0.814
fbatch2     -0.001188   0.387682  -0.003    0.998
fbatch3      0.195881   0.387682   0.505    0.615

Residual standard error: 1.226 on 57 degrees of freedom
Multiple R-squared:  0.005972,	Adjusted R-squared:  -0.02891 
F-statistic: 0.1712 on 2 and 57 DF,  p-value: 0.8431


Call:
lm(formula = pc[, 4] ~ fbatch)

Residuals:
    Min      1Q  Median      3Q     Max 
-3.2343 -0.7732 -0.0477  0.5829  2.3069 

Coefficients:
            Estimate Std. Error t value Pr(>|t|)
(Intercept) -0.11821    0.25723  -0.460    0.648
fbatch2      0.39746    0.36377   1.093    0.279
fbatch3     -0.04282    0.36377  -0.118    0.907

Residual standard error: 1.15 on 57 degrees of freedom
Multiple R-squared:  0.03031,	Adjusted R-squared:  -0.003715 
F-statistic: 0.8908 on 2 and 57 DF,  p-value: 0.416


Call:
lm(formula = pc[, 5] ~ fbatch)

Residuals:
     Min       1Q   Median       3Q      Max 
-2.56418 -0.65298  0.05001  0.75678  2.38403 

Coefficients:
            Estimate Std. Error t value Pr(>|t|)
(Intercept)   0.1416     0.2443   0.580    0.564
fbatch2      -0.2357     0.3455  -0.682    0.498
fbatch3      -0.1891     0.3455  -0.547    0.586

Residual standard error: 1.092 on 57 degrees of freedom
Multiple R-squared:  0.00908,	Adjusted R-squared:  -0.02569 
F-statistic: 0.2612 on 2 and 57 DF,  p-value: 0.7711

/home/biocbuild/bin/pandoc +RTS -K512m -RTS batchqc_report.knit.md --to html4 --from markdown+autolink_bare_uris+tex_math_single_backslash --output /home/biocbuild/bbs-3.19-bioc/meat/BatchQC.Rcheck/tests/testthat/batchqc_report.html --lua-filter /home/biocbuild/R/R-4.4-devel-2023.11.02/site-library/rmarkdown/rmarkdown/lua/pagebreak.lua --lua-filter /home/biocbuild/R/R-4.4-devel-2023.11.02/site-library/rmarkdown/rmarkdown/lua/latex-div.lua --standalone --section-divs --table-of-contents --toc-depth 2 --template batchQC.html --highlight-style pygments --css /home/biocbuild/R/R-4.4-devel-2023.11.02/site-library/rmarkdown/rmarkdown/templates/html_vignette/resources/vignette.css --mathjax --include-in-header /home/biocbuild/tmp/RtmpwdYljs/rmarkdown-str3533d351a6fdba.html 
Found 3 batches
Adjusting for 1 covariate(s) or covariate level(s)
Standardizing Data across genes
Fitting L/S model and finding priors
Number of significant surrogate variables is:  1 
Iteration (out of 5 ):1  2  3  4  5  Number of significant surrogate variables is:  1 
Iteration (out of 5 ):1  2  3  4  5  
Call:
lm(formula = pc[, 1] ~ fbatch + fcond)

Residuals:
     Min       1Q   Median       3Q      Max 
-1.95358 -0.45328  0.04717  0.60252  1.57878 

Coefficients:
            Estimate Std. Error t value Pr(>|t|)    
(Intercept)  -7.4258     0.2051  -36.20   <2e-16 ***
fbatch2       5.9121     0.2512   23.53   <2e-16 ***
fbatch3      12.5239     0.2512   49.85   <2e-16 ***
fcond1        2.5608     0.2051   12.48   <2e-16 ***
---
Signif. codes:  0 '***' 0.001 '**' 0.01 '*' 0.05 '.' 0.1 ' ' 1

Residual standard error: 0.7945 on 56 degrees of freedom
Multiple R-squared:  0.9793,	Adjusted R-squared:  0.9781 
F-statistic: 881.1 on 3 and 56 DF,  p-value: < 2.2e-16


Call:
lm(formula = pc[, 2] ~ fbatch + fcond)

Residuals:
    Min      1Q  Median      3Q     Max 
-3.7975 -0.6522  0.1296  0.7709  2.8918 

Coefficients:
            Estimate Std. Error t value Pr(>|t|)
(Intercept)  0.09594    0.32455   0.296    0.769
fbatch2     -0.43845    0.39749  -1.103    0.275
fbatch3     -0.07704    0.39749  -0.194    0.847
fcond1       0.15179    0.32455   0.468    0.642

Residual standard error: 1.257 on 56 degrees of freedom
Multiple R-squared:  0.02788,	Adjusted R-squared:  -0.0242 
F-statistic: 0.5354 on 3 and 56 DF,  p-value: 0.66


Call:
lm(formula = pc[, 3] ~ fbatch + fcond)

Residuals:
    Min      1Q  Median      3Q     Max 
-4.6201 -0.6683  0.2035  0.6785  2.6077 

Coefficients:
             Estimate Std. Error t value Pr(>|t|)   
(Intercept)  0.339994   0.300463   1.132  0.26264   
fbatch2     -0.001188   0.367990  -0.003  0.99744   
fbatch3      0.195881   0.367990   0.532  0.59663   
fcond1      -0.809783   0.300463  -2.695  0.00927 **
---
Signif. codes:  0 '***' 0.001 '**' 0.01 '*' 0.05 '.' 0.1 ' ' 1

Residual standard error: 1.164 on 56 degrees of freedom
Multiple R-squared:  0.1201,	Adjusted R-squared:  0.07296 
F-statistic: 2.548 on 3 and 56 DF,  p-value: 0.06497


Call:
lm(formula = pc[, 4] ~ fbatch + fcond)

Residuals:
    Min      1Q  Median      3Q     Max 
-3.3476 -0.7101 -0.0702  0.6425  2.4201 

Coefficients:
            Estimate Std. Error t value Pr(>|t|)
(Intercept) -0.23142    0.29813  -0.776    0.441
fbatch2      0.39746    0.36513   1.089    0.281
fbatch3     -0.04282    0.36513  -0.117    0.907
fcond1       0.22641    0.29813   0.759    0.451

Residual standard error: 1.155 on 56 degrees of freedom
Multiple R-squared:  0.04019,	Adjusted R-squared:  -0.01122 
F-statistic: 0.7817 on 3 and 56 DF,  p-value: 0.5091


Call:
lm(formula = pc[, 5] ~ fbatch + fcond)

Residuals:
    Min      1Q  Median      3Q     Max 
-2.6261 -0.7063  0.0244  0.7560  2.1307 

Coefficients:
            Estimate Std. Error t value Pr(>|t|)  
(Intercept)  -0.1117     0.2764  -0.404   0.6877  
fbatch2      -0.2357     0.3385  -0.696   0.4891  
fbatch3      -0.1891     0.3385  -0.559   0.5787  
fcond1        0.5066     0.2764   1.833   0.0721 .
---
Signif. codes:  0 '***' 0.001 '**' 0.01 '*' 0.05 '.' 0.1 ' ' 1

Residual standard error: 1.071 on 56 degrees of freedom
Multiple R-squared:  0.06516,	Adjusted R-squared:  0.01508 
F-statistic: 1.301 on 3 and 56 DF,  p-value: 0.2831

[ FAIL 0 | WARN 0 | SKIP 0 | PASS 16 ]
> 
> proc.time()
   user  system elapsed 
 14.334   0.609  15.709 

Example timings

BatchQC.Rcheck/BatchQC-Ex.timings

nameusersystemelapsed
batchQC2.5943.2908.674
batchQC_analyze0.2040.0080.215
batchQC_condition_adjusted0.0250.0000.026
batchQC_filter_genes0.0300.0000.031
batchQC_fsva_adjusted0.8190.1961.019
batchQC_num.sv0.0910.0000.091
batchQC_shapeVariation0.0730.0000.073
batchQC_sva0.1630.0000.163
batchQC_svregress_adjusted0.1520.0000.152
batchqc_circosplot0.1020.0000.103
batchqc_correlation0.1820.0000.183
batchqc_corscatter0.0670.0000.067
batchqc_explained_variation0.0190.0000.020
batchqc_heatmap0.1670.0000.168
batchqc_pc_explained_variation0.0320.0000.032
batchqc_pca0.0310.0040.035
batchqc_pca_svd0.1610.0120.177
batchtest0.0480.0040.052
combatPlot0.0360.0040.039
getShinyInput0.0460.0030.049
getShinyInputCombat0.0010.0000.000
getShinyInputOrig0.0290.0130.042
getShinyInputSVA000
getShinyInputSVAf0.0000.0010.000
getShinyInputSVAr000
gnormalize0.0000.0010.001
log2CPM0.0370.0080.045
plot_genewise_moments0.1490.0010.150
plot_samplewise_moments0.0770.0070.084
rnaseq_sim0.1010.0320.133
setShinyInput000
setShinyInputCombat000
setShinyInputOrig000
setShinyInputSVA000
setShinyInputSVAf000
setShinyInputSVAr000