Index of /checkResults/devel/bioc-LATEST/AllelicImbalance/raw-results/merida1

[ICO]NameLast modifiedSizeDescription

[DIR]Parent Directory  -  
[TXT]buildbin-out.txt02-Mar-2024 01:38 1.4K 
[   ]buildbin-summary.dcf02-Mar-2024 01:38 585  
[TXT]buildsrc-out.txt02-Mar-2024 01:38 852  
[   ]buildsrc-summary.dcf02-Mar-2024 01:38 455  
[TXT]checksrc-out.txt02-Mar-2024 01:38 4.2K 
[   ]checksrc-summary.dcf02-Mar-2024 01:38 481  
[TXT]install-out.txt02-Mar-2024 01:38 1.2K 
[   ]install-summary.dcf02-Mar-2024 01:38 288