![]() | Name | Last modified | Size | Description |
---|---|---|---|---|
![]() | Parent Directory | - | ||
![]() | buildsrc-out.txt | 07-Dec-2023 01:39 | 851 | |
![]() | buildsrc-summary.dcf | 07-Dec-2023 01:39 | 454 | |
![]() | checksrc-out.txt | 07-Dec-2023 01:39 | 4.1K | |
![]() | checksrc-summary.dcf | 07-Dec-2023 01:39 | 483 | |
![]() | install-out.txt | 07-Dec-2023 01:39 | 1.2K | |
![]() | install-summary.dcf | 07-Dec-2023 01:39 | 286 | |