![]() | Name | Last modified | Size | Description |
---|---|---|---|---|
![]() | Parent Directory | - | ||
![]() | buildbin-out.txt | 30-Sep-2023 01:03 | 1.4K | |
![]() | buildbin-summary.dcf | 30-Sep-2023 01:03 | 569 | |
![]() | buildsrc-out.txt | 30-Sep-2023 01:03 | 884 | |
![]() | buildsrc-summary.dcf | 30-Sep-2023 01:03 | 489 | |
![]() | checksrc-out.txt | 30-Sep-2023 01:03 | 3.9K | |
![]() | checksrc-summary.dcf | 30-Sep-2023 01:03 | 483 | |
![]() | install-out.txt | 30-Sep-2023 01:03 | 1.2K | |
![]() | install-summary.dcf | 30-Sep-2023 01:03 | 286 | |