![]() | Name | Last modified | Size | Description |
---|---|---|---|---|
![]() | Parent Directory | - | ||
![]() | buildsrc-out.txt | 23-Sep-2023 00:36 | 842 | |
![]() | buildsrc-summary.dcf | 23-Sep-2023 00:36 | 445 | |
![]() | checksrc-out.txt | 23-Sep-2023 00:36 | 3.9K | |
![]() | checksrc-summary.dcf | 23-Sep-2023 00:36 | 450 | |
![]() | install-out.txt | 23-Sep-2023 00:36 | 1.2K | |
![]() | install-summary.dcf | 23-Sep-2023 00:36 | 277 | |