Back to Multiple platform build/check report for BioC 3.16
[A]BCDEFGHIJKLMNOPQRSTUVWXYZ

This page was generated on 2022-08-12 11:05:44 -0400 (Fri, 12 Aug 2022).

HostnameOSArch (*)R versionInstalled pkgs
nebbiolo2Linux (Ubuntu 20.04.4 LTS)x86_644.2.1 (2022-06-23) -- "Funny-Looking Kid" 4375
palomino4Windows Server 2022 Datacenterx644.2.1 (2022-06-23 ucrt) -- "Funny-Looking Kid" 4159
lconwaymacOS 12.2.1 Montereyx86_644.2.1 Patched (2022-07-09 r82577) -- "Funny-Looking Kid" 4167
Click on any hostname to see more info about the system (e.g. compilers)      (*) as reported by 'uname -p', except on Windows and Mac OS X

BUILD BIN results for ADAM on palomino4


To the developers/maintainers of the ADAM package:
- Please allow up to 24 hours (and sometimes 48 hours) for your latest push to git@git.bioconductor.org:packages/ADAM.git to
reflect on this report. See How and When does the builder pull? When will my changes propagate? for more information.
- Make sure to use the following settings in order to reproduce any error or warning you see on this page.

raw results

Package 15/2139HostnameOS / ArchINSTALLBUILDCHECKBUILD BIN
ADAM 1.13.0  (landing page)
Jose Luiz Rybarczyk Filho
Snapshot Date: 2022-08-11 14:00:04 -0400 (Thu, 11 Aug 2022)
git_url: https://git.bioconductor.org/packages/ADAM
git_branch: master
git_last_commit: 6a90968
git_last_commit_date: 2022-04-26 11:52:16 -0400 (Tue, 26 Apr 2022)
nebbiolo2Linux (Ubuntu 20.04.4 LTS) / x86_64  OK    OK    OK  UNNEEDED, same version is already published
palomino4Windows Server 2022 Datacenter / x64  OK    OK    OK    OK  UNNEEDED, same version is already published
lconwaymacOS 12.2.1 Monterey / x86_64  OK    OK    OK    OK  UNNEEDED, same version is already published

Summary

Package: ADAM
Version: 1.13.0
Command: rm -rf ADAM.buildbin-libdir && mkdir ADAM.buildbin-libdir && F:\biocbuild\bbs-3.16-bioc\R\bin\R.exe CMD INSTALL --merge-multiarch --build --library=ADAM.buildbin-libdir ADAM_1.13.0.tar.gz
StartedAt: 2022-08-12 07:18:29 -0400 (Fri, 12 Aug 2022)
EndedAt: 2022-08-12 07:19:30 -0400 (Fri, 12 Aug 2022)
EllapsedTime: 60.3 seconds
RetCode: 0
Status:   OK  
PackageFile: ADAM_1.13.0.zip
PackageFileSize: 721.1 KiB

Command output

##############################################################################
##############################################################################
###
### Running command:
###
###   rm -rf ADAM.buildbin-libdir && mkdir ADAM.buildbin-libdir && F:\biocbuild\bbs-3.16-bioc\R\bin\R.exe CMD INSTALL --merge-multiarch --build --library=ADAM.buildbin-libdir ADAM_1.13.0.tar.gz
###
##############################################################################
##############################################################################


only one architecture so ignoring '--merge-multiarch'
* installing *source* package 'ADAM' ...
** using staged installation
** libs
g++  -std=gnu++11 -I"F:/biocbuild/bbs-3.16-bioc/R/include" -DNDEBUG  -I'F:/biocbuild/bbs-3.16-bioc/R/library/Rcpp/include'   -I"C:/rtools42/x86_64-w64-mingw32.static.posix/include"     -O2 -Wall  -mfpmath=sse -msse2 -mstackrealign  -c MakeBootstrap.cpp -o MakeBootstrap.o
g++  -std=gnu++11 -I"F:/biocbuild/bbs-3.16-bioc/R/include" -DNDEBUG  -I'F:/biocbuild/bbs-3.16-bioc/R/library/Rcpp/include'   -I"C:/rtools42/x86_64-w64-mingw32.static.posix/include"     -O2 -Wall  -mfpmath=sse -msse2 -mstackrealign  -c RcppExports.cpp -o RcppExports.o
g++ -shared -s -static-libgcc -o ADAM.dll tmp.def MakeBootstrap.o RcppExports.o -LC:/rtools42/x86_64-w64-mingw32.static.posix/lib/x64 -LC:/rtools42/x86_64-w64-mingw32.static.posix/lib -LF:/biocbuild/bbs-3.16-bioc/R/bin/x64 -lR
installing to F:/biocbuild/bbs-3.16-bioc/meat/ADAM.buildbin-libdir/00LOCK-ADAM/00new/ADAM/libs/x64
** R
** data
** inst
** byte-compile and prepare package for lazy loading
** help
*** installing help indices
** building package indices
** installing vignettes
** testing if installed package can be loaded from temporary location
** testing if installed package can be loaded from final location
** testing if installed package keeps a record of temporary installation path
* MD5 sums
packaged installation of 'ADAM' as ADAM_1.13.0.zip
* DONE (ADAM)