Back to Multiple platform build/check report for BioC 3.18:   simplified   long
ABCDEFGHIJKL[M]NOPQRSTUVWXYZ

This page was generated on 2024-02-20 11:38:00 -0500 (Tue, 20 Feb 2024).

HostnameOSArch (*)R versionInstalled pkgs
nebbiolo2Linux (Ubuntu 22.04.3 LTS)x86_644.3.2 Patched (2023-11-13 r85521) -- "Eye Holes" 4690
palomino4Windows Server 2022 Datacenterx644.3.2 (2023-10-31 ucrt) -- "Eye Holes" 4443
lconwaymacOS 12.7.1 Montereyx86_644.3.2 Patched (2023-11-01 r85457) -- "Eye Holes" 4464
Click on any hostname to see more info about the system (e.g. compilers)      (*) as reported by 'uname -p', except on Windows and Mac OS X

Package 1214/2266HostnameOS / ArchINSTALLBUILDCHECKBUILD BIN
metaseqR2 1.14.0  (landing page)
Panagiotis Moulos
Snapshot Date: 2024-02-19 14:05:07 -0500 (Mon, 19 Feb 2024)
git_url: https://git.bioconductor.org/packages/metaseqR2
git_branch: RELEASE_3_18
git_last_commit: c5496b0
git_last_commit_date: 2023-10-24 11:22:10 -0500 (Tue, 24 Oct 2023)
nebbiolo2Linux (Ubuntu 22.04.3 LTS) / x86_64  OK    OK    OK  UNNEEDED, same version is already published
palomino4Windows Server 2022 Datacenter / x64  OK    OK    OK    OK  UNNEEDED, same version is already published
lconwaymacOS 12.7.1 Monterey / x86_64  OK    OK    OK    OK  UNNEEDED, same version is already published
kjohnson1macOS 13.6.1 Ventura / arm64see weekly results here

BUILD BIN results for metaseqR2 on lconway


To the developers/maintainers of the metaseqR2 package:
- Allow up to 24 hours (and sometimes 48 hours) for your latest push to git@git.bioconductor.org:packages/metaseqR2.git to reflect on this report. See Troubleshooting Build Report for more information.
- Use the following Renviron settings to reproduce errors and warnings.
- If 'R CMD check' started to fail recently on the Linux builder(s) over a missing dependency, add the missing dependency to 'Suggests:' in your DESCRIPTION file. See Renviron.bioc for more information.

raw results


Summary

Package: metaseqR2
Version: 1.14.0
Command: rm -rf metaseqR2.buildbin-libdir && mkdir metaseqR2.buildbin-libdir && /Users/biocbuild/BBS/utils/build-universal.sh metaseqR2_1.14.0.tar.gz /Library/Frameworks/R.framework/Resources/bin/R metaseqR2.buildbin-libdir
StartedAt: 2024-02-20 00:31:30 -0500 (Tue, 20 Feb 2024)
EndedAt: 2024-02-20 00:33:16 -0500 (Tue, 20 Feb 2024)
EllapsedTime: 105.6 seconds
RetCode: 0
Status:   OK  
PackageFile: metaseqR2_1.14.0.tgz
PackageFileSize: 4.494 MiB

Command output

##############################################################################
##############################################################################
###
### Running command:
###
###   rm -rf metaseqR2.buildbin-libdir && mkdir metaseqR2.buildbin-libdir && /Users/biocbuild/BBS/utils/build-universal.sh metaseqR2_1.14.0.tar.gz /Library/Frameworks/R.framework/Resources/bin/R metaseqR2.buildbin-libdir
###
##############################################################################
##############################################################################


>>>>>>> 
>>>>>>> INSTALLATION WITH 'R CMD INSTALL --preclean --no-multiarch --library=metaseqR2.buildbin-libdir metaseqR2_1.14.0.tar.gz'
>>>>>>> 

* installing *source* package ‘metaseqR2’ ...
** using staged installation
** libs
using C compiler: ‘Apple clang version 14.0.0 (clang-1400.0.29.202)’
using SDK: ‘MacOSX11.3.sdk’
clang -arch x86_64 -I"/Library/Frameworks/R.framework/Resources/include" -DNDEBUG   -I/opt/R/x86_64/include    -fPIC  -falign-functions=64 -Wall -g -O2  -c pval.c -o pval.o
pval.c:26:11: warning: unused variable 'esttotalperlength' [-Wunused-variable]
   double esttotalperlength = total/2;
          ^
1 warning generated.
clang -arch x86_64 -dynamiclib -Wl,-headerpad_max_install_names -undefined dynamic_lookup -L/Library/Frameworks/R.framework/Resources/lib -L/opt/R/x86_64/lib -o metaseqR2.so pval.o -F/Library/Frameworks/R.framework/.. -framework R -Wl,-framework -Wl,CoreFoundation
installing to /Users/biocbuild/bbs-3.18-bioc/meat/metaseqR2.buildbin-libdir/00LOCK-metaseqR2/00new/metaseqR2/libs
** R
** data
** inst
** byte-compile and prepare package for lazy loading
** help
*** installing help indices
** building package indices
** installing vignettes
** testing if installed package can be loaded from temporary location
** checking absolute paths in shared objects and dynamic libraries
** testing if installed package can be loaded from final location
** testing if installed package keeps a record of temporary installation path
* DONE (metaseqR2)


>>>>>>> 
>>>>>>> FIXING PATHS TO DYNAMIC LIBRARIES FOR metaseqR2.buildbin-libdir/metaseqR2/libs/metaseqR2.so
>>>>>>> 

>>>>>>> Paths before fix:
metaseqR2.buildbin-libdir/metaseqR2/libs/metaseqR2.so:
	metaseqR2.so (compatibility version 0.0.0, current version 0.0.0)
	/Library/Frameworks/R.framework/Versions/4.3-x86_64/Resources/lib/libR.dylib (compatibility version 4.3.0, current version 4.3.2)
	/System/Library/Frameworks/CoreFoundation.framework/Versions/A/CoreFoundation (compatibility version 150.0.0, current version 1775.118.101)
	/usr/lib/libSystem.B.dylib (compatibility version 1.0.0, current version 1292.100.5)

>>>>>>> Fix with install_name_tool:
install_name_tool -change "/usr/local/lib/libgcc_s.1.1.dylib" "/Library/Frameworks/R.framework/Versions/4.3-x86_64/Resources/lib/libgcc_s.1.1.dylib" "metaseqR2.buildbin-libdir/metaseqR2/libs/metaseqR2.so"
install_name_tool -change "/usr/local/lib/libgfortran.5.dylib" "/Library/Frameworks/R.framework/Versions/4.3-x86_64/Resources/lib/libgfortran.5.dylib" "metaseqR2.buildbin-libdir/metaseqR2/libs/metaseqR2.so"
install_name_tool -change "/usr/local/lib/libquadmath.0.dylib" "/Library/Frameworks/R.framework/Versions/4.3-x86_64/Resources/lib/libquadmath.0.dylib" "metaseqR2.buildbin-libdir/metaseqR2/libs/metaseqR2.so"

>>>>>>> Paths after fix:
metaseqR2.buildbin-libdir/metaseqR2/libs/metaseqR2.so:
	metaseqR2.so (compatibility version 0.0.0, current version 0.0.0)
	/Library/Frameworks/R.framework/Versions/4.3-x86_64/Resources/lib/libR.dylib (compatibility version 4.3.0, current version 4.3.2)
	/System/Library/Frameworks/CoreFoundation.framework/Versions/A/CoreFoundation (compatibility version 150.0.0, current version 1775.118.101)
	/usr/lib/libSystem.B.dylib (compatibility version 1.0.0, current version 1292.100.5)