Back to Multiple platform build/check report for BioC 3.18:   simplified   long

This page was generated on 2023-12-07 11:34:35 -0500 (Thu, 07 Dec 2023).

More about lconway


Hostname: lconway
OS: macOS 12.7.1 Monterey
Arch: x86_64
Platform: x86_64-apple-darwin21.6.0
R version: 4.3.2 Patched (2023-11-01 r85457) -- "Eye Holes"
R environment variables: Renviron.bioc

C compiler

R variable (VAR)Value ('R CMD config <VAR>' output)
CCclang -arch x86_64
CFLAGS-falign-functions=64 -Wall -g -O2
CPICFLAGS-fPIC
Please refer to 'R CMD config -h' for the meaning of these variables

Compiler version ('clang -arch x86_64 --version' output):

Apple clang version 14.0.0 (clang-1400.0.29.202)
Target: x86_64-apple-darwin21.6.0
Thread model: posix
InstalledDir: /Library/Developer/CommandLineTools/usr/bin

C++ compiler

R variable (VAR)Value ('R CMD config <VAR>' output)
CXXclang++ -arch x86_64 -std=gnu++17
CXXFLAGS-falign-functions=64 -Wall -g -O2
CXXPICFLAGS-fPIC
Please refer to 'R CMD config -h' for the meaning of these variables

Compiler version ('clang++ -arch x86_64 -std=gnu++17 --version' output):

Apple clang version 14.0.0 (clang-1400.0.29.202)
Target: x86_64-apple-darwin21.6.0
Thread model: posix
InstalledDir: /Library/Developer/CommandLineTools/usr/bin

C++11 compiler

R variable (VAR)Value ('R CMD config <VAR>' output)
CXX11clang++ -arch x86_64
CXX11FLAGS-falign-functions=64 -Wall -g -O2
CXX11PICFLAGS-fPIC
CXX11STD-std=gnu++11
Please refer to 'R CMD config -h' for the meaning of these variables

Compiler version ('clang++ -arch x86_64 --version' output):

Apple clang version 14.0.0 (clang-1400.0.29.202)
Target: x86_64-apple-darwin21.6.0
Thread model: posix
InstalledDir: /Library/Developer/CommandLineTools/usr/bin

C++14 compiler

R variable (VAR)Value ('R CMD config <VAR>' output)
CXX14clang++ -arch x86_64
CXX14FLAGS-falign-functions=64 -Wall -g -O2
CXX14PICFLAGS-fPIC
CXX14STD-std=gnu++14
Please refer to 'R CMD config -h' for the meaning of these variables

Compiler version ('clang++ -arch x86_64 --version' output):

Apple clang version 14.0.0 (clang-1400.0.29.202)
Target: x86_64-apple-darwin21.6.0
Thread model: posix
InstalledDir: /Library/Developer/CommandLineTools/usr/bin

C++17 compiler

R variable (VAR)Value ('R CMD config <VAR>' output)
CXX17clang++ -arch x86_64
CXX17FLAGS-falign-functions=64 -Wall -g -O2
CXX17PICFLAGS-fPIC
CXX17STD-std=gnu++17
Please refer to 'R CMD config -h' for the meaning of these variables

Compiler version ('clang++ -arch x86_64 --version' output):

Apple clang version 14.0.0 (clang-1400.0.29.202)
Target: x86_64-apple-darwin21.6.0
Thread model: posix
InstalledDir: /Library/Developer/CommandLineTools/usr/bin

Java

java version ('java --version' output):

openjdk 18 2022-03-22
OpenJDK Runtime Environment (build 18+36-2087)
OpenJDK 64-Bit Server VM (build 18+36-2087, mixed mode, sharing)

Pandoc

pandoc version ('pandoc --version' output):

pandoc 2.7.3
Compiled with pandoc-types 1.17.5.4, texmath 0.11.2.2, skylighting 0.8.1
Default user data directory: /Users/biocbuild/.local/share/pandoc or /Users/biocbuild/.pandoc
Copyright (C) 2006-2019 John MacFarlane
Web:  http://pandoc.org
This is free software; see the source for copying conditions.
There is no warranty, not even for merchantability or fitness
for a particular purpose.

More information might be added in the future...